Felt | Verdi |
AlreadyApplied | True |
Aperture | 8.0 |
ApertureValue | 8.0 |
BitsPerSample | 8 |
BlackClip | 0.000000 |
BlueHue | 0 |
BlueSaturation | 0 |
Brightness | 0 |
CameraProfile | Embedded |
ChromaticAberrationB | 0 |
ChromaticAberrationR | 0 |
Clarity | +3 |
ColorComponents | 3 |
ColorMode | RGB |
ColorNoiseReduction | 0 |
ColorSaturation | 66.0 |
ColorSpace | Uncalibrated |
ColorTemperature | 0.0 |
Contrast | 0 |
ConvertToGrayscale | False |
CreateDate | 2014:02:01 19:30:40+01:00 |
CreatorTool | Adobe Photoshop CS5 Macintosh |
DateCreated (1) | 2014:02:01 |
DateCreated | 2014:02:01 19:30:40 |
DateTimeOriginal | 2014:02:01 19:30:40 |
Defringe | 0 |
ExifImageHeight | 3454 |
ExifImageWidth | 5181 |
Exposure | 0.00 |
ExposureTime | 6 |
FillLight | 0 |
FNumber | 8.0 |
FocalLength | 10.0 mm |
FocalLength35efl | 10.0 mm |
Format | image/jpeg |
Gamma | 1.00 |
GrainAmount | 0 |
GreenHue | 0 |
GreenSaturation | 0 |
HasCrop | False |
HasSettings | True |
HighlightRecovery | 1 |
HighlightsSmoothing | 0.0 |
HueAdjustmentAqua | 0 |
HueAdjustmentBlue | 0 |
HueAdjustmentGreen | 0 |
HueAdjustmentMagenta | 0 |
HueAdjustmentOrange | 0 |
HueAdjustmentPurple | 0 |
HueAdjustmentRed | 0 |
HueAdjustmentYellow | 0 |
ICCProfileName | Adobe RGB (1998) |
ImageHeight | 3454 |
ImageSize | 5181x3454 |
ImageWidth | 5181 |
IncrementalTemperature | 0 |
IncrementalTint | 0 |
ISO | 250 |
IsPano360 | No |
LightValue | 2.1 |
LuminanceAdjustmentAqua | 0 |
LuminanceAdjustmentBlue | 0 |
LuminanceAdjustmentGreen | 0 |
LuminanceAdjustmentMagenta | 0 |
LuminanceAdjustmentOrange | 0 |
LuminanceAdjustmentPurple | 0 |
LuminanceAdjustmentRed | 0 |
LuminanceAdjustmentYellow | 0 |
LuminanceSmoothing | 0 |
Luminosity | -1.3 |
Megapixels | 17.9 |
Method | Details Enhancer |
Microcontrast | -2.0 |
Microsmoothing | 15.9 |
Model | Canon EOS 7D |
ModifyDate (1) | 2014:02:13 21:20:20+01:00 |
ModifyDate | 2014:02:13 21:20:20 |
Orientation | Horizontal (normal) |
ParametricDarks | 0 |
ParametricHighlights | 0 |
ParametricHighlightSplit | 75 |
ParametricLights | 0 |
ParametricMidtoneSplit | 50 |
ParametricShadows | 0 |
ParametricShadowSplit | 25 |
PostCropVignetteAmount | 0 |
ProcessVersion | 5.7 |
ProfileDescription | Adobe RGB (1998) |
Rating | 0 |
RawFileName | IMG_7368And7more_tonemapped-2.jpg |
RedHue | 0 |
RedSaturation | 0 |
Saturation | 0 |
SaturationAdjustmentAqua | 0 |
SaturationAdjustmentBlue | 0 |
SaturationAdjustmentGreen | 0 |
SaturationAdjustmentMagenta | 0 |
SaturationAdjustmentOrange | 0 |
SaturationAdjustmentPurple | 0 |
SaturationAdjustmentRed | 0 |
SaturationAdjustmentYellow | 0 |
SaturationHighlights | 0.3 |
SaturationShadows | 1.9 |
Shadows | 0 |
ShadowsClipping | 0.0 |
ShadowsSmoothing | 27.0 |
ShadowTint | 0 |
SharpenDetail | 25 |
SharpenEdgeMasking | 0 |
SharpenRadius | +1.0 |
Sharpness | 0 |
ShutterSpeed | 6 |
ShutterSpeedValue | 6 |
Smoothing | 2.9 |
SmoothingMode | Slider |
Software | Adobe Photoshop CS5 Macintosh |
SplitToningBalance | 0 |
SplitToningHighlightHue | 0 |
SplitToningHighlightSaturation | 0 |
SplitToningShadowHue | 0 |
SplitToningShadowSaturation | 0 |
Strength | 90.0 |
ToneCurve | 0, 0, 255, 255 |
ToneCurveName | Linear |
URL_List | |
Version (1) | 4.1 |
Version | 6.0 |
Vibrance | 0 |
VignetteAmount | 0 |
WhiteBalance | As Shot |
WhiteClip | 0.250000 |