Felt | Verdi |
AlreadyApplied | True |
Aperture | 4.9 |
ApertureValue | 4.9 |
BitsPerSample | 8 |
BlueHue | 0 |
BlueSaturation | 0 |
CameraProfile | Embedded |
CircleOfConfusion | 0.002 mm |
ColorComponents | 1 |
ColorNoiseReduction | 25 |
ColorNoiseReductionDetail | 50 |
ColorSpace | sRGB |
ConvertToGrayscale | False |
CreateDate | 2008:01:24 15:43:11 |
CreatorTool | Adobe Photoshop Lightroom 5.3 (Macintosh) |
CropAngle | -0.901212 |
CropBottom | 0.983951 |
CropConstrainToWarp | 0 |
CropLeft | 0 |
CropRight | 1 |
CropTop | 0.016049 |
CustomRendered | Normal |
DateCreated (1) | 2008:01:24 |
DateCreated | 2008:01:24 15:43:11 |
DateTimeOriginal | 2008:01:24 15:43:11 |
DigitalZoomRatio | 1 |
ExposureCompensation | 0 |
ExposureMode | Auto |
ExposureTime | 1/250 |
Firmware | rmware Version 1.01 |
Flash | Auto, Did not fire |
FlashCompensation | 0 |
FNumber | 4.9 |
FocalLength | 17.4 mm |
FocalLength35efl | 17.4 mm (35 mm equivalent: 316.0 mm) |
Format | image/jpeg |
FOV | 6.5 deg |
GrainAmount | 0 |
GreenHue | 0 |
GreenSaturation | 0 |
HasCrop | True |
HasSettings | True |
HueAdjustmentAqua | 0 |
HueAdjustmentBlue | +11 |
HueAdjustmentGreen | +11 |
HueAdjustmentMagenta | 0 |
HueAdjustmentOrange | 0 |
HueAdjustmentPurple | 0 |
HueAdjustmentRed | +96 |
HueAdjustmentYellow | 0 |
HyperfocalDistance | 37.34 m |
ImageHeight | 1024 |
ImageSize | 768x1024 |
ImageWidth | 768 |
IncrementalTemperature | +47 |
IncrementalTint | +100 |
ISO | 80 |
Lens | 6.8-39.5 mm |
LensID (1) | 17400 |
LensID | Canon 6.8-39.5 mm |
LensInfo (1) | 6.80272108843537-39.4557823129252mm f/? |
LensInfo | 6.802721088-39.45578231mm f/? |
LensManualDistortionAmount | 0 |
LensModel | 6.8-39.5 mm |
LensProfileEnable | 0 |
LensProfileSetup | LensDefaults |
LightValue | 12.9 |
LuminanceAdjustmentAqua | 0 |
LuminanceAdjustmentBlue | 0 |
LuminanceAdjustmentGreen | 0 |
LuminanceAdjustmentMagenta | 0 |
LuminanceAdjustmentOrange | 0 |
LuminanceAdjustmentPurple | 0 |
LuminanceAdjustmentRed | 0 |
LuminanceAdjustmentYellow | 0 |
LuminanceSmoothing | 0 |
Make | Canon |
MaxApertureValue | 4.9 |
Megapixels | 0.786 |
MeteringMode | Multi-segment |
Model | Canon DIGITAL IXUS 75 |
ModifyDate (1) | 2014:02:05 22:14:24+01:00 |
ModifyDate | 2014:02:05 22:14:24 |
ParametricDarks | -3 |
ParametricHighlights | 0 |
ParametricHighlightSplit | 75 |
ParametricLights | 0 |
ParametricMidtoneSplit | 50 |
ParametricShadows | -14 |
ParametricShadowSplit | 25 |
PerspectiveHorizontal | 0 |
PerspectiveRotate | 0.0 |
PerspectiveScale | 100 |
PerspectiveVertical | 0 |
PostCropVignetteAmount | -15 |
PostCropVignetteFeather | 50 |
PostCropVignetteMidpoint | 50 |
PostCropVignetteRoundness | 0 |
PostCropVignetteStyle | 1 |
ProcessVersion | 6.7 |
ProfileDescription | sRGB IEC61966-2.1 |
RedHue | 0 |
RedSaturation | 0 |
Saturation | Low |
SaturationAdjustmentAqua | 0 |
SaturationAdjustmentBlue | -70 |
SaturationAdjustmentGreen | +25 |
SaturationAdjustmentMagenta | 0 |
SaturationAdjustmentOrange | 0 |
SaturationAdjustmentPurple | 0 |
SaturationAdjustmentRed | +3 |
SaturationAdjustmentYellow | 0 |
ScaleFactor35efl | 18.2 |
SceneCaptureType | Standard |
SensingMethod | One-chip color area |
ShadowTint | +8 |
SharpenDetail | 25 |
SharpenEdgeMasking | 0 |
SharpenRadius | +1.0 |
Sharpness | Hard |
ShutterSpeed | 1/250 |
ShutterSpeedValue | 1/250 |
Software | Adobe Photoshop Lightroom 5.3 (Macintosh) |
SplitToningBalance | 0 |
SplitToningHighlightHue | 0 |
SplitToningHighlightSaturation | 0 |
SplitToningShadowHue | 0 |
SplitToningShadowSaturation | 0 |
Version | 8.3 |
Vibrance | 0 |
VignetteAmount | 0 |
WhiteBalance | Auto |