Felt | Verdi |
AlreadyApplied | True |
Aperture | 11.0 |
ApertureValue | 11.0 |
ApproximateFocusDistance | 0.23 |
AutoLateralCA | 1 |
BitsPerSample | 8 |
Blacks2012 | -15 |
BlueHue | 0 |
BlueSaturation | 0 |
CameraProfile | Adobe Standard |
CircleOfConfusion | 0.015 mm |
Clarity2012 | +25 |
ColorComponents | 3 |
ColorMode | RGB |
ColorNoiseReduction | 25 |
ColorNoiseReductionDetail | 50 |
ColorSpace (1) | Unknown (-1) |
ColorSpace | Uncalibrated |
ColorTemperature | 5500 |
Contrast2012 | +25 |
ConvertToGrayscale | False |
CopyrightFlag | False |
CreateDate (1) | 2013:10:21 23:35:09+02:00 |
CreateDate | 2013:10:21 20:24:50 |
CreatorTool | Adobe Photoshop CS3 Windows |
CustomRendered | Normal |
DateCreated | 2013:10:21 |
DateTimeDigitized | 2013:10:21 20:24:50+02:00 |
DateTimeOriginal (1) | 2013:10:21 20:24:50+02:00 |
DateTimeOriginal | 2013:10:21 20:24:50 |
DefringeGreenAmount | 0 |
DefringeGreenHueHi | 60 |
DefringeGreenHueLo | 40 |
DefringePurpleAmount | 0 |
DefringePurpleHueHi | 70 |
DefringePurpleHueLo | 30 |
DOF | 0.003 m (0.228 - 0.232 m) |
ExifImageHeight | 2535 |
ExifImageWidth | 4506 |
Exposure2012 | -0.10 |
ExposureCompensation | 0 |
ExposureMode | Manual |
ExposureProgram | Manual |
ExposureTime | 1/100 |
Firmware | 1.1.1 |
Flash | On, Fired |
FlashCompensation | 0 |
FlashFired | True |
FlashFunction | False |
FlashMode | On |
FlashRedEyeMode | False |
FlashReturn | No return detection |
FNumber | 11.0 |
FocalLength | 60.0 mm |
FocalLength35efl | 60.0 mm (35 mm equivalent: 123.1 mm) |
Format | image/jpeg |
FOV | 16.6 deg |
GrainAmount | 0 |
GreenHue | 0 |
GreenSaturation | 0 |
HasCrop | False |
HasSettings | True |
Highlights2012 | -15 |
HueAdjustmentAqua | 0 |
HueAdjustmentBlue | 0 |
HueAdjustmentGreen | 0 |
HueAdjustmentMagenta | 0 |
HueAdjustmentOrange | 0 |
HueAdjustmentPurple | 0 |
HueAdjustmentRed | 0 |
HueAdjustmentYellow | 0 |
HyperfocalDistance | 22.35 m |
ICCProfileName | ProPhoto RGB |
ImageHeight | 2535 |
ImageNumber | 0 |
ImageSize | 4506x2535 |
ImageWidth | 4506 |
ISO | 100 |
Lens | EF-S60mm f/2.8 Macro USM |
LensID (1) | 236 |
LensID | Canon EF-S 60mm f/2.8 Macro USM |
LensInfo | 60mm f/? |
LensManualDistortionAmount | 0 |
LensModel | EF-S60mm f/2.8 Macro USM |
LensProfileEnable | 0 |
LensProfileSetup | LensDefaults |
LensSerialNumber | 0000013693 |
LightValue | 13.6 |
LuminanceAdjustmentAqua | 0 |
LuminanceAdjustmentBlue | 0 |
LuminanceAdjustmentGreen | 0 |
LuminanceAdjustmentMagenta | 0 |
LuminanceAdjustmentOrange | 0 |
LuminanceAdjustmentPurple | 0 |
LuminanceAdjustmentRed | 0 |
LuminanceAdjustmentYellow | 0 |
LuminanceNoiseReductionContrast | 0 |
LuminanceNoiseReductionDetail | 50 |
LuminanceSmoothing | 50 |
Make | Canon |
MaxApertureValue | 2.8 |
Megapixels | 11.4 |
MeteringMode | Spot |
Model | Canon EOS 70D |
ModifyDate (1) | 2013:10:21 23:35:09+02:00 |
ModifyDate | 2013:10:21 23:35:09 |
Orientation | Horizontal (normal) |
ParametricDarks | 0 |
ParametricHighlights | 0 |
ParametricHighlightSplit | 75 |
ParametricLights | 0 |
ParametricMidtoneSplit | 50 |
ParametricShadows | 0 |
ParametricShadowSplit | 25 |
PerspectiveAspect | 0 |
PerspectiveHorizontal | 0 |
PerspectiveRotate | 0.0 |
PerspectiveScale | 100 |
PerspectiveUpright | 3 |
PerspectiveVertical | 0 |
PostCropVignetteAmount | 0 |
ProcessVersion | 6.7 |
ProfileDescription | ProPhoto RGB |
RecommendedExposureIndex | 100 |
RedHue | 0 |
RedSaturation | 0 |
Saturation | 0 |
SaturationAdjustmentAqua | 0 |
SaturationAdjustmentBlue | 0 |
SaturationAdjustmentGreen | 0 |
SaturationAdjustmentMagenta | 0 |
SaturationAdjustmentOrange | 0 |
SaturationAdjustmentPurple | 0 |
SaturationAdjustmentRed | 0 |
SaturationAdjustmentYellow | 0 |
ScaleFactor35efl | 2.1 |
SceneCaptureType | Standard |
SensitivityType | Recommended Exposure Index |
SerialNumber | 033021006806 |
Shadows2012 | 0 |
ShadowTint | 0 |
SharpenDetail | 50 |
SharpenEdgeMasking | 0 |
SharpenRadius | +1.0 |
Sharpness | 50 |
ShutterSpeed | 1/100 |
ShutterSpeedValue | 1/100 |
Software | Adobe Photoshop CS3 Windows |
SplitToningBalance | 0 |
SplitToningHighlightHue | 0 |
SplitToningHighlightSaturation | 0 |
SplitToningShadowHue | 0 |
SplitToningShadowSaturation | 0 |
Tint | +7 |
ToneCurveName2012 | Linear |
ToneCurvePV2012 | 0, 0, 255, 255 |
ToneCurvePV2012Blue | 0, 0, 255, 255 |
ToneCurvePV2012Green | 0, 0, 255, 255 |
ToneCurvePV2012Red | 0, 0, 255, 255 |
URL_List | |
Version | 8.1 |
Vibrance | +25 |
VignetteAmount | 0 |
WhiteBalance (1) | Custom |
WhiteBalance | Manual |
Whites2012 | -35 |