Felt | Verdi |
6210 Valldal
AlreadyApplied | True |
andre.berli@online.no |
Aperture | 5.6 |
ApertureValue | 5.6 |
ApproximateFocusDistance | 15.3 |
Artist | Andre Berli
AutoLateralCA | 0 |
BitsPerSample | 8 |
Blacks2012 | -19 |
BlueHue | 0 |
BlueSaturation | 0 |
By-line | Andre Berli
CameraProfile | Adobe Standard |
CircleOfConfusion | 0.006 mm |
Clarity2012 | 0 |
ColorComponents | 3 |
ColorNoiseReduction | 25 |
ColorNoiseReductionDetail | 50 |
ColorTemperature | 4857 |
Contrast2012 | +24 |
ConvertToGrayscale | False |
Copyright | Mob 40047262
CopyrightNotice | Mob 40047262
CreateDate (1) | 2013:06:02 13:03:29.30 |
CreateDate | 2013:06:02 13:03:29 |
Creator | Andre Berli
CreatorTool | Adobe Photoshop Lightroom 4.3 (Windows) |
CropAngle | 0 |
CropBottom | 0.705881 |
CropConstrainToWarp | 0 |
CropHeight | 753 |
CropLeft | 0.089636 |
CropRight | 0.772176 |
CropTop | 0.103641 |
CropUnit | pixels |
CropWidth | 1280 |
CustomRendered | Normal |
DateCreated (1) | 2013:06:02 |
DateCreated | 2013:06:02 13:03:29.30 |
DateTimeOriginal | 2013:06:02 13:03:29 |
DefringeGreenAmount | 0 |
DefringeGreenHueHi | 60 |
DefringeGreenHueLo | 40 |
DefringePurpleAmount | 0 |
DefringePurpleHueHi | 70 |
DefringePurpleHueLo | 30 |
DOF | 0.03 m (15.28 - 15.32 m) |
Exposure2012 | -0.60 |
ExposureCompensation | 0 |
ExposureMode | Manual |
ExposureProgram | Manual |
ExposureTime | 1/1250 |
Firmware | 1.2.1 |
Flash | Off, Did not fire |
FlashCompensation | 0 |
FNumber | 5.6 |
FocalLength | 700.0 mm |
FocalLength35efl | 700.0 mm (35 mm equivalent: 3263.1 mm) |
Format | image/jpeg |
FOV | 0.6 deg |
GrainAmount | 0 |
GreenHue | 0 |
GreenSaturation | 0 |
HasCrop | True |
HasSettings | True |
Highlights2012 | -36 |
HueAdjustmentAqua | 0 |
HueAdjustmentBlue | 0 |
HueAdjustmentGreen | 0 |
HueAdjustmentMagenta | 0 |
HueAdjustmentOrange | 0 |
HueAdjustmentPurple | 0 |
HueAdjustmentRed | 0 |
HueAdjustmentYellow | 0 |
HyperfocalDistance | 13575.19 m |
ImageHeight | 753 |
ImageNumber | 0 |
ImageSize | 1280x753 |
ImageWidth | 1280 |
ISO | 500 |
Lens | EF500mm f/4L IS USM +1.4x |
LensID (1) | 143 |
LensID | Canon EF 500mm f/4L IS USM + 1.4x |
LensInfo | 700mm f/? |
LensManualDistortionAmount | 0 |
LensModel | EF500mm f/4L IS USM +1.4x |
LensProfileEnable | 0 |
LensProfileSetup | LensDefaults |
LensSerialNumber | 0000000000 |
LightValue | 12.9 |
LuminanceAdjustmentAqua | 0 |
LuminanceAdjustmentBlue | 0 |
LuminanceAdjustmentGreen | 0 |
LuminanceAdjustmentMagenta | 0 |
LuminanceAdjustmentOrange | 0 |
LuminanceAdjustmentPurple | 0 |
LuminanceAdjustmentRed | 0 |
LuminanceAdjustmentYellow | 0 |
LuminanceSmoothing | 0 |
Make | Canon |
MaxApertureValue | 5.7 |
Megapixels | 0.964 |
MeteringMode | Spot |
Model | Canon EOS 5D Mark III |
ModifyDate (1) | 2013:05:02 16:19:11+02:00 |
ModifyDate | 2013:05:02 16:19:11 |
PaintCorrectionActive | true |
PaintCorrectionAmount | 1.000000 |
PaintCorrectionBrightness | 0.000000 |
PaintCorrectionClarity2012 | 0.264370 |
PaintCorrectionContrast2012 | 0.000000 |
PaintCorrectionDefringe | 0.000000 |
PaintCorrectionExposure2012 | 0.000000 |
PaintCorrectionHighlights2012 | 0.000000 |
PaintCorrectionHue | 240.000000 |
PaintCorrectionLuminanceNoise | 0.000000 |
PaintCorrectionMaskCenterWeight | 0.166158 |
PaintCorrectionMaskFlow | 1.000000 |
PaintCorrectionMaskRadius (1) | 0.010653 |
PaintCorrectionMaskRadius | 0.004219 |
PaintCorrectionMaskValue | 1.000000 |
PaintCorrectionMaskWhat | Mask/Paint |
PaintCorrectionMoire | 0.000000 |
PaintCorrectionSaturation | 0.000000 |
PaintCorrectionShadows2012 | 0.000000 |
PaintCorrectionSharpness | 0.000000 |
PaintCorrectionTemperature | 0.000000 |
PaintCorrectionTint | 0.000000 |
PaintCorrectionWhat | Correction |
ParametricDarks | 0 |
ParametricHighlights | 0 |
ParametricHighlightSplit | 75 |
ParametricLights | 0 |
ParametricMidtoneSplit | 50 |
ParametricShadows | 0 |
ParametricShadowSplit | 25 |
PerspectiveHorizontal | 0 |
PerspectiveRotate | 0.0 |
PerspectiveScale | 100 |
PerspectiveVertical | 0 |
PostCropVignetteAmount | 0 |
ProcessVersion | 6.7 |
ProfileDescription | sRGB IEC61966-2.1 |
RecommendedExposureIndex | 500 |
RedHue | 0 |
RedSaturation | 0 |
Rights | Mob 40047262
Saturation | +10 |
SaturationAdjustmentAqua | 0 |
SaturationAdjustmentBlue | 0 |
SaturationAdjustmentGreen | 0 |
SaturationAdjustmentMagenta | 0 |
SaturationAdjustmentOrange | 0 |
SaturationAdjustmentPurple | 0 |
SaturationAdjustmentRed | 0 |
SaturationAdjustmentYellow | 0 |
ScaleFactor35efl | 4.7 |
SceneCaptureType | Standard |
SensitivityType | Recommended Exposure Index |
SerialNumber | 053024006155 |
Shadows2012 | +38 |
ShadowTint | 0 |
SharpenDetail | 65 |
SharpenEdgeMasking | 24 |
SharpenRadius | +1.7 |
Sharpness | 95 |
ShutterSpeed | 1/1250 |
ShutterSpeedValue | 1/1250 |
Software | Adobe Photoshop Lightroom 4.3 (Windows) |
SplitToningBalance | 0 |
SplitToningHighlightHue | 0 |
SplitToningHighlightSaturation | 0 |
SplitToningShadowHue | 0 |
SplitToningShadowSaturation | 0 |
Tint | +3 |
tlf 400 |
tlf 40047262
tlf 40047262 |
ToneCurveName2012 | Linear |
ToneCurvePV2012 | 0, 0, 255, 255 |
ToneCurvePV2012Blue | 0, 0, 255, 255 |
ToneCurvePV2012Green | 0, 0, 255, 255 |
ToneCurvePV2012Red | 0, 0, 255, 255 |
Version | 7.3 |
Vibrance | +12 |
VignetteAmount | 0 |
WhiteBalance (1) | Custom |
WhiteBalance | Auto |
Whites2012 | +7 |