Felt | Verdi |
AlreadyApplied | True |
Aperture | 6.3 |
ApertureValue | 6.3 |
BitsPerSample | 8 |
BlueHue | 0 |
BlueSaturation | 0 |
Brightness | +50 |
CameraProfile | Adobe Standard |
ChromaticAberrationB | 0 |
ChromaticAberrationR | 0 |
CircleOfConfusion | 0.019 mm |
Clarity | 0 |
ColorComponents | 3 |
ColorMode | RGB |
ColorNoiseReduction | 43 |
ColorSpace | Uncalibrated |
ColorTemperature | 7550 |
Contrast | +25 |
ConvertToGrayscale | False |
CreateDate (1) | 2013:03:18 15:56:56.56+01:00 |
CreateDate | 2013:03:18 15:56:56 |
CropAngle | 0 |
CropBottom | 0.967593 |
CropLeft | 0.378858 |
CropRight | 0.658951 |
CropTop | 0.280093 |
CustomRendered | Normal |
DateTimeDigitized | 2013:03:18 15:56:56.56+01:00 |
DateTimeOriginal (1) | 2013:03:18 15:56:56.56+01:00 |
DateTimeOriginal | 2013:03:18 15:56:56 |
Defringe | 0 |
DOF | 1.77 m (50.83 - 52.60 m) |
ExifImageHeight | 2376 |
ExifImageWidth | 1452 |
Exposure | 0.00 |
ExposureCompensation | 0 |
ExposureMode | Auto |
ExposureProgram | Aperture-priority AE |
ExposureTime | 1/2000 |
FillLight | 8 |
Firmware | 1.2.5 |
Flash | Off, Did not fire |
FlashCompensation | 0 |
FlashFired | False |
FlashFunction | False |
FlashMode | Off |
FlashRedEyeMode | False |
FlashReturn | No return detection |
FNumber | 6.3 |
FocalLength | 600.0 mm |
FocalLength35efl | 600.0 mm (35 mm equivalent: 942.2 mm) |
Format | image/jpeg |
FOV | 2.2 deg |
GrainAmount | 0 |
GreenHue | 0 |
GreenSaturation | 0 |
HasCrop | True |
HasSettings | True |
HighlightRecovery | 0 |
HueAdjustmentAqua | 0 |
HueAdjustmentBlue | 0 |
HueAdjustmentGreen | 0 |
HueAdjustmentMagenta | 0 |
HueAdjustmentOrange | 0 |
HueAdjustmentPurple | 0 |
HueAdjustmentRed | 0 |
HueAdjustmentYellow | 0 |
HyperfocalDistance | 2986.50 m |
ICCProfileName | Adobe RGB (1998) |
ImageHeight | 2376 |
ImageNumber | 0 |
ImageSize | 1452x2376 |
ImageWidth | 1452 |
ISO | 400 |
Lens | EF300mm f/2.8L IS II USM +2.0x |
LensID (1) | 491 |
LensID | Canon EF 300mm f/2.8L IS II USM + 2x |
LensInfo | 600mm f/? |
LightValue | 14.3 |
LuminanceAdjustmentAqua | 0 |
LuminanceAdjustmentBlue | 0 |
LuminanceAdjustmentGreen | 0 |
LuminanceAdjustmentMagenta | 0 |
LuminanceAdjustmentOrange | 0 |
LuminanceAdjustmentPurple | 0 |
LuminanceAdjustmentRed | 0 |
LuminanceAdjustmentYellow | 0 |
LuminanceSmoothing | 49 |
Make | Canon |
MaxApertureValue | 5.7 |
Megapixels | 3.4 |
MeteringMode | Multi-segment |
Model | Canon EOS 7D |
ModifyDate (1) | 2013:03:18 23:55:20+01:00 |
ModifyDate | 2013:03:18 23:55:20 |
Orientation | Horizontal (normal) |
ParametricDarks | 0 |
ParametricHighlights | 0 |
ParametricHighlightSplit | 75 |
ParametricLights | 0 |
ParametricMidtoneSplit | 50 |
ParametricShadows | 0 |
ParametricShadowSplit | 25 |
PostCropVignetteAmount | 0 |
ProcessVersion | 5.0 |
ProfileDescription | Adobe RGB (1998) |
Rating | 0 |
RawFileName | IMG_0027.CR2 |
RedHue | 0 |
RedSaturation | 0 |
Saturation | 0 |
SaturationAdjustmentAqua | 0 |
SaturationAdjustmentBlue | 0 |
SaturationAdjustmentGreen | 0 |
SaturationAdjustmentMagenta | 0 |
SaturationAdjustmentOrange | 0 |
SaturationAdjustmentPurple | 0 |
SaturationAdjustmentRed | 0 |
SaturationAdjustmentYellow | 0 |
ScaleFactor35efl | 1.6 |
SceneCaptureType | Standard |
SerialNumber | 2681208727 |
Shadows | 5 |
ShadowTint | 0 |
SharpenDetail | 66 |
SharpenEdgeMasking | 26 |
SharpenRadius | +1.0 |
Sharpness | 25 |
ShutterSpeed | 1/2000 |
ShutterSpeedValue | 1/2000 |
SidecarForExtension | CR2 |
Software | Adobe Photoshop CS4 Windows |
SplitToningBalance | 0 |
SplitToningHighlightHue | 0 |
SplitToningHighlightSaturation | 0 |
SplitToningShadowHue | 0 |
SplitToningShadowSaturation | 0 |
SubjectDistance | 51.7 m |
Tint | +5 |
ToneCurve | 0, 0, 32, 22, 64, 56, 128, 128, 192, 196, 255, 255 |
ToneCurveName | Medium Contrast |
URL_List | |
Version | 5.7 |
Vibrance | 0 |
VignetteAmount | 0 |
WhiteBalance (2) | Custom |
WhiteBalance | Auto |