Felt | Verdi |
AlreadyApplied | True |
Aperture | 9.0 |
ApertureValue | 9.0 |
ApproximateFocusDistance | 28.2 |
BitsPerSample (1) | 8 8 8 |
BitsPerSample | 8 |
BlueHue | 0 |
BlueSaturation | 0 |
Brightness | +43 |
CameraProfile | Adobe Standard |
CFAPattern | [Red,Green][Green,Blue] |
ChromaticAberrationB | 0 |
ChromaticAberrationR | 0 |
CircleOfConfusion | 0.020 mm |
Clarity | +48 |
ColorComponents | 1 |
ColorMode | RGB |
ColorNoiseReduction | 25 |
ColorNoiseReductionDetail | 50 |
ColorSpace | Uncalibrated |
ColorTemperature | 4750 |
Contrast (1) | +23 |
Contrast | Normal |
ConvertToGrayscale | False |
CreateDate (1) | 2012:06:28 23:18:14.80 |
CreateDate | 2012:06:28 23:18:14 |
CreatorTool | Adobe Photoshop CS5 Macintosh |
CropAngle | 0 |
CropBottom | 1 |
CropConstrainToWarp | 1 |
CropHeight | 3 |
CropLeft | 0.019587 |
CropRight | 1 |
CropTop | 0.01318 |
CropUnit | Unknown (3) |
CropWidth | 2 |
CustomRendered | Normal |
DateCreated (1) | 2012:06:28 |
DateCreated | 2012:06:28 23:18:14.008 |
DateTimeOriginal | 2012:06:28 23:18:14 |
Defringe | 0 |
DigitalZoomRatio | 1 |
DOF | inf (5.44 m - inf) |
ExifImageHeight | 3221 |
ExifImageWidth | 4831 |
Exposure | -0.30 |
ExposureCompensation | -1 |
ExposureMode | Auto |
ExposureProgram | Program AE |
ExposureTime | 1/320 |
FillLight | 30 |
Flash | Off, Did not fire |
FNumber | 9.0 |
FocalLength | 35.0 mm |
FocalLength35efl | 35.0 mm (35 mm equivalent: 52.0 mm) |
FocalLengthIn35mmFormat | 52 mm |
Format | image/jpeg |
FOV | 38.2 deg |
GainControl | None |
GrainAmount | 0 |
GreenHue | 0 |
GreenSaturation | 0 |
HasCrop | True |
HasSettings | True |
HighlightRecovery | 100 |
HueAdjustmentAqua | 0 |
HueAdjustmentBlue | 0 |
HueAdjustmentGreen | 0 |
HueAdjustmentMagenta | 0 |
HueAdjustmentOrange | 0 |
HueAdjustmentPurple | 0 |
HueAdjustmentRed | 0 |
HueAdjustmentYellow | 0 |
HyperfocalDistance | 6.73 m |
ICCProfileName | Adobe RGB (1998) |
ImageHeight | 3221 |
ImageNumber | 21286 |
ImageSize | 4831x3221 |
ImageWidth | 4831 |
ISO | 100 |
Lens | 35.0-70.0 mm f/3.3-4.5 |
LensID (1) | 2 |
LensID | AF Zoom-Nikkor 35-70mm f/3.3-4.5 |
LensInfo | 35-70mm f/3.3-4.5 |
LensManualDistortionAmount | 0 |
LensModel | 35.0-70.0 mm f/3.3-4.5 |
LensProfileEnable | 0 |
LensProfileSetup | LensDefaults |
LightSource | Unknown |
LightValue | 14.7 |
LuminanceAdjustmentAqua | 0 |
LuminanceAdjustmentBlue | 0 |
LuminanceAdjustmentGreen | 0 |
LuminanceAdjustmentMagenta | 0 |
LuminanceAdjustmentOrange | 0 |
LuminanceAdjustmentPurple | 0 |
LuminanceAdjustmentRed | 0 |
LuminanceAdjustmentYellow | 0 |
LuminanceSmoothing | 0 |
Make | NIKON CORPORATION |
MaxApertureValue | 3.4 |
Megapixels | 15.6 |
MeteringMode | Multi-segment |
Model | NIKON D7000 |
ModifyDate (1) | 2012:09:21 11:58:38+02:00 |
ModifyDate | 2012:09:21 11:58:38 |
Orientation | Horizontal (normal) |
ParametricDarks | 0 |
ParametricHighlights | 0 |
ParametricHighlightSplit | 75 |
ParametricLights | 0 |
ParametricMidtoneSplit | 50 |
ParametricShadows | 0 |
ParametricShadowSplit | 25 |
PerspectiveHorizontal | 0 |
PerspectiveRotate | 0.0 |
PerspectiveScale | 100 |
PerspectiveVertical | 0 |
PhotometricInterpretation | RGB |
PostCropVignetteAmount | 0 |
ProcessVersion | 5.7 |
ProfileDescription | Adobe RGB (1998) |
Rating | 0 |
RawFileName | TAJ_7514.NEF |
RedHue | 0 |
RedSaturation | 0 |
Saturation (1) | -100 |
Saturation | Normal |
SaturationAdjustmentAqua | 0 |
SaturationAdjustmentBlue | 0 |
SaturationAdjustmentGreen | 0 |
SaturationAdjustmentMagenta | 0 |
SaturationAdjustmentOrange | 0 |
SaturationAdjustmentPurple | 0 |
SaturationAdjustmentRed | 0 |
SaturationAdjustmentYellow | 0 |
ScaleFactor35efl | 1.5 |
SceneCaptureType | Standard |
SceneType | Directly photographed |
SensingMethod | One-chip color area |
SensitivityType | Recommended Exposure Index |
SerialNumber | 6194345 |
Shadows | 28 |
ShadowTint | 0 |
SharpenDetail | 25 |
SharpenEdgeMasking | 0 |
SharpenRadius | +1.0 |
Sharpness (1) | 25 |
Sharpness | Normal |
ShutterSpeed | 1/320 |
ShutterSpeedValue | 1/320 |
Software | Adobe Photoshop CS5 Macintosh |
SplitToningBalance | 0 |
SplitToningHighlightHue | 0 |
SplitToningHighlightSaturation | 0 |
SplitToningShadowHue | 0 |
SplitToningShadowSaturation | 0 |
SubjectDistance | 28.2 m |
SubjectDistanceRange | Unknown |
Tint | +8 |
ToneCurve | 0, 0, 32, 22, 64, 56, 128, 128, 192, 196, 255, 255 |
ToneCurveName | Medium Contrast |
URL_List | |
Version | 6.6 |
Vibrance | 0 |
VignetteAmount | 0 |
WhiteBalance (1) | As Shot |
WhiteBalance | Auto |