Felt | Verdi |
AlreadyApplied | True |
Aperture | 6.3 |
ApertureValue | 6.3 |
ApproximateFocusDistance | 4294967295 |
BitsPerSample | 8 |
BlueHue | 0 |
BlueSaturation | 0 |
Brightness | 0 |
CameraProfile | Adobe Standard |
Caption-Abstract | Marine windmills in Copenhagen harbour. |
CFAPattern | [Red,Green][Green,Blue] |
ChromaticAberrationB | 0 |
ChromaticAberrationR | 0 |
CircleOfConfusion | 0.030 mm |
Clarity | +25 |
ColorComponents | 3 |
ColorMode | RGB |
ColorNoiseReduction | 25 |
ColorNoiseReductionDetail | 50 |
ColorSpace | sRGB |
ColorTemperature | 5300 |
Contrast (1) | +50 |
Contrast | Normal |
ConvertToGrayscale | False |
Copyright | Copyright (c) 2012 Gisle Hannemyr. All rights reserved. |
CopyrightFlag | False |
CopyrightNotice | Copyright (c) 2012 Gisle Hannemyr. All rights reserved. |
CreateDate (1) | 2012:08:14 16:05:45.75 |
CreateDate | 2012:08:14 16:05:45 |
CreatorTool | Ver.1.02 |
CustomRendered | Normal |
DateCreated (1) | 2012:08:14 |
DateCreated | 2012:08:14 16:05:45.075 |
DateTimeOriginal | 2012:08:14 16:05:45 |
Defringe | 0 |
Description | Marine windmills in Copenhagen harbour. |
DigitalZoomRatio | 1 |
DOF | inf (211.31 m - inf) |
ExifImageHeight | 768 |
ExifImageWidth | 768 |
Exposure | +0.40 |
ExposureCompensation | 0 |
ExposureMode | Auto |
ExposureProgram | Aperture-priority AE |
ExposureTime | 1/1000 |
FillLight | 0 |
Flash | No Flash |
FNumber | 6.3 |
FocalLength | 200.0 mm |
FocalLength35efl | 200.0 mm (35 mm equivalent: 200.0 mm) |
FocalLengthIn35mmFormat | 200 mm |
Format | image/jpeg |
FOV | 10.3 deg |
GainControl | None |
GPSAltitude (1) | 22 m |
GPSAltitude | 22 m Above Sea Level |
GPSAltitudeRef | Above Sea Level |
GPSDateStamp | 2012:08:14 |
GPSDateTime | 2012:08:14 15:05:46Z |
GPSImgDirection | 205.64 |
GPSImgDirectionRef | Magnetic North |
GPSLatitude (1) | 55 deg 44' 27.46" |
GPSLatitude | 55 deg 44' 27.46" N |
GPSLatitudeRef | North |
GPSLongitude (1) | 12 deg 40' 2.31" |
GPSLongitude | 12 deg 40' 2.31" E |
GPSLongitudeRef | East |
GPSMapDatum | WGS 84 |
GPSPosition | 55 deg 44' 27.46" N, 12 deg 40' 2.31" E |
GPSSatellites | 09 |
GPSTimeStamp | 15:05:46 |
GPSVersionID | 2.2.0.0 |
GrainAmount | 0 |
GreenHue | 0 |
GreenSaturation | 0 |
HasCrop | False |
HasSettings | True |
HighlightRecovery | 0 |
HueAdjustmentAqua | 0 |
HueAdjustmentBlue | 0 |
HueAdjustmentGreen | 0 |
HueAdjustmentMagenta | 0 |
HueAdjustmentOrange | 0 |
HueAdjustmentPurple | 0 |
HueAdjustmentRed | 0 |
HueAdjustmentYellow | 0 |
HyperfocalDistance | 211.31 m |
ICCProfileName | sRGB IEC61966-2.1 |
ImageDescription | Marine windmills in Copenhagen harbour. |
ImageHeight | 768 |
ImageNumber | 2808 |
ImageSize | 768x768 |
ImageWidth | 768 |
ISO | 200 |
Lens | 80.0-200.0 mm f/2.8 |
LensID (1) | 94 |
LensID | AF-S Zoom-Nikkor 80-200mm f/2.8D IF-ED |
LensInfo | 80-200mm f/2.8 |
LensManualDistortionAmount | 0 |
LensModel | 80.0-200.0 mm f/2.8 |
LensProfileEnable | 0 |
LensProfileSetup | LensDefaults |
LightSource | Unknown |
LightValue | 14.3 |
LuminanceAdjustmentAqua | 0 |
LuminanceAdjustmentBlue | 0 |
LuminanceAdjustmentGreen | 0 |
LuminanceAdjustmentMagenta | 0 |
LuminanceAdjustmentOrange | 0 |
LuminanceAdjustmentPurple | 0 |
LuminanceAdjustmentRed | 0 |
LuminanceAdjustmentYellow | 0 |
LuminanceSmoothing | 0 |
Make | NIKON CORPORATION |
Marked | False |
MaxApertureValue | 2.8 |
Megapixels | 0.590 |
MeteringMode | Multi-segment |
Model | NIKON D700 |
ModifyDate (1) | 2012:08:17 23:09:02+02:00 |
ModifyDate | 2012:08:17 23:09:02 |
ObjectName | Marine windmills |
Orientation | Horizontal (normal) |
ParametricDarks | 0 |
ParametricHighlights | 0 |
ParametricHighlightSplit | 75 |
ParametricLights | 0 |
ParametricMidtoneSplit | 50 |
ParametricShadows | 0 |
ParametricShadowSplit | 25 |
PerspectiveHorizontal | 0 |
PerspectiveRotate | 0.0 |
PerspectiveScale | 100 |
PerspectiveVertical | 0 |
PostCropVignetteAmount | 0 |
ProcessVersion | 5.7 |
ProfileDescription | sRGB IEC61966-2.1 |
Rating | 0 |
RawFileName | DSC_2618.NEF |
RedHue | 0 |
RedSaturation | 0 |
Rights | Copyright (c) 2012 Gisle Hannemyr. All rights reserved. |
Saturation (1) | +10 |
Saturation | Normal |
SaturationAdjustmentAqua | 0 |
SaturationAdjustmentBlue | 0 |
SaturationAdjustmentGreen | 0 |
SaturationAdjustmentMagenta | 0 |
SaturationAdjustmentOrange | 0 |
SaturationAdjustmentPurple | 0 |
SaturationAdjustmentRed | 0 |
SaturationAdjustmentYellow | 0 |
ScaleFactor35efl | 1.0 |
SceneCaptureType | Standard |
SceneType | Directly photographed |
SensingMethod | One-chip color area |
SerialNumber | 2336235 |
Shadows | 25 |
ShadowTint | 0 |
SharpenDetail | 25 |
SharpenEdgeMasking | 0 |
SharpenRadius | +1.0 |
Sharpness (1) | 25 |
Sharpness | Normal |
ShutterSpeed | 1/1000 |
ShutterSpeedValue | 1/1000 |
Software | Adobe Photoshop CS5 Windows |
SplitToningBalance | 0 |
SplitToningHighlightHue | 0 |
SplitToningHighlightSaturation | 0 |
SplitToningShadowHue | 0 |
SplitToningShadowSaturation | 0 |
SubjectDistance | 4294967295 m |
SubjectDistanceRange | Unknown |
Tint | +1 |
Title | Marine windmills |
ToneCurve | 0, 0, 32, 22, 64, 56, 128, 128, 192, 196, 255, 255 |
ToneCurveName | Medium Contrast |
URL_List | |
Version | 6.4.1 |
Vibrance | +31 |
VignetteAmount | 0 |
WhiteBalance (1) | As Shot |
WhiteBalance | Auto |