Felt | Verdi |
AlreadyApplied | True |
Aperture | 6.3 |
ApertureValue | 6.3 |
ApproximateFocusDistance | 4294967295 |
BitsPerSample | 8 |
BlueHue | 0 |
BlueSaturation | 0 |
Brightness | +50 |
CameraProfile | Adobe Standard |
ChromaticAberrationB | 0 |
ChromaticAberrationR | 0 |
CircleOfConfusion | 0.031 mm |
Clarity | 0 |
ColorComponents | 3 |
ColorNoiseReduction | 25 |
ColorNoiseReductionDetail | 50 |
ColorTemperature | 5400 |
Contrast | +41 |
ConvertToGrayscale | False |
CreateDate (1) | 2012:04:15 12:44:37.13 |
CreateDate | 2012:04:15 12:44:37 |
CreatorTool | Adobe Photoshop Lightroom 3.6 (Windows) |
CropAngle | 0 |
CropBottom | 0.823755 |
CropConstrainToWarp | 0 |
CropHeight | 591 |
CropLeft | 0.054468 |
CropRight | 0.982978 |
CropTop | 0 |
CropUnit | pixels |
CropWidth | 1000 |
CustomRendered | Normal |
DateCreated (1) | 2012:04:15 |
DateCreated | 2012:04:15 12:44:37.13 |
DateTimeOriginal | 2012:04:15 12:44:37 |
Defringe | 0 |
DOF | inf (16.75 m - inf) |
Exposure | +0.30 |
ExposureCompensation | 0 |
ExposureMode | Manual |
ExposureProgram | Manual |
ExposureTime | 1/400 |
FillLight | 7 |
Firmware | 2.0.9 |
Flash | Off, Did not fire |
FlashCompensation | 0 |
FNumber | 6.3 |
FocalLength | 57.0 mm |
FocalLength35efl | 57.0 mm (35 mm equivalent: 55.6 mm) |
Format | image/jpeg |
FOV | 35.9 deg |
GradientBasedCorrActive | true |
GradientBasedCorrAmount | 1.000000 |
GradientBasedCorrBrightness | -0.609755 |
GradientBasedCorrClarity | 0.000000 |
GradientBasedCorrContrast | 0.560980 |
GradientBasedCorrExposure | 0.122000 |
GradientBasedCorrHue | 62.000000 |
GradientBasedCorrMaskFullX | 0.482814 |
GradientBasedCorrMaskFullY | 0.219711 |
GradientBasedCorrMaskValue | 1.000000 |
GradientBasedCorrMaskWhat | Mask/Gradient |
GradientBasedCorrMaskZeroX | 0.482292 |
GradientBasedCorrMaskZeroY | 0.454619 |
GradientBasedCorrSaturation (1) | -0.073170 |
GradientBasedCorrSaturation | 0.000000 |
GradientBasedCorrSharpness | 0.000000 |
GradientBasedCorrWhat | Correction |
GrainAmount | 0 |
GreenHue | 0 |
GreenSaturation | 0 |
HasCrop | True |
HasSettings | True |
HierarchicalSubject | Europa|Nord-Europa|Norge|Østlandet|Akershus|Enebakk |
HighlightRecovery | 0 |
HueAdjustmentAqua | 0 |
HueAdjustmentBlue | 0 |
HueAdjustmentGreen | 0 |
HueAdjustmentMagenta | 0 |
HueAdjustmentOrange | 0 |
HueAdjustmentPurple | 0 |
HueAdjustmentRed | 0 |
HueAdjustmentYellow | 0 |
HyperfocalDistance | 16.75 m |
ImageHeight | 591 |
ImageNumber | 0 |
ImageSize | 1000x591 |
ImageWidth | 1000 |
ISO | 200 |
Keywords | Akershus, Enebakk, Europa, Nord-Europa, Norden, Norge, Norway, Skandinavia, Østlandet |
Lens | EF24-70mm f/2.8L USM |
LensID (1) | 230 |
LensID | Canon EF 24-70mm f/2.8L USM |
LensInfo | 24-70mm f/? |
LensManualDistortionAmount | 0 |
LensModel | EF24-70mm f/2.8L USM |
LensProfileEnable | 0 |
LensProfileSetup | LensDefaults |
LightValue | 13.0 |
LuminanceAdjustmentAqua | 0 |
LuminanceAdjustmentBlue | 0 |
LuminanceAdjustmentGreen | 0 |
LuminanceAdjustmentMagenta | 0 |
LuminanceAdjustmentOrange | 0 |
LuminanceAdjustmentPurple | 0 |
LuminanceAdjustmentRed | 0 |
LuminanceAdjustmentYellow | 0 |
LuminanceNoiseReductionContrast | 0 |
LuminanceNoiseReductionDetail | 50 |
LuminanceSmoothing | 30 |
Make | Canon |
MaxApertureValue | 2.8 |
Megapixels | 0.591 |
MeteringMode | Multi-segment |
Model | Canon EOS 5D Mark II |
ModifyDate (1) | 2012:04:17 22:23:53+02:00 |
ModifyDate | 2012:04:17 22:23:53 |
PaintCorrectionActive | true |
PaintCorrectionAmount | 1.000000 |
PaintCorrectionBrightness | -0.439025 |
PaintCorrectionClarity | 0.000000 |
PaintCorrectionContrast | 0.390240 |
PaintCorrectionExposure | 0.487750 |
PaintCorrectionHue | 62.000000 |
PaintCorrectionMaskCenterWeight | 0.126044 |
PaintCorrectionMaskFlow | 1.000000 |
PaintCorrectionMaskRadius | 0.045406 |
PaintCorrectionMaskValue | 0.563000 |
PaintCorrectionMaskWhat | Mask/Paint |
PaintCorrectionSaturation (1) | 0.097560 |
PaintCorrectionSaturation | 0.000000 |
PaintCorrectionSharpness | 0.000000 |
PaintCorrectionWhat | Correction |
ParametricDarks | 0 |
ParametricHighlights | 0 |
ParametricHighlightSplit | 75 |
ParametricLights | 0 |
ParametricMidtoneSplit | 50 |
ParametricShadows | 0 |
ParametricShadowSplit | 25 |
PerspectiveHorizontal | 0 |
PerspectiveRotate | 0.0 |
PerspectiveScale | 100 |
PerspectiveVertical | 0 |
PostCropVignetteAmount | 0 |
ProcessVersion | 5.7 |
ProfileDescription | sRGB IEC61966-2.1 |
Rating | 4 |
RedHue | 0 |
RedSaturation | 0 |
Saturation | 0 |
SaturationAdjustmentAqua | 0 |
SaturationAdjustmentBlue | +2 |
SaturationAdjustmentGreen | 0 |
SaturationAdjustmentMagenta | 0 |
SaturationAdjustmentOrange | 0 |
SaturationAdjustmentPurple | 0 |
SaturationAdjustmentRed | 0 |
SaturationAdjustmentYellow | 0 |
ScaleFactor35efl | 1.0 |
SceneCaptureType | Standard |
SerialNumber | 3431602678 |
Shadows | 9 |
ShadowTint | 0 |
SharpenDetail | 25 |
SharpenEdgeMasking | 0 |
SharpenRadius | +1.0 |
Sharpness | 81 |
ShutterSpeed | 1/400 |
ShutterSpeedValue | 1/400 |
Software | Adobe Photoshop Lightroom 3.6 (Windows) |
SplitToningBalance | 0 |
SplitToningHighlightHue | 0 |
SplitToningHighlightSaturation | 0 |
SplitToningShadowHue | 0 |
SplitToningShadowSaturation | 0 |
Subject | Akershus, Enebakk, Europa, Nord-Europa, Norden, Norge, Norway, Skandinavia, Østlandet |
SubjectDistance | 4294967295 m |
Tint | +1 |
ToneCurve | 0, 0, 32, 22, 64, 56, 128, 128, 192, 196, 255, 255 |
ToneCurveName | Medium Contrast |
Version | 6.6 |
Vibrance | +54 |
VignetteAmount | 0 |
WhiteBalance (1) | As Shot |
WhiteBalance | Auto |