Felt | Verdi |
AlreadyApplied | True |
Artist | O Klevberg |
BitsPerSample (1) | 16, 16, 16 |
BitsPerSample (2) | 16 16 16 |
BitsPerSample | 8 |
BlueHue | 0 |
BlueSaturation | 0 |
Brightness | 0 |
By-line | O Klevberg |
CameraProfile | Embedded |
Caption-Abstract | 6 xp |
ChromaticAberrationB | 0 |
ChromaticAberrationR | 0 |
CircleOfConfusion | 0.030 mm |
Clarity | +20 |
ColorComponents | 3 |
ColorMode | RGB |
ColorNoiseReduction | 0 |
ColorSpace | sRGB |
Contrast | +10 |
ConvertToGrayscale | False |
Copyright | O Klevberg |
CopyrightFlag | False |
CopyrightNotice | O Klevberg |
CreateDate (1) | 2012:03:27 19:26:27+02:00 |
CreateDate | 2012:03:27 19:26:27 |
Creator | O Klevberg |
CreatorTool | Adobe Photoshop CS5.1 Windows |
CropAngle | 2.14 |
CropBottom | 0.996533 |
CropConstrainToWarp | 1 |
CropHeight | 3129 |
CropLeft | 0.041488 |
CropRight | 0.958512 |
CropTop | 0.003468 |
CropUnit | pixels |
CropWidth | 4677 |
CustomRendered | Normal |
DateCreated | 2012:03:27 |
DateTimeDigitized | 2012:03:27 19:26:27+02:00 |
DateTimeOriginal (1) | 2012:03:27 19:26:27+02:00 |
DateTimeOriginal | 2012:03:27 19:26:27 |
Defringe | 0 |
Description | 6 xp |
ExifImageHeight | 3129 |
ExifImageWidth | 4677 |
Exposure | -0.05 |
ExposureCompensation | +2/3 |
ExposureMode | Manual |
ExposureProgram | Manual |
ExposureTime | 3.2 |
FillLight | 9 |
Firmware | 1.1.6 |
Flash | Off, Did not fire |
FlashCompensation | 0 |
FlashFired | False |
FlashFunction | False |
FlashMode | Off |
FlashRedEyeMode | False |
FlashReturn | No return detection |
Format | image/jpeg |
GrainAmount | 0 |
GreenHue | 0 |
GreenSaturation | 0 |
HasCrop | True |
HasSettings | True |
HighlightRecovery | 0 |
HueAdjustmentAqua | 0 |
HueAdjustmentBlue | 0 |
HueAdjustmentGreen | 0 |
HueAdjustmentMagenta | 0 |
HueAdjustmentOrange | 0 |
HueAdjustmentPurple | 0 |
HueAdjustmentRed | 0 |
HueAdjustmentYellow | 0 |
ICCProfileName | sRGB IEC61966-2.1 |
ImageDescription | 6 xp |
ImageHeight | 3129 |
ImageNumber | 9629 |
ImageSize | 4677x3129 |
ImageWidth | 4677 |
IncrementalTemperature | 0 |
IncrementalTint | 0 |
ISO | 50 |
LensManualDistortionAmount | -10 |
LensProfileEnable | 0 |
LensProfileSetup | LensDefaults |
Location | Saltholmen, Raade |
LuminanceAdjustmentAqua | +45 |
LuminanceAdjustmentBlue | 0 |
LuminanceAdjustmentGreen | 0 |
LuminanceAdjustmentMagenta | 0 |
LuminanceAdjustmentOrange | 0 |
LuminanceAdjustmentPurple | 0 |
LuminanceAdjustmentRed | 0 |
LuminanceAdjustmentYellow | 0 |
LuminanceSmoothing | 0 |
Make | Canon |
Marked | False |
Megapixels | 14.6 |
MeteringMode | Multi-segment |
Model | Canon EOS-1Ds Mark II |
ModifyDate (1) | 2012:03:28 22:44:34+02:00 |
ModifyDate | 2012:03:28 22:44:34 |
ObjectName | Saltholmen kveld |
Orientation | Horizontal (normal) |
ParametricDarks | 0 |
ParametricHighlights | 0 |
ParametricHighlightSplit | 75 |
ParametricLights | 0 |
ParametricMidtoneSplit | 50 |
ParametricShadows | 0 |
ParametricShadowSplit | 25 |
PerspectiveHorizontal | 0 |
PerspectiveRotate | +0.1 |
PerspectiveScale | 100 |
PerspectiveVertical | 0 |
PhotometricInterpretation | RGB |
PlanarConfiguration | Chunky |
PostCropVignetteAmount | 0 |
ProcessVersion | 5.7 |
ProfileDescription | sRGB IEC61966-2.1 |
RedHue | 0 |
RedSaturation | 0 |
Rights | O Klevberg |
SamplesPerPixel | 3 |
Saturation | +20 |
SaturationAdjustmentAqua | 0 |
SaturationAdjustmentBlue | 0 |
SaturationAdjustmentGreen | 0 |
SaturationAdjustmentMagenta | 0 |
SaturationAdjustmentOrange | 0 |
SaturationAdjustmentPurple | 0 |
SaturationAdjustmentRed | 0 |
SaturationAdjustmentYellow | 0 |
ScaleFactor35efl | 1.0 |
SceneCaptureType | Standard |
SensitivityType | Unknown |
SerialNumber | 332000 |
Shadows | 5 |
ShadowTint | 0 |
SharpenDetail | 25 |
SharpenEdgeMasking | 0 |
SharpenRadius | +0.7 |
Sharpness | 50 |
ShutterSpeed | 3.2 |
ShutterSpeedValue | 3.2 |
Software | Adobe Photoshop Elements 9.0 Windows |
SplitToningBalance | +61 |
SplitToningHighlightHue | 58 |
SplitToningHighlightSaturation | 30 |
SplitToningShadowHue | 190 |
SplitToningShadowSaturation | 0 |
Sub-location | Saltholmen, Raade |
Title | Saltholmen kveld |
ToneCurve | 0, 0, 255, 255 |
ToneCurveName | Linear |
URL_List | |
Version | 6.2 |
Vibrance | +20 |
VignetteAmount | +10 |
VignetteMidpoint | 50 |
WhiteBalance (1) | As Shot |
WhiteBalance | Manual |