Felt | Verdi |
AlreadyApplied | True |
Aperture | 5.6 |
ApertureValue | 5.6 |
ApproximateFocusDistance | 4294967295 |
BitsPerSample (1) | 8 8 8 |
BitsPerSample | 8 |
BlueHue | 0 |
BlueSaturation | 0 |
Brightness | +50 |
CameraProfile | Adobe Standard |
CFAPattern | [Red,Green][Green,Blue] |
ChromaticAberrationB | 0 |
ChromaticAberrationR | 0 |
CircleOfConfusion | 0.020 mm |
Clarity | +21 |
ColorComponents | 1 |
ColorMode | RGB |
ColorNoiseReduction | 25 |
ColorNoiseReductionDetail | 50 |
ColorSpace | sRGB |
ColorTemperature | 4450 |
Contrast (1) | +25 |
Contrast | Normal |
ConvertToGrayscale | False |
Copyright | Eva Hodneland |
CopyrightFlag | True |
CopyrightNotice | Eva Hodneland |
CreateDate (1) | 2012:02:10 14:02:32.58 |
CreateDate | 2012:02:10 14:02:32 |
CreatorTool | Adobe Photoshop CS5.1 Windows |
CreatorWorkEmail | evahodne@online.no |
CropAngle | -1.442395 |
CropBottom | 0.963474 |
CropConstrainToWarp | 1 |
CropLeft | 0.010207 |
CropRight | 0.989793 |
CropTop | 0.036526 |
CustomRendered | Normal |
DateCreated (1) | 2012:02:10 |
DateCreated | 2012:02:10 14:02:32.058 |
DateTimeOriginal | 2012:02:10 14:02:32 |
Defringe | 0 |
DigitalZoomRatio | 1 |
DOF | inf (393.14 m - inf) |
ExifImageHeight | 854 |
ExifImageWidth | 1134 |
Exposure | 0.00 |
ExposureCompensation | 0 |
ExposureMode | Auto |
ExposureProgram | Aperture-priority AE |
ExposureTime | 1/2000 |
FillLight | 0 |
Flash | No Flash |
FNumber | 5.6 |
FocalLength | 210.0 mm |
FocalLength35efl | 210.0 mm (35 mm equivalent: 315.0 mm) |
FocalLengthIn35mmFormat | 315 mm |
Format | image/jpeg |
FOV | 6.5 deg |
GainControl | None |
GrainAmount | 0 |
GreenHue | 0 |
GreenSaturation | 0 |
HasCrop | True |
HasSettings | True |
HierarchicalSubject | Arkitektur og detaljer|Bygninger|Detajler, Places|Marokko |
HighlightRecovery | 0 |
HueAdjustmentAqua | 0 |
HueAdjustmentBlue | 0 |
HueAdjustmentGreen | 0 |
HueAdjustmentMagenta | 0 |
HueAdjustmentOrange | 0 |
HueAdjustmentPurple | 0 |
HueAdjustmentRed | 0 |
HueAdjustmentYellow | 0 |
HyperfocalDistance | 393.14 m |
ICCProfileName | sRGB IEC61966-2.1 |
ImageHeight (1) | 2848 |
ImageHeight | 854 |
ImageNumber | 6518 |
ImageSize | 1134x854 |
ImageWidth (1) | 3780 |
ImageWidth | 1134 |
ISO | 200 |
Keywords | Arkitektur og detaljer, Bygninger, Detajler, Marokko, Places |
Lens | 28.0-300.0 mm f/3.5-5.6 |
LensID (1) | 165 |
LensID | AF-S Nikkor 28-300mm f/3.5-5.6G ED VR |
LensInfo | 28-300mm f/3.5-5.6 |
LensManualDistortionAmount | 0 |
LensModel | 28.0-300.0 mm f/3.5-5.6 |
LensProfileEnable | 0 |
LensProfileSetup | LensDefaults |
LightSource | Unknown |
LightValue | 14.9 |
LuminanceAdjustmentAqua | 0 |
LuminanceAdjustmentBlue | 0 |
LuminanceAdjustmentGreen | 0 |
LuminanceAdjustmentMagenta | 0 |
LuminanceAdjustmentOrange | 0 |
LuminanceAdjustmentPurple | 0 |
LuminanceAdjustmentRed | 0 |
LuminanceAdjustmentYellow | 0 |
LuminanceNoiseReductionContrast | 0 |
LuminanceNoiseReductionDetail | 50 |
LuminanceSmoothing | 9 |
Make | NIKON CORPORATION |
Marked | True |
MaxApertureValue | 5.7 |
Megapixels | 0.968 |
MeteringMode | Spot |
Model | NIKON D300S |
ModifyDate (1) | 2012:03:23 18:34:10+01:00 |
ModifyDate | 2012:03:23 18:34:10 |
Orientation | Horizontal (normal) |
ParametricDarks | -7 |
ParametricHighlights | +13 |
ParametricHighlightSplit | 75 |
ParametricLights | +5 |
ParametricMidtoneSplit | 50 |
ParametricShadows | -17 |
ParametricShadowSplit | 25 |
PerspectiveHorizontal | 0 |
PerspectiveRotate | 0.0 |
PerspectiveScale | 100 |
PerspectiveVertical | 0 |
PhotometricInterpretation | RGB |
PostCropVignetteAmount | 0 |
ProcessVersion | 5.7 |
ProfileDescription | sRGB IEC61966-2.1 |
Rating | 0 |
RawFileName | DSC_6331.NEF |
RedHue | 0 |
RedSaturation | 0 |
Rights | Eva Hodneland |
Saturation (1) | 0 |
Saturation | Normal |
SaturationAdjustmentAqua | 0 |
SaturationAdjustmentBlue | 0 |
SaturationAdjustmentGreen | 0 |
SaturationAdjustmentMagenta | 0 |
SaturationAdjustmentOrange | 0 |
SaturationAdjustmentPurple | 0 |
SaturationAdjustmentRed | 0 |
SaturationAdjustmentYellow | 0 |
ScaleFactor35efl | 1.5 |
SceneCaptureType | Standard |
SceneType | Directly photographed |
SensingMethod | One-chip color area |
SerialNumber | 6017178 |
Shadows | 5 |
ShadowTint | 0 |
SharpenDetail | 25 |
SharpenEdgeMasking | 0 |
SharpenRadius | +1.0 |
Sharpness (1) | 53 |
Sharpness | Normal |
ShutterSpeed | 1/2000 |
ShutterSpeedValue | 1/2000 |
Software | Adobe Photoshop CS5.1 Windows |
SplitToningBalance | 0 |
SplitToningHighlightHue | 0 |
SplitToningHighlightSaturation | 0 |
SplitToningShadowHue | 0 |
SplitToningShadowSaturation | 0 |
Subject | Arkitektur og detaljer, Bygninger, Detajler, Marokko, Places |
SubjectDistance | 4294967295 m |
SubjectDistanceRange | Unknown |
Tint | +4 |
ToneCurve | 0, 0, 32, 22, 64, 56, 128, 128, 192, 196, 255, 255 |
ToneCurveName | Medium Contrast |
URL_List | |
Version | 6.6 |
Vibrance | +18 |
VignetteAmount | 0 |
WhiteBalance (1) | As Shot |
WhiteBalance | Auto |