Felt | Verdi |
AlreadyApplied | True |
Aperture | 2.8 |
ApertureValue | 2.8 |
ApproximateFocusDistance | 5.96 |
Artist | Ronny Moan |
BitsPerSample | 8 |
BlueHue | 0 |
BlueSaturation | 0 |
Brightness | +50 |
By-line | Ronny Moan |
CameraProfile | Adobe Standard |
CFAPattern | [Green,Blue][Red,Green] |
ChromaticAberrationB | 0 |
ChromaticAberrationR | 0 |
CircleOfConfusion | 0.020 mm |
Clarity | 0 |
ColorComponents | 1 |
ColorNoiseReduction | 25 |
ColorNoiseReductionDetail | 50 |
ColorTemperature | 4950 |
Contrast (2) | +43 |
Contrast | Normal |
ConvertToGrayscale | True |
Copyright | (C)2010 Ronny Moan, all rights reserved |
CopyrightNotice | (C)2010 Ronny Moan, all rights reserved |
CreateDate (1) | 2012:03:10 13:59:08.20+01:00 |
CreateDate | 2012:03:10 13:59:08 |
Creator | Ronny Moan |
CreatorAddress | Nordsiveien 196 |
CreatorCity | Soerreisa |
CreatorCountry | Norway |
CreatorPostalCode | N-9310 |
CreatorTool | Adobe Photoshop Lightroom 3.3 |
CreatorWorkEmail | ronny@moan.dk |
CreatorWorkTelephone | +47 900 850 66 |
CropAngle | 0.173623 |
CropBottom | 0.976739 |
CropConstrainToWarp | 0 |
CropHeight | 2406 |
CropLeft | 0.021563 |
CropRight | 0.970968 |
CropTop | 0.044206 |
CropUnit | pixels |
CropWidth | 3683 |
CustomRendered | Normal |
DateTimeDigitized | 2012:03:10 13:59:08.20+01:00 |
DateTimeOriginal (1) | 2012:03:10 13:59:08.20+01:00 |
DateTimeOriginal | 2012:03:10 13:59:08 |
Defringe | 0 |
DigitalZoomRatio | 1 |
DOF | 0.62 m (5.67 - 6.28 m) |
ExifImageHeight | 2406 |
ExifImageWidth | 3683 |
Exposure | 0.00 |
ExposureCompensation | 0 |
ExposureMode | Auto |
ExposureProgram | Aperture-priority AE |
ExposureTime | 1/50 |
FillLight | 0 |
Flash | No Flash |
FlashFired | False |
FlashFunction | False |
FlashMode | Unknown |
FlashRedEyeMode | False |
FlashReturn | No return detection |
FNumber | 2.8 |
FocalLength | 80.0 mm |
FocalLength35efl | 80.0 mm (35 mm equivalent: 120.0 mm) |
FocalLengthIn35mmFormat | 120 mm |
FOV | 17.1 deg |
GainControl | None |
GrainAmount | 0 |
GrayMixerAqua | -16 |
GrayMixerBlue | +12 |
GrayMixerGreen | -27 |
GrayMixerMagenta | +3 |
GrayMixerOrange | -21 |
GrayMixerPurple | +16 |
GrayMixerRed | -12 |
GrayMixerYellow | -24 |
GreenHue | 0 |
GreenSaturation | 0 |
HasCrop | True |
HasSettings | True |
HighlightRecovery | 24 |
HyperfocalDistance | 114.11 m |
ImageHeight | 2406 |
ImageNumber | 15993 |
ImageSize | 3683x2406 |
ImageWidth | 3683 |
ISO | 100 |
Lens | 80.0-200.0 mm f/2.8 |
LensID (1) | 83 |
LensID | AF Zoom-Nikkor 80-200mm f/2.8D ED |
LensInfo | 80-200mm f/2.8 |
LensManualDistortionAmount | 0 |
LensModel | 80.0-200.0 mm f/2.8 |
LensProfileEnable | 0 |
LensProfileSetup | LensDefaults |
LightSource | Unknown |
LightValue | 8.6 |
LuminanceSmoothing | 0 |
Make | NIKON CORPORATION |
MaxApertureValue | 2.8 |
Megapixels | 8.9 |
MeteringMode | Multi-segment |
Model | NIKON D80 |
ModifyDate (1) | 2012:03:10 14:24:20+01:00 |
ModifyDate | 2012:03:10 14:24:20 |
ParametricDarks | 0 |
ParametricHighlights | 0 |
ParametricHighlightSplit | 75 |
ParametricLights | 0 |
ParametricMidtoneSplit | 50 |
ParametricShadows | 0 |
ParametricShadowSplit | 25 |
PerspectiveHorizontal | 0 |
PerspectiveRotate | 0.0 |
PerspectiveScale | 100 |
PerspectiveVertical | 0 |
PostCropVignetteAmount | 0 |
ProcessVersion | 5.7 |
ProfileDescription | sRGB IEC61966-2.1 |
RatingPercent | 0 |
RedHue | 0 |
RedSaturation | 0 |
Rights | (C)2010 Ronny Moan, all rights reserved |
Saturation | Normal |
ScaleFactor35efl | 1.5 |
SceneCaptureType | Standard |
SceneType | Directly photographed |
SensingMethod | One-chip color area |
SensitivityType | Unknown |
SerialNumber | 4240651 |
Shadows | 25 |
ShadowTint | 0 |
SharpenDetail | 25 |
SharpenEdgeMasking | 0 |
SharpenRadius | +1.0 |
Sharpness (2) | 112 |
Sharpness | Normal |
ShutterSpeed | 1/50 |
ShutterSpeedValue | 1/50 |
Software | Nikon Transfer 1.5 W |
SplitToningBalance | 0 |
SplitToningHighlightHue | 0 |
SplitToningHighlightSaturation | 0 |
SplitToningShadowHue | 0 |
SplitToningShadowSaturation | 0 |
SubjectDistance | 5.96 m |
SubjectDistanceRange | Unknown |
Tint | -7 |
ToneCurve | 0, 0, 32, 22, 64, 56, 128, 128, 192, 196, 255, 255 |
ToneCurveName | Medium Contrast |
UsageTerms | For consideration only, no reproduction without prior permission |
Version | 6.3 |
VignetteAmount | 0 |
WhiteBalance (2) | As Shot |
WhiteBalance | Auto |