Felt | Verdi |
AlreadyApplied | True |
Aperture | 8.0 |
ApertureValue | 8.0 |
Artist | Birgitta Sjöstedt |
BitsPerSample | 8 |
BlueHue | 0 |
BlueSaturation | 0 |
Brightness | +50 |
By-line | Birgitta Sjöstedt |
CameraProfile | Adobe Standard |
ChromaticAberrationB | 0 |
ChromaticAberrationR | 0 |
CircleOfConfusion | 0.019 mm |
Clarity | +15 |
ColorComponents | 3 |
ColorMode | RGB |
ColorNoiseReduction | 9 |
ColorSpace | sRGB |
ColorTemperature | 6016 |
Contrast | +31 |
ConvertToGrayscale | False |
Copyright | Copyright Birgitta Sjöstedt 2010 |
CopyrightFlag | True |
CopyrightNotice | Copyright Birgitta Sjöstedt 2010 |
CreateDate | 2010:11:07 15:08:52 |
Creator | Birgitta Sjöstedt |
CreatorAddress | Smedvägen 4 |
CreatorCity | Handen |
CreatorCountry | Sverige |
CreatorPostalCode | 136 46 |
CreatorTool | Adobe Photoshop Elements 8.0 Windows |
CreatorWorkEmail | sjostedt.birgitta@telia.com |
CreatorWorkTelephone | 073-7071565 |
CropAngle | 0 |
CropBottom | 1 |
CropHeight | 3168 |
CropLeft | 0.246944 |
CropRight | 1 |
CropTop | 0 |
CropUnit | pixels |
CropWidth | 3579 |
CustomRendered | Normal |
DateAcquired | 2010:12:03 16:46:05 |
DateCreated | 2010:11:07 |
DateTimeDigitized | 2010:11:07 15:08:52+01:00 |
DateTimeOriginal (1) | 2010:11:07 15:08:52+01:00 |
DateTimeOriginal | 2010:11:07 15:08:52 |
Defringe | 0 |
ExifImageHeight | 628 |
ExifImageWidth | 900 |
Exposure | +1.51 |
ExposureCompensation | -2/3 |
ExposureMode | Auto |
ExposureProgram | Aperture-priority AE |
ExposureTime | 1/1000 |
FillLight | 0 |
Firmware | 1.0.5 |
Flash | Off, Did not fire |
FlashCompensation | 0 |
FlashFired | False |
FlashFunction | False |
FlashMode | Off |
FlashRedEyeMode | False |
FlashReturn | No return detection |
FNumber | 8.0 |
FocalLength | 86.0 mm |
FocalLength35efl | 86.0 mm (35 mm equivalent: 136.3 mm) |
Format | image/jpeg |
FOV | 15.0 deg |
GreenHue | 0 |
GreenSaturation | 0 |
HasCrop | True |
HasSettings | True |
HighlightRecovery | 18 |
HueAdjustmentAqua | 0 |
HueAdjustmentBlue | 0 |
HueAdjustmentGreen | 0 |
HueAdjustmentMagenta | 0 |
HueAdjustmentOrange | 0 |
HueAdjustmentPurple | 0 |
HueAdjustmentRed | 0 |
HueAdjustmentYellow | 0 |
HyperfocalDistance | 48.76 m |
ICCProfileName | sRGB IEC61966-2.1 |
ImageHeight | 628 |
ImageNumber | 0 |
ImageSize | 900x628 |
ImageWidth | 900 |
ISO | 160 |
Lens | EF35-105mm f/3.5-4.5 |
LensID (1) | 4 |
LensID | Canon EF 35-105mm f/3.5-4.5 |
LensInfo | 35-105mm f/? |
LightValue | 15.3 |
LuminanceAdjustmentAqua | 0 |
LuminanceAdjustmentBlue | 0 |
LuminanceAdjustmentGreen | 0 |
LuminanceAdjustmentMagenta | 0 |
LuminanceAdjustmentOrange | 0 |
LuminanceAdjustmentPurple | 0 |
LuminanceAdjustmentRed | 0 |
LuminanceAdjustmentYellow | 0 |
LuminanceSmoothing | 23 |
Make | Canon |
Marked | True |
MaxApertureValue | 4.6 |
Megapixels | 0.565 |
MeteringMode | Multi-segment |
Model | Canon EOS 50D |
ModifyDate (1) | 2012:02:13 18:03:18+01:00 |
ModifyDate | 2012:02:13 18:03:18 |
Orientation | Horizontal (normal) |
ParametricDarks | 0 |
ParametricHighlights | -11 |
ParametricHighlightSplit | 75 |
ParametricLights | 0 |
ParametricMidtoneSplit | 50 |
ParametricShadows | 0 |
ParametricShadowSplit | 25 |
PostCropVignetteAmount | 0 |
ProfileDescription | sRGB IEC61966-2.1 |
Rating | 2 |
RedHue | 0 |
RedSaturation | 0 |
Rights | Copyright Birgitta Sjöstedt 2010 |
Saturation | 0 |
SaturationAdjustmentAqua | 0 |
SaturationAdjustmentBlue | +48 |
SaturationAdjustmentGreen | 0 |
SaturationAdjustmentMagenta | 0 |
SaturationAdjustmentOrange | 0 |
SaturationAdjustmentPurple | 0 |
SaturationAdjustmentRed | 0 |
SaturationAdjustmentYellow | 0 |
ScaleFactor35efl | 1.6 |
SceneCaptureType | Standard |
SerialNumber | 730400804 |
Shadows | 14 |
ShadowTint | 0 |
SharpenDetail | 25 |
SharpenEdgeMasking | 24 |
SharpenRadius | +1.1 |
Sharpness | 36 |
ShutterSpeed | 1/1000 |
ShutterSpeedValue | 1/1000 |
Software | Adobe Photoshop Elements 8.0 Windows |
SplitToningBalance | 0 |
SplitToningHighlightHue | 0 |
SplitToningHighlightSaturation | 0 |
SplitToningShadowHue | 0 |
SplitToningShadowSaturation | 0 |
Tint | +27 |
ToneCurve | 0, 0, 32, 22, 64, 56, 128, 128, 192, 196, 255, 255 |
ToneCurveName | Medium Contrast |
URL_List | |
UsageTerms | Ingen användning av något slag utan tillstånd av upprättsinnehavaren |
Version | 5.6 |
Vibrance | +11 |
VignetteAmount | 0 |
WhiteBalance (2) | Custom |
WhiteBalance | Auto |