Felt | Verdi |
AddOriginalDecisionData | Off |
AEBBracketValue | 0 |
AFAreaHeights | 153 153 153 105 199 105 153 153 153 |
AFAreaMode | Auto |
AFAreaWidths | 115 115 115 162 200 162 115 115 115 |
AFAreaXPositions | -1127 -674 -674 0 0 0 674 674 1127 |
AFAreaYPositions | 0 321 -321 603 0 -603 321 -321 0 |
AFAssistBeam | Emits |
AFDuringLiveView | Disable |
AFImageHeight | 2848 |
AFImageWidth | 4272 |
AFPointsInFocus | 3 |
AFPointsSelected | 0,1,2,3,4,5,6,7,8 |
AlreadyApplied | False |
Aperture | 3.5 |
ApertureValue | 3.5 |
ApproximateFocusDistance | 4294967295 |
Artist | Kjetil Bolme 0047 90 81 41 31 |
AutoExposureBracketing | Off |
AutoISO | 100 |
AutoLightingOptimizer | Enable |
AverageBlackLevel | 1024 1024 1024 1024 |
BaseISO | 800 |
BitsPerSample | 8 |
BlackMaskBottomBorder | 0 |
BlackMaskLeftBorder | 0 |
BlackMaskRightBorder | 0 |
BlackMaskTopBorder | 0 |
BlueBalance | 1.602539 |
BlueHue | 0 |
BlueSaturation | 0 |
BracketMode | Off |
BracketShotNumber | 0 |
BracketValue | 0 |
Brightness | 0 |
BulbDuration | 0 |
By-line | Kjetil Bolme 0047 90 81 41 31 |
CameraOrientation | Horizontal (normal) |
CameraProfile | Embedded |
CameraTemperature | 8 C |
CameraType | EOS High-end |
CanonExposureMode | Easy |
CanonFirmwareVersion | Firmware Version 1.0.4 |
CanonFlashMode | Off |
CanonImageHeight | 2848 |
CanonImageSize | Large |
CanonImageType | Canon EOS 450D |
CanonImageWidth | 4272 |
CanonModelID | EOS Digital Rebel XSi / 450D / Kiss X2 |
ChromaticAberrationB | 0 |
ChromaticAberrationR | 0 |
CircleOfConfusion | 0.019 mm |
Clarity | 0 |
ColorComponents | 3 |
ColorDataVersion | 5 (450D/1000D) |
ColorNoiseReduction | 0 |
ColorSpace | sRGB |
ColorTempAsShot | 4363 |
ColorTempAuto | 4363 |
ColorTempCloudy | 6000 |
ColorTempDaylight | 5200 |
ColorTemperature | 5200 |
ColorTempFlash | 6322 |
ColorTempFluorescent | 3776 |
ColorTempKelvin | 5200 |
ColorTempMeasured | 4363 |
ColorTempShade | 7000 |
ColorTempTungsten | 3200 |
ColorTone | Normal |
ColorToneFaithful | 0 |
ColorToneLandscape | 0 |
ColorToneNeutral | 0 |
ColorTonePortrait | 0 |
ColorToneStandard | 0 |
ColorToneUserDef1 | 0 |
ColorToneUserDef2 | 0 |
ColorToneUserDef3 | 0 |
ContinuousDrive | Single |
Contrast (1) | 0 |
Contrast | Normal |
ContrastFaithful | 0 |
ContrastLandscape | 0 |
ContrastMonochrome | 0 |
ContrastNeutral | 0 |
ContrastPortrait | 0 |
ContrastStandard | 0 |
ContrastUserDef1 | 0 |
ContrastUserDef2 | 0 |
ContrastUserDef3 | 0 |
ControlMode | Camera Local Control |
ConvertToGrayscale | False |
CreateDate (1) | 2012:01:30 21:27:51.04 |
CreateDate | 2012:01:30 21:27:51 |
Creator | Kjetil Bolme 0047 90 81 41 31 |
CropBottomMargin | 0 |
CropLeftMargin | 0 |
CropRightMargin | 0 |
CropTopMargin | 0 |
CustomPictureStyleFileName | |
CustomRendered | Normal |
DateCreated (1) | 2012:01:30 |
DateCreated | 2012:01:30 21:27:51.04 |
DateTimeOriginal | 2012:01:30 21:27:51 |
Defringe | 0 |
DigitalGain | 0 |
DigitalZoom | None |
DOF | inf (4.98 m - inf) |
DriveMode | Single-frame Shooting |
EasyMode | Flash Off |
ExifImageHeight | 2710 |
ExifImageWidth | 4272 |
Exposure | 0.00 |
ExposureCompensation | 0 |
ExposureLevelIncrements | 1/3 Stop |
ExposureMode | Auto |
ExposureProgram | Not Defined |
ExposureTime (1) | 5.7 |
ExposureTime (2) | 5.2 |
ExposureTime | 5 |
FileIndex | 2693 |
FileNumber | 100-2693 |
FillLight | 45 |
FilterEffectMonochrome | None |
FilterEffectUserDef1 | None |
FilterEffectUserDef2 | None |
FilterEffectUserDef3 | None |
Firmware | 1.0.4 |
FirmwareVersion | 1.0.4 |
Flash | Off, Did not fire |
FlashActivity | 0 |
FlashBits | (none) |
FlashCompensation | 0 |
FlashExposureComp | 0 |
FlashGuideNumber | 0 |
FlashMeteringMode | Off |
FlashSyncSpeedAv | Auto |
FNumber (1) | 3.6 |
FNumber | 3.5 |
FocalLength (2) | 18 mm |
FocalLength | 18.0 mm |
FocalLength35efl | 18.0 mm (35 mm equivalent: 29.1 mm) |
FocalUnits | 1/mm |
FocusDistanceLower | 5.27 m |
FocusDistanceUpper | inf |
FocusMode | AI Focus AF |
FocusRange | Not Known |
Format | image/jpeg |
FOV | 63.5 deg |
GrainAmount | 0 |
GreenHue | 0 |
GreenSaturation | 0 |
HasSettings | True |
HighISONoiseReduction | Off |
HighlightRecovery | 0 |
HighlightTonePriority | Disable |
HueAdjustmentAqua | 0 |
HueAdjustmentBlue | 0 |
HueAdjustmentGreen | 0 |
HueAdjustmentMagenta | 0 |
HueAdjustmentOrange | 0 |
HueAdjustmentPurple | 0 |
HueAdjustmentRed | 0 |
HueAdjustmentYellow | 0 |
HyperfocalDistance | 4.98 m |
ImageHeight | 2710 |
ImageNumber | 0 |
ImageSize | 4272x2710 |
ImageWidth | 4272 |
IncrementalTemperature | +13 |
IncrementalTint | -2 |
InternalSerialNumber | KFFFFFFF |
ISO | 800 |
LCDDisplayAtPowerOn | Display |
Lens (1) | EF-S18-55mm f/3.5-5.6 IS |
Lens | 18.0 - 55.0 mm |
Lens35efl | 18.0 - 55.0 mm (35 mm equivalent: 29.1 - 88.8 mm) |
LensID (1) | 48 |
LensID | Canon EF-S 18-55mm f/3.5-5.6 IS |
LensInfo | 18-55mm f/? |
LensManualDistortionAmount | 0 |
LensModel | EF-S18-55mm f/3.5-5.6 IS |
LensProfileEnable | 0 |
LensProfileSetup | LensDefaults |
LensType | Canon EF-S 18-55mm f/3.5-5.6 IS |
LightValue | -1.7 |
LinearityUpperMargin | 10000 |
LiveViewShooting | Off |
LongExposureNoiseReduction | Off |
LongExposureNoiseReduction2 | Off |
LuminanceAdjustmentAqua | 0 |
LuminanceAdjustmentBlue | 0 |
LuminanceAdjustmentGreen | 0 |
LuminanceAdjustmentMagenta | 0 |
LuminanceAdjustmentOrange | 0 |
LuminanceAdjustmentPurple | 0 |
LuminanceAdjustmentRed | 0 |
LuminanceAdjustmentYellow | 0 |
LuminanceSmoothing | 0 |
MacroMode | Normal |
Make | Canon |
ManualFlashOutput | n/a |
MaxAperture | 3.6 |
MaxApertureValue | 3.5 |
MaxFocalLength | 55 mm |
MeasuredEV | -1.88 |
MeasuredEV2 | -2.625 |
MeasuredRGGB | 526 1024 1024 785 |
Megapixels | 11.6 |
MeteringMode (1) | Multi-segment |
MeteringMode | Evaluative |
MinAperture | 23 |
MinFocalLength | 18 mm |
MirrorLockup | Disable |
Model | Canon EOS 450D |
ModifyDate (1) | 2012:01:30 21:27:51.04 |
ModifyDate | 2012:01:30 21:27:51 |
NDFilter | n/a |
NumAFPoints | 9 |
OpticalZoomCode | n/a |
Orientation | Horizontal (normal) |
OriginalDecisionDataOffset | 0 |
OwnerName | Kjetil Bolme 0047 90 81 41 31 |
ParametricDarks | 0 |
ParametricHighlights | 0 |
ParametricHighlightSplit | 75 |
ParametricLights | 0 |
ParametricMidtoneSplit | 50 |
ParametricShadows | 0 |
ParametricShadowSplit | 25 |
PerChannelBlackLevel | 1023 1023 1024 1024 |
PerspectiveHorizontal | 0 |
PerspectiveRotate | 0.0 |
PerspectiveScale | 100 |
PerspectiveVertical | 0 |
PictureStyle | Standard |
PictureStylePC | Portrait; Neutral; Standard |
PictureStyleUserDef | Standard; Standard; Standard |
PostCropVignetteAmount | 0 |
ProcessVersion | 5.7 |
Quality | Fine |
RawFileName | IMG_2693.JPG |
RawJpgSize | Large |
RawMeasuredRGGB | 9787 18994 19208 14467 |
RecordMode | JPEG |
RedBalance | 1.917969 |
RedHue | 0 |
RedSaturation | 0 |
Saturation (1) | 0 |
Saturation | Normal |
SaturationAdjustmentAqua | 0 |
SaturationAdjustmentBlue | 0 |
SaturationAdjustmentGreen | 0 |
SaturationAdjustmentMagenta | 0 |
SaturationAdjustmentOrange | 0 |
SaturationAdjustmentPurple | 0 |
SaturationAdjustmentRed | 0 |
SaturationAdjustmentYellow | 0 |
SaturationFaithful | 0 |
SaturationLandscape | 0 |
SaturationNeutral | 0 |
SaturationPortrait | 0 |
SaturationStandard | 0 |
SaturationUserDef1 | 0 |
SaturationUserDef2 | 0 |
SaturationUserDef3 | 0 |
ScaleFactor35efl | 1.6 |
SceneCaptureType | Standard |
SelfTimer | Off |
SensorBlueLevel | 0 |
SensorBottomBorder | 2870 |
SensorHeight | 2876 |
SensorLeftBorder | 32 |
SensorRedLevel | 0 |
SensorRightBorder | 4303 |
SensorTopBorder | 23 |
SensorWidth | 4312 |
SequenceNumber | 0 |
SerialNumber (1) | 330117284 |
SerialNumber | 0330117284 |
SerialNumberFormat | Format 2 |
SetButtonWhenShooting | Normal (disabled) |
Shadows | 0 |
ShadowTint | 0 |
SharpenDetail | 25 |
SharpenEdgeMasking | 0 |
SharpenRadius | +1.0 |
Sharpness (1) | 0 |
Sharpness | 3 |
SharpnessFaithful | 0 |
SharpnessFrequency | n/a |
SharpnessLandscape | 4 |
SharpnessMonochrome | 3 |
SharpnessNeutral | 0 |
SharpnessPortrait | 2 |
SharpnessStandard | 3 |
SharpnessUserDef1 | 3 |
SharpnessUserDef2 | 3 |
SharpnessUserDef3 | 3 |
ShootingMode | Flash Off |
ShutterButtonAFOnButton | Metering + AF start |
ShutterSpeed | 5 |
ShutterSpeedValue | 5.2 |
SlowShutter | None |
SpecularWhiteLevel | 15319 |
SplitToningBalance | 0 |
SplitToningHighlightHue | 0 |
SplitToningHighlightSaturation | 0 |
SplitToningShadowHue | 0 |
SplitToningShadowSaturation | 0 |
SubjectDistance | 4294967295 m |
TargetAperture | 3.6 |
TargetExposureTime | 5 |
ToneCurve (1) | Standard |
ToneCurve | 0, 0, 255, 255 |
ToneCurveName | Linear |
ToningEffectMonochrome | None |
ToningEffectUserDef1 | None |
ToningEffectUserDef2 | None |
ToningEffectUserDef3 | None |
UserDef1PictureStyle | Standard |
UserDef2PictureStyle | Standard |
UserDef3PictureStyle | Standard |
ValidAFPoints | 9 |
Version | 6.6 |
Vibrance | 0 |
VignetteAmount | 0 |
VRDOffset | 0 |
WB_RGGBLevels | 1964 1024 1024 1641 |
WB_RGGBLevelsAsShot | 1964 1024 1024 1641 |
WB_RGGBLevelsAuto | 1964 1024 1024 1641 |
WB_RGGBLevelsCloudy | 2383 1024 1024 1334 |
WB_RGGBLevelsDaylight | 2203 1024 1024 1460 |
WB_RGGBLevelsFlash | 2450 1024 1024 1307 |
WB_RGGBLevelsFluorescent | 1962 1052 1052 2038 |
WB_RGGBLevelsKelvin | 2203 1024 1024 1460 |
WB_RGGBLevelsMeasured | 1962 1024 1023 1637 |
WB_RGGBLevelsShade | 2564 1024 1024 1231 |
WB_RGGBLevelsTungsten | 1661 1101 1101 2318 |
WBBracketMode | Off |
WBBracketValueAB | 0 |
WBBracketValueGM | 0 |
WBShiftAB | 0 |
WBShiftGM | 0 |
WhiteBalance | Auto |
WhiteBalanceBlue | 0 |
WhiteBalanceRed | 0 |
ZoomSourceWidth | 0 |
ZoomTargetWidth | 0 |