Felt | Verdi |
AlreadyApplied | True |
Aperture | 8.0 |
ApertureValue | 8.0 |
BitsPerSample | 8 |
BlueHue | 0 |
BlueSaturation | 0 |
Brightness | 0 |
CameraProfile | Embedded |
ChromaticAberrationB | 0 |
ChromaticAberrationR | 0 |
CircleOfConfusion | 0.005 mm |
Clarity | +45 |
ColorComponents | 3 |
ColorNoiseReduction | 0 |
Contrast | +15 |
ConvertToGrayscale | False |
CreateDate (1) | 2007:10:23 17:40:45+02:00 |
CreateDate | 2007:10:23 17:40:45 |
CreatorTool | Adobe Photoshop Lightroom |
CropAngle | 0 |
CropBottom | 0.965338 |
CropConstrainToWarp | 0 |
CropHeight | 1879 |
CropLeft | 0 |
CropRight | 1 |
CropTop | 0.169844 |
CropUnit | pixels |
CropWidth | 3150 |
CustomRendered | Normal |
DateTimeDigitized | 2007:10:23 17:40:45+02:00 |
DateTimeOriginal (1) | 2007:10:23 17:40:45+02:00 |
DateTimeOriginal | 2007:10:23 17:40:45 |
Defringe | 0 |
DigitalZoomRatio | 1 |
DOF | inf (0.41 m - inf) |
ExifImageHeight | 1879 |
ExifImageWidth | 3150 |
Exposure | -0.20 |
ExposureCompensation | 0 |
ExposureMode | Auto |
ExposureTime | 1/125 |
FillLight | 0 |
Firmware | 1.00 |
Flash | Auto, Did not fire |
FlashCompensation | 0 |
FlashFired | False |
FlashFunction | False |
FlashMode | Auto |
FlashRedEyeMode | False |
FlashReturn | No return detection |
FNumber | 8.0 |
FocalLength | 4.6 mm |
FocalLength35efl | 4.6 mm (35 mm equivalent: 27.8 mm) |
FOV | 65.8 deg |
GradientBasedCorrActive | true |
GradientBasedCorrAmount | 1.000000 |
GradientBasedCorrBrightness | 0.035294 |
GradientBasedCorrClarity | 0.035294 |
GradientBasedCorrContrast | 0.741176 |
GradientBasedCorrExposure | 0.223529 |
GradientBasedCorrHue | 192.000000 |
GradientBasedCorrMaskFullX | 0.585760 |
GradientBasedCorrMaskFullY | 0.669088 |
GradientBasedCorrMaskValue | 1.000000 |
GradientBasedCorrMaskWhat | Mask/Gradient |
GradientBasedCorrMaskZeroX | 0.584952 |
GradientBasedCorrMaskZeroY | 0.533825 |
GradientBasedCorrSaturation (1) | 0.388235 |
GradientBasedCorrSaturation | 0.000000 |
GradientBasedCorrSharpness | 1.000000 |
GradientBasedCorrWhat | Correction |
GrainAmount | 0 |
GreenHue | 0 |
GreenSaturation | 0 |
HasCrop | True |
HasSettings | True |
HighlightRecovery | 93 |
HueAdjustmentAqua | 0 |
HueAdjustmentBlue | 0 |
HueAdjustmentGreen | 0 |
HueAdjustmentMagenta | 0 |
HueAdjustmentOrange | 0 |
HueAdjustmentPurple | 0 |
HueAdjustmentRed | 0 |
HueAdjustmentYellow | 0 |
HyperfocalDistance | 0.53 m |
ImageHeight | 1879 |
ImageSize | 3150x1879 |
ImageWidth | 3150 |
IncrementalTemperature | 0 |
IncrementalTint | 0 |
ISO | 80 |
Lens | 4.6-17.3 mm |
LensInfo | 4.6-17.3mm f/? |
LensManualDistortionAmount | 0 |
LensProfileEnable | 0 |
LensProfileSetup | LensDefaults |
LightValue | 13.3 |
LuminanceAdjustmentAqua | 0 |
LuminanceAdjustmentBlue | 0 |
LuminanceAdjustmentGreen | 0 |
LuminanceAdjustmentMagenta | 0 |
LuminanceAdjustmentOrange | 0 |
LuminanceAdjustmentPurple | 0 |
LuminanceAdjustmentRed | 0 |
LuminanceAdjustmentYellow | 0 |
LuminanceSmoothing | 0 |
Make | Canon |
MaxApertureValue | 2.8 |
Megapixels | 5.9 |
MeteringMode | Multi-segment |
Model | Canon DIGITAL IXUS 860 IS |
ModifyDate (1) | 2012:01:24 13:27:29+01:00 |
ModifyDate | 2012:01:24 13:27:29 |
ParametricDarks | 0 |
ParametricHighlights | 0 |
ParametricHighlightSplit | 75 |
ParametricLights | 0 |
ParametricMidtoneSplit | 50 |
ParametricShadows | 0 |
ParametricShadowSplit | 25 |
PerspectiveHorizontal | 0 |
PerspectiveRotate | 0.0 |
PerspectiveScale | 100 |
PerspectiveVertical | 0 |
PostCropVignetteAmount | 0 |
ProcessVersion | 5.7 |
ProfileDescription | sRGB IEC61966-2.1 |
RedHue | 0 |
RedSaturation | 0 |
Saturation | +11 |
SaturationAdjustmentAqua | 0 |
SaturationAdjustmentBlue | 0 |
SaturationAdjustmentGreen | 0 |
SaturationAdjustmentMagenta | 0 |
SaturationAdjustmentOrange | 0 |
SaturationAdjustmentPurple | 0 |
SaturationAdjustmentRed | 0 |
SaturationAdjustmentYellow | 0 |
ScaleFactor35efl | 6.1 |
SceneCaptureType | Standard |
SensingMethod | One-chip color area |
Shadows | 0 |
ShadowTint | 0 |
SharpenDetail | 25 |
SharpenEdgeMasking | 0 |
SharpenRadius | +1.0 |
Sharpness | 0 |
ShutterSpeed | 1/125 |
ShutterSpeedValue | 1/125 |
SplitToningBalance | 0 |
SplitToningHighlightHue | 0 |
SplitToningHighlightSaturation | 0 |
SplitToningShadowHue | 0 |
SplitToningShadowSaturation | 0 |
SubjectDistance | 1.76 m |
ToneCurve | 0, 0, 255, 255 |
ToneCurveName | Linear |
Version | 6.1 |
Vibrance | +14 |
VignetteAmount | 0 |
WhiteBalance (2) | As Shot |
WhiteBalance | Auto |