Felt | Verdi |
AlreadyApplied | True |
Aperture | 9.9 |
ApertureValue | 9.9 |
BitsPerSample | 8 |
BlueHue | 0 |
BlueSaturation | 0 |
Brightness | 0 |
CameraProfile | Embedded |
ChromaticAberrationB | 0 |
ChromaticAberrationR | 0 |
Clarity | +5 |
ColorComponents | 3 |
ColorNoiseReduction | 68 |
ColorNoiseReductionDetail | 50 |
Contrast | +15 |
ConvertToGrayscale | False |
CreateDate (1) | 2011:04:12 13:19:42+02:00 |
CreateDate | 2011:04:12 13:19:42 |
CreatorTool | Adobe Photoshop Lightroom |
CropAngle | -0.395137 |
CropBottom | 0.658673 |
CropConstrainToWarp | 0 |
CropHeight | 1736 |
CropLeft | 0.111108 |
CropRight | 0.831813 |
CropTop | 0.072413 |
CropUnit | pixels |
CropWidth | 3150 |
DateTimeDigitized | 2011:04:12 13:19:42+02:00 |
DateTimeOriginal (1) | 2011:04:12 13:19:42+02:00 |
DateTimeOriginal | 2011:04:12 13:19:42 |
Defringe | 0 |
ExifImageHeight | 1736 |
ExifImageWidth | 3150 |
Exposure | -0.35 |
ExposureCompensation | 0 |
ExposureProgram | Manual |
ExposureTime | 1/80 |
FillLight | 15 |
Flash | Off, Did not fire |
FlashFired | False |
FlashFunction | False |
FlashMode | Off |
FlashRedEyeMode | False |
FlashReturn | No return detection |
FNumber | 9.9 |
FocalLength | 18.0 mm |
FocalLength35efl | 18.0 mm |
GradientBasedCorrActive | true |
GradientBasedCorrAmount | 1.000000 |
GradientBasedCorrBrightness | 0.035294 |
GradientBasedCorrClarity | 0.035294 |
GradientBasedCorrContrast | 0.035294 |
GradientBasedCorrExposure | -0.788235 |
GradientBasedCorrHue | 192.000000 |
GradientBasedCorrMaskFullX | 0.458951 |
GradientBasedCorrMaskFullY | 0.701647 |
GradientBasedCorrMaskValue | 1.000000 |
GradientBasedCorrMaskWhat | Mask/Gradient |
GradientBasedCorrMaskZeroX | 0.458057 |
GradientBasedCorrMaskZeroY | 0.507210 |
GradientBasedCorrSaturation (1) | 1.000000 |
GradientBasedCorrSaturation | 0.000000 |
GradientBasedCorrSharpness | 1.000000 |
GradientBasedCorrWhat | Correction |
GrainAmount | 0 |
GreenHue | 0 |
GreenSaturation | 0 |
HasCrop | True |
HasSettings | True |
HighlightRecovery | 8 |
HueAdjustmentAqua | 0 |
HueAdjustmentBlue | 0 |
HueAdjustmentGreen | 0 |
HueAdjustmentMagenta | 0 |
HueAdjustmentOrange | 0 |
HueAdjustmentPurple | 0 |
HueAdjustmentRed | 0 |
HueAdjustmentYellow | 0 |
ImageHeight | 1736 |
ImageSize | 3150x1736 |
ImageWidth | 3150 |
IncrementalTemperature | 0 |
IncrementalTint | 0 |
ISO | 100 |
LensManualDistortionAmount | 0 |
LensProfileEnable | 0 |
LensProfileSetup | LensDefaults |
LightValue | 12.9 |
LuminanceAdjustmentAqua | 0 |
LuminanceAdjustmentBlue | 0 |
LuminanceAdjustmentGreen | 0 |
LuminanceAdjustmentMagenta | 0 |
LuminanceAdjustmentOrange | 0 |
LuminanceAdjustmentPurple | 0 |
LuminanceAdjustmentRed | 0 |
LuminanceAdjustmentYellow | 0 |
LuminanceNoiseReductionContrast | 31 |
LuminanceNoiseReductionDetail | 50 |
LuminanceSmoothing | 41 |
Make | Canon |
Megapixels | 5.5 |
MeteringMode | Multi-segment |
Model | Canon EOS 7D |
ModifyDate (1) | 2011:12:14 23:23:56+01:00 |
ModifyDate | 2011:12:14 23:23:56 |
ParametricDarks | 0 |
ParametricHighlights | 0 |
ParametricHighlightSplit | 75 |
ParametricLights | 0 |
ParametricMidtoneSplit | 50 |
ParametricShadows | 0 |
ParametricShadowSplit | 25 |
PerspectiveHorizontal | 0 |
PerspectiveRotate | 0.0 |
PerspectiveScale | 100 |
PerspectiveVertical | 0 |
PostCropVignetteAmount | 0 |
ProcessVersion | 5.7 |
ProfileDescription | sRGB IEC61966-2.1 |
RedHue | 0 |
RedSaturation | 0 |
Saturation | +36 |
SaturationAdjustmentAqua | 0 |
SaturationAdjustmentBlue | 0 |
SaturationAdjustmentGreen | 0 |
SaturationAdjustmentMagenta | 0 |
SaturationAdjustmentOrange | 0 |
SaturationAdjustmentPurple | 0 |
SaturationAdjustmentRed | 0 |
SaturationAdjustmentYellow | 0 |
Shadows | 2 |
ShadowTint | 0 |
SharpenDetail | 25 |
SharpenEdgeMasking | 0 |
SharpenRadius | +1.0 |
Sharpness | 0 |
ShutterSpeed | 1/80 |
ShutterSpeedValue | 1/80 |
Software | QuickTime 7.6.6 |
SplitToningBalance | 0 |
SplitToningHighlightHue | 0 |
SplitToningHighlightSaturation | 0 |
SplitToningShadowHue | 0 |
SplitToningShadowSaturation | 0 |
ToneCurve | 0, 0, 255, 255 |
ToneCurveName | Linear |
Version | 6.1 |
Vibrance | +45 |
VignetteAmount | 0 |
WhiteBalance | As Shot |