Felt | Verdi |
AlreadyApplied | True |
Aperture | 4.5 |
ApertureValue | 4.5 |
ApproximateFocusDistance | 49.7 |
BitsPerSample | 8 |
BlueHue | 0 |
BlueSaturation | 0 |
Brightness | +48 |
CameraProfile | Adobe Standard |
ChromaticAberrationB | 0 |
ChromaticAberrationR | 0 |
CircleOfConfusion | 0.031 mm |
Clarity | +32 |
ColorComponents | 3 |
ColorMode | RGB |
ColorNoiseReduction | 31 |
ColorNoiseReductionDetail | 50 |
ColorSpace | Uncalibrated |
ColorTemperature | 5400 |
Contrast | +50 |
ConvertToGrayscale | False |
CreateDate (1) | 2011:09:08 04:24:52.85 |
CreateDate | 2011:09:08 04:24:52 |
CustomRendered | Normal |
DateCreated (1) | 2011:09:08 |
DateCreated | 2011:09:08 04:24:52.085 |
DateTimeOriginal | 2011:09:08 04:24:52 |
Defringe | 0 |
DOF | 2.16 m (48.64 - 50.80 m) |
ExifImageHeight | 3543 |
ExifImageWidth | 2362 |
Exposure | -0.25 |
ExposureCompensation | 0 |
ExposureMode | Auto |
ExposureProgram | Shutter speed priority AE |
ExposureTime | 1/200 |
FillLight | 16 |
Firmware | 2.0.8 |
Flash | Off, Did not fire |
FlashCompensation | 0 |
FNumber | 4.5 |
FocalLength | 560.0 mm |
FocalLength35efl | 560.0 mm (35 mm equivalent: 546.5 mm) |
Format | image/jpeg |
FOV | 3.8 deg |
GrainAmount | 0 |
GreenHue | 0 |
GreenSaturation | 0 |
HasCrop | False |
HasSettings | True |
HighlightRecovery | 18 |
HueAdjustmentAqua | 0 |
HueAdjustmentBlue | 0 |
HueAdjustmentGreen | 0 |
HueAdjustmentMagenta | 0 |
HueAdjustmentOrange | 0 |
HueAdjustmentPurple | 0 |
HueAdjustmentRed | 0 |
HueAdjustmentYellow | 0 |
HyperfocalDistance | 2263.58 m |
ICCProfileName | Adobe RGB (1998) |
ImageHeight | 3543 |
ImageNumber | 0 |
ImageSize | 2362x3543 |
ImageWidth | 2362 |
ISO | 3200 |
Lens | EF400mm f/2.8L IS USM +1.4x |
LensID (1) | 184 |
LensID | Canon EF 400mm f/2.8L USM + 2x |
LensInfo | 560mm f/? |
LensManualDistortionAmount | 0 |
LensModel | EF400mm f/2.8L IS USM +1.4x |
LensProfileChromaticAberrationScale | 100 |
LensProfileDistortionScale | 100 |
LensProfileEnable | 1 |
LensProfileFilename | Canon EOS 5D Mark II (Canon EF 400mm f2.8 L IS USM) - RAW.lcp |
LensProfileName | Adobe (Canon EF 400mm f/2.8 L IS USM) |
LensProfileSetup | Custom |
LensProfileVignettingScale | 100 |
LightValue | 7.0 |
LuminanceAdjustmentAqua | 0 |
LuminanceAdjustmentBlue | 0 |
LuminanceAdjustmentGreen | 0 |
LuminanceAdjustmentMagenta | 0 |
LuminanceAdjustmentOrange | 0 |
LuminanceAdjustmentPurple | 0 |
LuminanceAdjustmentRed | 0 |
LuminanceAdjustmentYellow | 0 |
LuminanceNoiseReductionContrast | 0 |
LuminanceNoiseReductionDetail | 50 |
LuminanceSmoothing | 18 |
Make | Canon |
MaxApertureValue | 4.0 |
Megapixels | 8.4 |
MeteringMode | Multi-segment |
Model | Canon EOS 5D Mark II |
ModifyDate (1) | 2011:09:11 22:21:14+02:00 |
ModifyDate | 2011:09:11 22:21:14 |
Orientation | Horizontal (normal) |
ParametricDarks | -7 |
ParametricHighlights | +16 |
ParametricHighlightSplit | 75 |
ParametricLights | +13 |
ParametricMidtoneSplit | 50 |
ParametricShadows | 0 |
ParametricShadowSplit | 25 |
PerspectiveHorizontal | 0 |
PerspectiveRotate | 0.0 |
PerspectiveScale | 100 |
PerspectiveVertical | 0 |
PostCropVignetteAmount | 0 |
ProcessVersion | 5.7 |
ProfileDescription | Adobe RGB (1998) |
Rating | 0 |
RawFileName | _MG_4793 - Kopi.CR2 |
RedHue | 0 |
RedSaturation | 0 |
Saturation | 0 |
SaturationAdjustmentAqua | 0 |
SaturationAdjustmentBlue | 0 |
SaturationAdjustmentGreen | 0 |
SaturationAdjustmentMagenta | 0 |
SaturationAdjustmentOrange | 0 |
SaturationAdjustmentPurple | 0 |
SaturationAdjustmentRed | 0 |
SaturationAdjustmentYellow | 0 |
ScaleFactor35efl | 1.0 |
SceneCaptureType | Standard |
SerialNumber | 1430808094 |
Shadows | 6 |
ShadowTint | 0 |
SharpenDetail | 38 |
SharpenEdgeMasking | 20 |
SharpenRadius | +2.0 |
Sharpness | 41 |
ShutterSpeed | 1/200 |
ShutterSpeedValue | 1/200 |
Software | Adobe Photoshop CS5 Windows |
SplitToningBalance | 0 |
SplitToningHighlightHue | 0 |
SplitToningHighlightSaturation | 0 |
SplitToningShadowHue | 0 |
SplitToningShadowSaturation | 0 |
SubjectDistance | 49.7 m |
Tint | +12 |
ToneCurve | 0, 0, 32, 22, 64, 56, 128, 128, 192, 196, 255, 255 |
ToneCurveName | Medium Contrast |
URL_List | |
Version | 6.4.1 |
Vibrance | 0 |
VignetteAmount | 0 |
WhiteBalance (1) | Custom |
WhiteBalance | Auto |