Felt | Verdi |
AlreadyApplied | True |
Aperture | 1.4 |
ApertureValue | 1.4 |
BitsPerSample | 8 |
BlueHue | 0 |
BlueSaturation | 0 |
Brightness | +50 |
CameraProfile | Adobe Standard |
CFAPattern | [Green,Blue][Red,Green] |
ChromaticAberrationB | 0 |
ChromaticAberrationR | 0 |
CircleOfConfusion | 0.020 mm |
Clarity | +19 |
ColorComponents | 3 |
ColorMode | RGB |
ColorNoiseReduction | 25 |
ColorSpace | Uncalibrated |
ColorTemperature | 2952 |
Contrast (1) | +64 |
Contrast | Normal |
ConvertToGrayscale | False |
CreateDate (1) | 2011:05:05 21:28:23.00+02:00 |
CreateDate | 2011:05:05 21:28:23 |
CreatorTool | Adobe Photoshop CS5 Windows |
CropAngle | 0 |
CropBottom | 1 |
CropLeft | 0 |
CropRight | 1 |
CropTop | 0 |
CustomRendered | Normal |
DateCreated (1) | 2011:05:05 |
DateCreated | 2011:05:05 21:28:23 |
DateTimeOriginal | 2011:05:05 21:28:23 |
Defringe | 0 |
DigitalZoomRatio | 1 |
DOF | 0.56 m (4.75 - 5.31 m) |
ExifImageHeight | 664 |
ExifImageWidth | 1000 |
Exposure | +0.48 |
ExposureCompensation | -1/3 |
ExposureMode | Manual |
ExposureProgram | Manual |
ExposureTime | 1/50 |
FillLight | 11 |
Flash | No Flash |
FNumber | 1.4 |
FocalLength | 50.0 mm |
FocalLength35efl | 50.0 mm (35 mm equivalent: 75.0 mm) |
FocalLengthIn35mmFormat | 75 mm |
Format | image/jpeg |
FOV | 27.0 deg |
GainControl | Low gain up |
GradientBasedCorrActive | true |
GradientBasedCorrAmount | 1.000000 |
GradientBasedCorrBrightness (2) | 0.025000 |
GradientBasedCorrBrightness | 0.000000 |
GradientBasedCorrClarity (1) | 0.400000 |
GradientBasedCorrClarity (2) | 0.325000 |
GradientBasedCorrClarity | 0.000000 |
GradientBasedCorrContrast (1) | -0.200000 |
GradientBasedCorrContrast (2) | -0.225000 |
GradientBasedCorrContrast | 0.000000 |
GradientBasedCorrExposure (1) | 0.050000 |
GradientBasedCorrExposure (2) | 0.125000 |
GradientBasedCorrExposure | -0.175000 |
GradientBasedCorrHue (1) | 24.000000 |
GradientBasedCorrHue | 53.000000 |
GradientBasedCorrMaskFullX (1) | 0.426767 |
GradientBasedCorrMaskFullX (2) | 0.641414 |
GradientBasedCorrMaskFullX | 0.862441 |
GradientBasedCorrMaskFullY (1) | 0.307984 |
GradientBasedCorrMaskFullY (2) | 0.162231 |
GradientBasedCorrMaskFullY | 0.696250 |
GradientBasedCorrMaskValue | 1.000000 |
GradientBasedCorrMaskWhat | Mask/Gradient |
GradientBasedCorrMaskZeroX (1) | 0.552308 |
GradientBasedCorrMaskZeroX (2) | 0.644484 |
GradientBasedCorrMaskZeroX | 0.717747 |
GradientBasedCorrMaskZeroY (1) | 0.547140 |
GradientBasedCorrMaskZeroY (2) | 0.733733 |
GradientBasedCorrMaskZeroY | 0.296011 |
GradientBasedCorrSaturation | 0.000000 |
GradientBasedCorrSharpness | 0.000000 |
GradientBasedCorrWhat | Correction |
GrainAmount | 0 |
GreenHue | 0 |
GreenSaturation | 0 |
HasCrop | True |
HasSettings | True |
HighlightRecovery | 0 |
HueAdjustmentAqua | 0 |
HueAdjustmentBlue | 0 |
HueAdjustmentGreen | 0 |
HueAdjustmentMagenta | 0 |
HueAdjustmentOrange | -7 |
HueAdjustmentPurple | 0 |
HueAdjustmentRed | 0 |
HueAdjustmentYellow | -1 |
HyperfocalDistance | 89.15 m |
ICCProfileName | Adobe RGB (1998) |
ImageHeight | 664 |
ImageNumber | 12540 |
ImageSize | 1000x664 |
ImageWidth | 1000 |
ISO | 640 |
Lens | 50.0 mm f/1.4 |
LensID (1) | 67 |
LensID | AF Nikkor 50mm f/1.4D |
LensInfo | 50mm f/1.4 |
LightSource | Unknown |
LightValue | 3.9 |
LuminanceAdjustmentAqua | 0 |
LuminanceAdjustmentBlue | 0 |
LuminanceAdjustmentGreen | 0 |
LuminanceAdjustmentMagenta | 0 |
LuminanceAdjustmentOrange | 0 |
LuminanceAdjustmentPurple | 0 |
LuminanceAdjustmentRed | 0 |
LuminanceAdjustmentYellow | 0 |
LuminanceSmoothing | 71 |
Make | NIKON CORPORATION |
MaxApertureValue | 1.4 |
Megapixels | 0.664 |
MeteringMode | Spot |
Model | NIKON D90 |
ModifyDate (1) | 2011:05:10 21:11:41+02:00 |
ModifyDate | 2011:05:10 21:11:41 |
Orientation | Horizontal (normal) |
PaintCorrectionActive | true |
PaintCorrectionAmount | 1.000000 |
PaintCorrectionBrightness | 0.000000 |
PaintCorrectionClarity | 0.000000 |
PaintCorrectionContrast (2) | 0.000000 |
PaintCorrectionContrast | -0.300000 |
PaintCorrectionExposure (3) | -0.075000 |
PaintCorrectionExposure | 0.050000 |
PaintCorrectionHue | 53.000000 |
PaintCorrectionMaskCenterWeight | 0.000000 |
PaintCorrectionMaskFlow | 0.641000 |
PaintCorrectionMaskRadius (10) | 0.095612 |
PaintCorrectionMaskRadius (26) | 0.049678 |
PaintCorrectionMaskRadius (4) | 0.126305 |
PaintCorrectionMaskRadius | 0.013763 |
PaintCorrectionMaskValue | 1.000000 |
PaintCorrectionMaskWhat | Mask/Paint |
PaintCorrectionSaturation | 0.000000 |
PaintCorrectionSharpness | 0.000000 |
PaintCorrectionWhat | Correction |
ParametricDarks | 0 |
ParametricHighlights | 0 |
ParametricHighlightSplit | 75 |
ParametricLights | 0 |
ParametricMidtoneSplit | 50 |
ParametricShadows | 0 |
ParametricShadowSplit | 25 |
PostCropVignetteAmount | 0 |
ProcessVersion | 5.0 |
ProfileDescription | Adobe RGB (1998) |
Rating | 0 |
RawFileName | _DSC2465.NEF |
RedHue | 0 |
RedSaturation | 0 |
Saturation (1) | 0 |
Saturation | Normal |
SaturationAdjustmentAqua | 0 |
SaturationAdjustmentBlue | 0 |
SaturationAdjustmentGreen | 0 |
SaturationAdjustmentMagenta | 0 |
SaturationAdjustmentOrange | -24 |
SaturationAdjustmentPurple | 0 |
SaturationAdjustmentRed | -3 |
SaturationAdjustmentYellow | 0 |
ScaleFactor35efl | 1.5 |
SceneCaptureType | Standard |
SceneType | Directly photographed |
SensingMethod | One-chip color area |
SerialNumber | 6336187 |
Shadows | 5 |
ShadowTint | 0 |
SharpenDetail | 25 |
SharpenEdgeMasking | 0 |
SharpenRadius | +1.0 |
Sharpness (1) | 25 |
Sharpness | Normal |
ShutterSpeed | 1/50 |
ShutterSpeedValue | 1/50 |
Software | Adobe Photoshop CS5 Windows |
SplitToningBalance | 0 |
SplitToningHighlightHue | 0 |
SplitToningHighlightSaturation | 0 |
SplitToningShadowHue | 0 |
SplitToningShadowSaturation | 0 |
SubjectDistance | 5.01 m |
SubjectDistanceRange | Unknown |
Tint | -7 |
ToneCurve | 0, 0, 32, 22, 64, 56, 128, 128, 192, 196, 255, 255 |
ToneCurveName | Medium Contrast |
URL_List | |
Version | 6.0 |
Vibrance | 0 |
VignetteAmount | -29 |
VignetteMidpoint | 32 |
WhiteBalance (1) | Custom |
WhiteBalance | Auto |