Felt | Verdi |
AlreadyApplied | True |
Aperture | 3.5 |
ApertureValue | 3.5 |
BitsPerSample | 8 |
BlueHue | 0 |
BlueSaturation | 0 |
Brightness | +50 |
CameraProfile | Adobe Standard |
CFAPattern | [Green,Blue][Red,Green] |
ChromaticAberrationB | 0 |
ChromaticAberrationR | 0 |
CircleOfConfusion | 0.020 mm |
Clarity | -40 |
ColorComponents | 3 |
ColorNoiseReduction | 25 |
ColorSpace | Uncalibrated |
ColorTemperature | 5214 |
Contrast (1) | -21 |
Contrast | Normal |
ConvertToGrayscale | False |
CreateDate | 2011:02:25 11:18:34 |
CropAngle | 0 |
CropBottom | 1 |
CropLeft | 0 |
CropRight | 1 |
CropTop | 0 |
CustomRendered | Normal |
DateCreated | 2011:02:25 |
DateTimeOriginal | 2011:02:25 11:18:34 |
Defringe | 0 |
DigitalZoomRatio | 1 |
DOF | inf (320.93 m - inf) |
ExifImageHeight | 679 |
ExifImageWidth | 1000 |
Exposure | -0.19 |
ExposureCompensation | +1/3 |
ExposureMode | Manual |
ExposureProgram | Manual |
ExposureTime | 1/4000 |
FillLight | 0 |
Flash | No Flash |
FNumber | 3.5 |
FocalLength | 150.0 mm |
FocalLength35efl | 150.0 mm (35 mm equivalent: 225.0 mm) |
FocalLengthIn35mmFormat | 225 mm |
FOV | 9.1 deg |
GainControl | None |
GradientBasedCorrActive | true |
GradientBasedCorrAmount | 1.000000 |
GradientBasedCorrBrightness | 0.000000 |
GradientBasedCorrClarity (1) | 0.850000 |
GradientBasedCorrClarity (2) | -0.325000 |
GradientBasedCorrClarity | 0.000000 |
GradientBasedCorrContrast (1) | 0.525000 |
GradientBasedCorrContrast (2) | 0.625000 |
GradientBasedCorrContrast | -0.100000 |
GradientBasedCorrExposure (2) | 0.000000 |
GradientBasedCorrExposure | -0.050000 |
GradientBasedCorrHue (2) | 106.000000 |
GradientBasedCorrHue | 230.000000 |
GradientBasedCorrMaskFullX (1) | 0.507209 |
GradientBasedCorrMaskFullX (2) | 0.501073 |
GradientBasedCorrMaskFullX | 0.105939 |
GradientBasedCorrMaskFullY (1) | 0.070961 |
GradientBasedCorrMaskFullY (2) | 0.690770 |
GradientBasedCorrMaskFullY | 0.023511 |
GradientBasedCorrMaskValue | 1.000000 |
GradientBasedCorrMaskWhat | Mask/Gradient |
GradientBasedCorrMaskZeroX (1) | 0.502893 |
GradientBasedCorrMaskZeroX (2) | 0.496341 |
GradientBasedCorrMaskZeroX | 0.258539 |
GradientBasedCorrMaskZeroY (1) | 0.509521 |
GradientBasedCorrMaskZeroY (2) | 0.376405 |
GradientBasedCorrMaskZeroY | 0.475855 |
GradientBasedCorrSaturation (1) | 0.650000 |
GradientBasedCorrSaturation (2) | 0.120000 |
GradientBasedCorrSaturation (3) | 0.475000 |
GradientBasedCorrSaturation (4) | 0.165000 |
GradientBasedCorrSaturation | 0.000000 |
GradientBasedCorrSharpness | 0.000000 |
GradientBasedCorrWhat | Correction |
GrainAmount | 0 |
GreenHue | 0 |
GreenSaturation | 0 |
HasCrop | True |
HasSettings | True |
HighlightRecovery | 10 |
HueAdjustmentAqua | 0 |
HueAdjustmentBlue | 0 |
HueAdjustmentGreen | 0 |
HueAdjustmentMagenta | 0 |
HueAdjustmentOrange | 0 |
HueAdjustmentPurple | 0 |
HueAdjustmentRed | 0 |
HueAdjustmentYellow | 0 |
HyperfocalDistance | 320.93 m |
ImageHeight | 679 |
ImageSize | 1000x679 |
ImageWidth | 1000 |
ISO | 200 |
LightSource | Unknown |
LightValue | 14.6 |
LuminanceAdjustmentAqua | -17 |
LuminanceAdjustmentBlue | -29 |
LuminanceAdjustmentGreen | 0 |
LuminanceAdjustmentMagenta | 0 |
LuminanceAdjustmentOrange | 0 |
LuminanceAdjustmentPurple | -4 |
LuminanceAdjustmentRed | 0 |
LuminanceAdjustmentYellow | 0 |
LuminanceSmoothing | 0 |
Make | NIKON CORPORATION |
MaxApertureValue | 2.8 |
Megapixels | 0.679 |
MeteringMode | Spot |
Model | NIKON D90 |
ModifyDate | 2011:03:03 21:28:11 |
Orientation | Horizontal (normal) |
PaintCorrectionActive | true |
PaintCorrectionAmount | 1.000000 |
PaintCorrectionBrightness | 0.000000 |
PaintCorrectionClarity (1) | -0.560000 |
PaintCorrectionClarity (2) | -0.400000 |
PaintCorrectionClarity (3) | -0.425000 |
PaintCorrectionClarity | 0.700000 |
PaintCorrectionContrast (1) | 0.000000 |
PaintCorrectionContrast (3) | 0.325000 |
PaintCorrectionContrast | 0.250000 |
PaintCorrectionExposure (1) | 0.000000 |
PaintCorrectionExposure | -0.075000 |
PaintCorrectionHue | 230.000000 |
PaintCorrectionMaskCenterWeight | 0.000000 |
PaintCorrectionMaskFlow | 0.641000 |
PaintCorrectionMaskRadius (15) | 0.082313 |
PaintCorrectionMaskRadius (21) | 0.020722 |
PaintCorrectionMaskRadius (3) | 0.045610 |
PaintCorrectionMaskRadius | 0.074551 |
PaintCorrectionMaskValue | 1.000000 |
PaintCorrectionMaskWhat | Mask/Paint |
PaintCorrectionSaturation (1) | -0.665000 |
PaintCorrectionSaturation (2) | 0.167999 |
PaintCorrectionSaturation (3) | 0.125000 |
PaintCorrectionSaturation (7) | 0.000000 |
PaintCorrectionSaturation | 0.120000 |
PaintCorrectionSharpness | 0.000000 |
PaintCorrectionWhat | Correction |
ParametricDarks | 0 |
ParametricHighlights | 0 |
ParametricHighlightSplit | 75 |
ParametricLights | 0 |
ParametricMidtoneSplit | 50 |
ParametricShadows | 0 |
ParametricShadowSplit | 25 |
PostCropVignetteAmount | 0 |
ProcessVersion | 5.0 |
ProfileDescription | Adobe RGB (1998) |
RawFileName | _DSC0428.NEF |
RedHue | 0 |
RedSaturation | 0 |
Saturation (1) | 0 |
Saturation | Normal |
SaturationAdjustmentAqua | +24 |
SaturationAdjustmentBlue | +36 |
SaturationAdjustmentGreen | -19 |
SaturationAdjustmentMagenta | 0 |
SaturationAdjustmentOrange | 0 |
SaturationAdjustmentPurple | +1 |
SaturationAdjustmentRed | 0 |
SaturationAdjustmentYellow | 0 |
ScaleFactor35efl | 1.5 |
SceneCaptureType | Standard |
SceneType | Directly photographed |
SensingMethod | One-chip color area |
Shadows | 5 |
ShadowTint | 0 |
SharpenDetail | 25 |
SharpenEdgeMasking | 0 |
SharpenRadius | +1.0 |
Sharpness (1) | 25 |
Sharpness | Normal |
ShutterSpeed | 1/4000 |
ShutterSpeedValue | 1/4000 |
Software | Adobe Photoshop CS5 Windows |
SplitToningBalance | 0 |
SplitToningHighlightHue | 0 |
SplitToningHighlightSaturation | 0 |
SplitToningShadowHue | 0 |
SplitToningShadowSaturation | 0 |
SubjectDistance | 4294967295 m |
SubjectDistanceRange | Unknown |
Tint | -18 |
ToneCurve | 0, 0, 32, 22, 64, 56, 128, 128, 192, 196, 255, 255 |
ToneCurveName | Medium Contrast |
URL_List | |
Version | 6.0 |
Vibrance | 0 |
VignetteAmount | -50 |
VignetteMidpoint | 13 |
WhiteBalance (1) | Custom |
WhiteBalance | Auto |