Felt | Verdi |
AlreadyApplied | True |
Aperture | 7.1 |
ApertureValue | 7.1 |
ApproximateFocusDistance | 4294967295 |
Artist | CARL-S.JENSSEN carl-je@online.no |
BitsPerSample | 8 |
BlueHue | 0 |
BlueSaturation | 0 |
Brightness | +50 |
By-line | CARL-S.JENSSEN carl-je@online.no |
CameraProfile | Adobe Standard |
CFAPattern | [Red,Green][Green,Blue] |
ChromaticAberrationB | 0 |
ChromaticAberrationR | 0 |
CircleOfConfusion | 0.030 mm |
Clarity | +41 |
ColorComponents | 3 |
ColorNoiseReduction | 25 |
ColorNoiseReductionDetail | 50 |
ColorTemperature | 5250 |
Contrast (2) | +59 |
Contrast | Normal |
ConvertToGrayscale | False |
Copyright | Carl-Steinar Jenssen |
CopyrightNotice | Carl-Steinar Jenssen |
CreateDate (1) | 2011:02:12 14:16:22.96+01:00 |
CreateDate | 2011:02:12 14:16:22 |
Creator | CARL-S.JENSSEN carl-je@online.no |
CreatorTool | Adobe Photoshop Lightroom 3.3 |
CropAngle | 0 |
CropBottom | 0.893246 |
CropConstrainToWarp | 0 |
CropHeight | 1489 |
CropLeft | 0 |
CropRight | 1 |
CropTop | 0 |
CropUnit | pixels |
CropWidth | 2500 |
CustomRendered | Normal |
DateTimeDigitized | 2011:02:12 14:16:22.96+01:00 |
DateTimeOriginal (1) | 2011:02:12 14:16:22.96+01:00 |
DateTimeOriginal | 2011:02:12 14:16:22 |
Defringe | 0 |
DigitalZoomRatio | 1 |
DOF | inf (51.68 m - inf) |
ExifImageHeight | 1489 |
ExifImageWidth | 2500 |
Exposure | 0.00 |
ExposureCompensation | 0 |
ExposureMode | Auto |
ExposureProgram | Aperture-priority AE |
ExposureTime | 1/400 |
FillLight | 0 |
Flash | No Flash |
FlashFired | False |
FlashFunction | False |
FlashMode | Unknown |
FlashRedEyeMode | False |
FlashReturn | No return detection |
FNumber | 7.1 |
FocalLength | 105.0 mm |
FocalLength35efl | 105.0 mm (35 mm equivalent: 105.0 mm) |
FocalLengthIn35mmFormat | 105 mm |
FOV | 19.5 deg |
GainControl | None |
GradientBasedCorrActive | true |
GradientBasedCorrAmount | 1.000000 |
GradientBasedCorrBrightness | 0.000000 |
GradientBasedCorrClarity | 0.105882 |
GradientBasedCorrContrast (1) | 0.458824 |
GradientBasedCorrContrast (2) | 0.552941 |
GradientBasedCorrContrast | 1.000000 |
GradientBasedCorrExposure (1) | -0.341176 |
GradientBasedCorrExposure | -0.223529 |
GradientBasedCorrHue | 0.000000 |
GradientBasedCorrMaskFullX (1) | 0.446174 |
GradientBasedCorrMaskFullX (2) | 0.505837 |
GradientBasedCorrMaskFullX | 0.481193 |
GradientBasedCorrMaskFullY (1) | 0.000000 |
GradientBasedCorrMaskFullY (2) | 0.895192 |
GradientBasedCorrMaskFullY | 0.000973 |
GradientBasedCorrMaskValue | 1.000000 |
GradientBasedCorrMaskWhat | Mask/Gradient |
GradientBasedCorrMaskZeroX (1) | 0.439689 |
GradientBasedCorrMaskZeroX (2) | 0.504540 |
GradientBasedCorrMaskZeroX | 0.480545 |
GradientBasedCorrMaskZeroY (1) | 0.750210 |
GradientBasedCorrMaskZeroY (2) | 0.756048 |
GradientBasedCorrMaskZeroY | 0.826107 |
GradientBasedCorrSaturation (1) | 0.858824 |
GradientBasedCorrSaturation | 0.000000 |
GradientBasedCorrSharpness | 0.000000 |
GradientBasedCorrWhat | Correction |
GrainAmount | 0 |
GreenHue | 0 |
GreenSaturation | 0 |
HasCrop | True |
HasSettings | True |
HighlightRecovery | 0 |
HueAdjustmentAqua | 0 |
HueAdjustmentBlue | 0 |
HueAdjustmentGreen | 0 |
HueAdjustmentMagenta | 0 |
HueAdjustmentOrange | 0 |
HueAdjustmentPurple | 0 |
HueAdjustmentRed | 0 |
HueAdjustmentYellow | 0 |
HyperfocalDistance | 51.68 m |
ImageHeight | 1489 |
ImageNumber | 16136 |
ImageSize | 2500x1489 |
ImageWidth | 2500 |
ISO | 200 |
Lens | 28.0-300.0 mm f/3.5-5.6 |
LensID (1) | 165 |
LensID | AF-S Nikkor 28-300mm f/3.5-5.6G ED VR |
LensInfo | 28-300mm f/3.5-5.6 |
LensManualDistortionAmount | 0 |
LensModel | 28.0-300.0 mm f/3.5-5.6 |
LensProfileEnable | 0 |
LensProfileSetup | LensDefaults |
LightSource | Unknown |
LightValue | 13.3 |
LuminanceAdjustmentAqua | 0 |
LuminanceAdjustmentBlue | 0 |
LuminanceAdjustmentGreen | 0 |
LuminanceAdjustmentMagenta | 0 |
LuminanceAdjustmentOrange | 0 |
LuminanceAdjustmentPurple | 0 |
LuminanceAdjustmentRed | 0 |
LuminanceAdjustmentYellow | 0 |
LuminanceSmoothing | 0 |
Make | NIKON CORPORATION |
MaxApertureValue | 5.5 |
Megapixels | 3.7 |
MeteringMode | Multi-segment |
Model | NIKON D3X |
ModifyDate (1) | 2011:02:13 19:36:41+01:00 |
ModifyDate | 2011:02:13 19:36:41 |
ParametricDarks | 0 |
ParametricHighlights | 0 |
ParametricHighlightSplit | 75 |
ParametricLights | 0 |
ParametricMidtoneSplit | 50 |
ParametricShadows | 0 |
ParametricShadowSplit | 25 |
PerspectiveHorizontal | 0 |
PerspectiveRotate | 0.0 |
PerspectiveScale | 100 |
PerspectiveVertical | 0 |
PostCropVignetteAmount | 0 |
ProcessVersion | 5.7 |
ProfileDescription | sRGB IEC61966-2.1 |
RedHue | 0 |
RedSaturation | 0 |
Rights | Carl-Steinar Jenssen |
Saturation (2) | 0 |
Saturation | Normal |
SaturationAdjustmentAqua | 0 |
SaturationAdjustmentBlue | 0 |
SaturationAdjustmentGreen | 0 |
SaturationAdjustmentMagenta | 0 |
SaturationAdjustmentOrange | 0 |
SaturationAdjustmentPurple | 0 |
SaturationAdjustmentRed | 0 |
SaturationAdjustmentYellow | 0 |
ScaleFactor35efl | 1.0 |
SceneCaptureType | Standard |
SceneType | Directly photographed |
SensingMethod | One-chip color area |
SensitivityType | Unknown |
SerialNumber | 5002165 |
Shadows | 5 |
ShadowTint | 0 |
SharpenDetail | 25 |
SharpenEdgeMasking | 14 |
SharpenRadius | +1.0 |
Sharpness (2) | 102 |
Sharpness | Normal |
ShutterSpeed | 1/400 |
ShutterSpeedValue | 1/400 |
Software | Ver.1.01 |
SplitToningBalance | 0 |
SplitToningHighlightHue | 0 |
SplitToningHighlightSaturation | 0 |
SplitToningShadowHue | 0 |
SplitToningShadowSaturation | 0 |
SubjectDistance | 4294967295 m |
SubjectDistanceRange | Unknown |
Tint | -2 |
ToneCurve | 0, 0, 32, 22, 64, 56, 128, 128, 192, 196, 255, 255 |
ToneCurveName | Medium Contrast |
Version | 6.3 |
Vibrance | +23 |
VignetteAmount | 0 |
WhiteBalance (2) | As Shot |
WhiteBalance | Auto |