Felt | Verdi |
AlreadyApplied | True |
Aperture | 16.0 |
ApertureValue | 16.0 |
ApproximateFocusDistance | 5.5 |
BitsPerSample | 8 |
BlueBalance | 0.350205 |
BlueHue | 0 |
BlueSaturation | 0 |
Brightness | +50 |
CameraProfile | Adobe Standard |
ChromaticAberrationB | 0 |
ChromaticAberrationR | 0 |
CircleOfConfusion | 0.021 mm |
Clarity | 0 |
ColorComponents | 3 |
ColorNoiseReduction | 25 |
ColorNoiseReductionDetail | 50 |
ColorTemperature | 3000 |
Contrast (2) | +25 |
Contrast | Normal |
ConvertToGrayscale | False |
CreateDate (1) | 2011:01:19 18:58:51+01:00 |
CreateDate | 2011:01:19 18:58:51 |
CreatorTool | Adobe Photoshop Lightroom 3.3 |
CropAngle | 2.41103 |
CropBottom | 0.609839 |
CropConstrainToWarp | 0 |
CropHeight | 1541 |
CropLeft | 0.069159 |
CropRight | 0.978306 |
CropTop | 0.012432 |
CropUnit | pixels |
CropWidth | 3952 |
CustomRendered | Normal |
DateTimeDigitized | 2011:01:19 18:58:51+01:00 |
DateTimeOriginal (1) | 2011:01:19 18:58:51+01:00 |
DateTimeOriginal | 2011:01:19 18:58:51 |
Defringe | 0 |
DigitalZoomRatio | 1 |
DOF | inf (1.33 m - inf) |
ExifImageHeight | 1541 |
ExifImageWidth | 3952 |
Exposure | 0.00 |
ExposureCompensation | -0.3 |
ExposureMode | Aperture-priority AE |
ExposureProgram | Aperture-priority AE |
ExposureTime | 13 |
FileIndex | 765 |
FillLight | 7 |
FilmMode | Standard |
Flash | Off, Did not fire |
FlashFired | False |
FlashFunction | False |
FlashMode | Off |
FlashRedEyeMode | False |
FlashReturn | No return detection |
FNumber | 16.0 |
FocalLength | 24.0 mm |
FocalLength35efl | 24.0 mm (35 mm equivalent: 35.0 mm) |
FocalLengthIn35mmFormat | 35 mm |
FocusDistance | 5.5 m |
FOV | 54.2 deg (5.63 m) |
GrainAmount | 0 |
GreenHue | 0 |
GreenSaturation | 0 |
HasCrop | True |
HasSettings | True |
HighlightRecovery | 18 |
HueAdjustmentAqua | 0 |
HueAdjustmentBlue | 0 |
HueAdjustmentGreen | 0 |
HueAdjustmentMagenta | 0 |
HueAdjustmentOrange | 0 |
HueAdjustmentPurple | 0 |
HueAdjustmentRed | 0 |
HueAdjustmentYellow | 0 |
HyperfocalDistance | 1.75 m |
ImageHeight | 1541 |
ImageSize | 3952x1541 |
ImageWidth | 3952 |
InternalSerialNumber | 000000000000 |
ISO | 100 |
Keywords | Natt, Oslo, Slottet |
Lens | 24.0 mm f/2.8 |
LensInfo | 24mm f/2.8 |
LensManualDistortionAmount | 0 |
LensModel | 24.0 mm f/2.8 |
LensProfileEnable | 0 |
LensProfileSetup | LensDefaults |
LightSource | Unknown |
LightValue | 4.3 |
LuminanceAdjustmentAqua | 0 |
LuminanceAdjustmentBlue | 0 |
LuminanceAdjustmentGreen | 0 |
LuminanceAdjustmentMagenta | 0 |
LuminanceAdjustmentOrange | 0 |
LuminanceAdjustmentPurple | 0 |
LuminanceAdjustmentRed | 0 |
LuminanceAdjustmentYellow | 0 |
LuminanceSmoothing | 0 |
Make | LEICA CAMERA AG |
MakerNoteSafety | Safe |
MaxApertureValue | 2.8 |
Megapixels | 6.1 |
MeteringMode | Multi-segment |
Model | LEICA X1 |
ModifyDate (1) | 2011:01:20 07:06:35+01:00 |
ModifyDate | 2011:01:20 07:06:35 |
OriginalDirectory | 102LEICA |
OriginalFileName | L1020765.DNG |
ParametricDarks | 0 |
ParametricHighlights | 0 |
ParametricHighlightSplit | 75 |
ParametricLights | 0 |
ParametricMidtoneSplit | 50 |
ParametricShadows | 0 |
ParametricShadowSplit | 25 |
PerspectiveHorizontal | 0 |
PerspectiveRotate | 0.0 |
PerspectiveScale | 100 |
PerspectiveVertical | 0 |
PostCropVignetteAmount | 0 |
ProcessVersion | 5.7 |
ProfileDescription | sRGB IEC61966-2.1 |
RedBalance | 0.785276 |
RedHue | 0 |
RedSaturation | 0 |
Saturation (2) | 0 |
Saturation | Normal |
SaturationAdjustmentAqua | 0 |
SaturationAdjustmentBlue | 0 |
SaturationAdjustmentGreen | 0 |
SaturationAdjustmentMagenta | 0 |
SaturationAdjustmentOrange | 0 |
SaturationAdjustmentPurple | 0 |
SaturationAdjustmentRed | 0 |
SaturationAdjustmentYellow | 0 |
ScaleFactor35efl | 1.5 |
SceneCaptureType | Landscape |
SensingMethod | One-chip color area |
SensitivityType | Unknown |
SerialNumber | 000003813044 |
Shadows | 5 |
ShadowTint | 0 |
SharpenDetail | 25 |
SharpenEdgeMasking | 0 |
SharpenRadius | +1.0 |
Sharpness (2) | 25 |
Sharpness | Normal |
ShutterSpeed | 13 |
ShutterSpeedValue | 13 |
Software | 1.0 |
SplitToningBalance | 0 |
SplitToningHighlightHue | 0 |
SplitToningHighlightSaturation | 0 |
SplitToningShadowHue | 0 |
SplitToningShadowSaturation | 0 |
Subject | Natt, Oslo, Slottet |
SubjectDistance | 5.5 m |
Tint | +25 |
ToneCurve | 0, 0, 32, 22, 64, 56, 128, 128, 192, 196, 255, 255 |
ToneCurveName | Medium Contrast |
Version | 6.3 |
Vibrance | 0 |
VignetteAmount | 0 |
WB_RGBLevels | 0.7852760736 1 0.3502051984 |
WhiteBalance (2) | As Shot |
WhiteBalance | Auto |