Felt | Verdi |
AlreadyApplied | True |
Aperture | 7.1 |
ApertureValue | 7.1 |
ApproximateFocusDistance | 3.98 |
BitsPerSample | 8 |
BlueHue | 0 |
BlueSaturation | 0 |
Brightness | +50 |
CameraProfile | Adobe Standard |
CaptionWriter | Marius Laksholm |
Category (1) | Tin |
Category | Ting og tang |
CFAPattern | [Green,Blue][Red,Green] |
ChromaticAberrationB | 0 |
ChromaticAberrationR | 0 |
CircleOfConfusion | 0.020 mm |
Clarity | 0 |
ColorComponents | 3 |
ColorNoiseReduction | 25 |
ColorNoiseReductionDetail | 50 |
ColorTemperature | 5650 |
Contrast (2) | +100 |
Contrast | Normal |
ConvertToGrayscale | True |
Copyright | Marius Laksholm |
CopyrightFlag | True |
CopyrightNotice | Marius Laksholm |
CreateDate (1) | 2010:12:29 15:07:31.00+01:00 |
CreateDate | 2010:12:29 15:07:31 |
CreatorTool | Adobe Photoshop Lightroom 3.3 |
CropAngle | 0 |
CropBottom | 1 |
CropConstrainToWarp | 0 |
CropHeight | 891 |
CropLeft | 0.105684 |
CropRight | 1 |
CropTop | 0 |
CropUnit | pixels |
CropWidth | 1200 |
CustomRendered | Normal |
DateTimeDigitized | 2010:12:29 15:07:31.00+01:00 |
DateTimeOriginal (1) | 2010:12:29 15:07:31.00+01:00 |
DateTimeOriginal | 2010:12:29 15:07:31 |
Defringe | 0 |
DigitalZoomRatio | 1 |
DOF | 0.11 m (3.93 - 4.03 m) |
ExifImageHeight | 891 |
ExifImageWidth | 1200 |
Exposure | +0.23 |
ExposureCompensation | 0 |
ExposureMode | Auto |
ExposureProgram | Aperture-priority AE |
ExposureTime | 1/60 |
FillLight | 31 |
Flash | On, Return detected |
FlashFired | True |
FlashFunction | False |
FlashMode | On |
FlashRedEyeMode | False |
FlashReturn | Return detected |
FNumber | 7.1 |
FocalLength | 200.0 mm |
FocalLength35efl | 200.0 mm (35 mm equivalent: 300.0 mm) |
FocalLengthIn35mmFormat | 300 mm |
FOV | 6.9 deg |
GainControl | None |
GrainAmount | 0 |
GrayMixerAqua | -18 |
GrayMixerBlue | +9 |
GrayMixerGreen | -27 |
GrayMixerMagenta | +4 |
GrayMixerOrange | -19 |
GrayMixerPurple | +15 |
GrayMixerRed | -10 |
GrayMixerYellow | -23 |
GreenHue | 0 |
GreenSaturation | 0 |
HasCrop | True |
HasSettings | True |
Headline | Fremtidsrommet |
HighlightRecovery | 50 |
HyperfocalDistance | 281.26 m |
ImageHeight | 891 |
ImageNumber | 8408 |
ImageSize | 1200x891 |
ImageWidth | 1200 |
ISO | 200 |
Label | Fremtidsrommet |
Lens | 70.0-200.0 mm f/2.8 |
LensID (1) | 238 |
LensID | Sigma 70-200mm F2.8 EX APO DG Macro HSM II |
LensInfo | 70-200mm f/2.8 |
LensManualDistortionAmount | 0 |
LensModel | 70.0-200.0 mm f/2.8 |
LensProfileEnable | 0 |
LensProfileSetup | LensDefaults |
LightSource | Unknown |
LightValue | 10.6 |
LuminanceNoiseReductionContrast | 21 |
LuminanceNoiseReductionDetail | 36 |
LuminanceSmoothing | 16 |
Make | NIKON CORPORATION |
Marked | True |
MaxApertureValue | 2.8 |
Megapixels | 1.1 |
MeteringMode | Multi-segment |
Model | NIKON D90 |
ModifyDate (1) | 2011:01:04 01:02:22+01:00 |
ModifyDate | 2011:01:04 01:02:22 |
ParametricDarks | 0 |
ParametricHighlights | 0 |
ParametricHighlightSplit | 75 |
ParametricLights | 0 |
ParametricMidtoneSplit | 50 |
ParametricShadows | 0 |
ParametricShadowSplit | 25 |
PerspectiveHorizontal | 0 |
PerspectiveRotate | 0.0 |
PerspectiveScale | 100 |
PerspectiveVertical | 0 |
PostCropVignetteAmount | 0 |
ProcessVersion | 5.7 |
ProfileDescription | sRGB IEC61966-2.1 |
RedHue | 0 |
RedSaturation | 0 |
Rights | Marius Laksholm |
Saturation | High |
ScaleFactor35efl | 1.5 |
SceneCaptureType | Standard |
SceneType | Directly photographed |
SensingMethod | One-chip color area |
SensitivityType | Unknown |
SerialNumber | 6238499 |
Shadows | 21 |
ShadowTint | 0 |
SharpenDetail | 25 |
SharpenEdgeMasking | 16 |
SharpenRadius | +1.0 |
Sharpness (2) | 50 |
Sharpness | Normal |
ShutterSpeed | 1/60 |
ShutterSpeedValue | 1/60 |
Software | Ver.1.00 |
SplitToningBalance | 0 |
SplitToningHighlightHue | 52 |
SplitToningHighlightSaturation | 21 |
SplitToningShadowHue | 203 |
SplitToningShadowSaturation | 11 |
SubjectCode | Fremtidsrommet |
SubjectDistance | 3.98 m |
SubjectDistanceRange | Unknown |
Tint | -11 |
ToneCurve | 0, 0, 255, 255 |
ToneCurveName | Linear |
UsageTerms | liten@liten.org |
Version | 6.3 |
VignetteAmount | -100 |
VignetteMidpoint | 20 |
WhiteBalance (2) | As Shot |
WhiteBalance | Auto |
Writer-Editor | Marius Laksholm |