Felt | Verdi |
AlreadyApplied | True |
Aperture | 4.0 |
ApertureValue | 4.0 |
BitsPerSample | 8 |
BlueHue | 0 |
BlueSaturation | 0 |
Brightness | +67 |
CameraProfile | Adobe Standard |
CFAPattern | [Green,Red][Blue,Green] |
ChromaticAberrationB | 0 |
ChromaticAberrationR | 0 |
CircleOfConfusion | 0.020 mm |
Clarity | +50 |
ColorComponents | 3 |
ColorNoiseReduction | 25 |
ColorTemperature | 4200 |
Contrast (2) | +50 |
Contrast | Low |
ConvertToGrayscale | False |
Copyright | Foto: Espen Seierstad |
CopyrightFlag | True |
CopyrightNotice | Foto: Espen Seierstad |
CreateDate (1) | 2010:10:03 07:46:33.41+02:00 |
CreateDate | 2010:10:03 07:46:33 |
CreatorTool | Adobe Photoshop Lightroom |
CropAngle | 1.0832 |
CropBottom | 0.660541 |
CropHeight | 450 |
CropLeft | 0.422508 |
CropRight | 0.86365 |
CropTop | 0.315323 |
CropUnit | pixels |
CropWidth | 900 |
CustomRendered | Normal |
DateTimeDigitized | 2010:10:03 07:46:33.41+02:00 |
DateTimeOriginal (1) | 2010:10:03 07:46:33.41+02:00 |
DateTimeOriginal | 2010:10:03 07:46:33 |
Defringe | 0 |
DigitalZoomRatio | 1 |
DOF | inf (3120.19 m - inf) |
ExifImageHeight | 450 |
ExifImageWidth | 900 |
Exposure | +0.10 |
ExposureCompensation | 0 |
ExposureMode | Auto |
ExposureProgram | Program AE |
ExposureTime | 1/15 |
FillLight | 0 |
Flash | No Flash |
FlashFired | False |
FlashFunction | False |
FlashMode | Unknown |
FlashRedEyeMode | False |
FlashReturn | No return detection |
FNumber | 4.0 |
FocalLength | 500.0 mm |
FocalLength35efl | 500.0 mm (35 mm equivalent: 750.0 mm) |
FocalLengthIn35mmFormat | 750 mm |
FOV | 2.7 deg |
GainControl | None |
GreenHue | 0 |
GreenSaturation | 0 |
HasCrop | True |
HasSettings | True |
HighlightRecovery | 52 |
HueAdjustmentAqua | 0 |
HueAdjustmentBlue | 0 |
HueAdjustmentGreen | 0 |
HueAdjustmentMagenta | 0 |
HueAdjustmentOrange | 0 |
HueAdjustmentPurple | 0 |
HueAdjustmentRed | 0 |
HueAdjustmentYellow | 0 |
HyperfocalDistance | 3120.19 m |
ImageHeight | 450 |
ImageNumber | 24342 |
ImageSize | 900x450 |
ImageWidth | 900 |
ISO | 200 |
Lens | 500.0 mm f/4.0 |
LensID (1) | 151 |
LensID | AF-S VR Nikkor 500mm f/4G ED |
LensInfo | 500mm f/4 |
LightSource | Unknown |
LightValue | 6.9 |
LuminanceAdjustmentAqua | 0 |
LuminanceAdjustmentBlue | 0 |
LuminanceAdjustmentGreen | 0 |
LuminanceAdjustmentMagenta | 0 |
LuminanceAdjustmentOrange | 0 |
LuminanceAdjustmentPurple | 0 |
LuminanceAdjustmentRed | 0 |
LuminanceAdjustmentYellow | 0 |
LuminanceSmoothing | 74 |
Make | NIKON CORPORATION |
Marked | True |
MaxApertureValue | 4.0 |
Megapixels | 0.405 |
MeteringMode | Multi-segment |
Model | NIKON D200 |
ModifyDate (1) | 2010:10:03 17:36:07+02:00 |
ModifyDate | 2010:10:03 17:36:07 |
PaintCorrectionActive | true |
PaintCorrectionAmount | 1.000000 |
PaintCorrectionBrightness | 0.000000 |
PaintCorrectionClarity | 0.524000 |
PaintCorrectionContrast (1) | 0.310000 |
PaintCorrectionContrast | 0.214000 |
PaintCorrectionExposure (1) | -0.238000 |
PaintCorrectionExposure | -0.167000 |
PaintCorrectionHue | 116.000000 |
PaintCorrectionMaskCenterWeight | 0.078534 |
PaintCorrectionMaskFlow | 1.000000 |
PaintCorrectionMaskRadius | 0.006698 |
PaintCorrectionMaskValue | 1.000000 |
PaintCorrectionMaskWhat | Mask/Paint |
PaintCorrectionSaturation | 0.000000 |
PaintCorrectionSharpness | 0.000000 |
PaintCorrectionWhat | Correction |
ParametricDarks | -2 |
ParametricHighlights | -95 |
ParametricHighlightSplit | 75 |
ParametricLights | -18 |
ParametricMidtoneSplit | 50 |
ParametricShadows | -100 |
ParametricShadowSplit | 25 |
PostCropVignetteAmount | -70 |
PostCropVignetteFeather | 80 |
PostCropVignetteMidpoint | 27 |
PostCropVignetteRoundness | +16 |
ProfileDescription | sRGB IEC61966-2.1 |
Rating | 5 |
RedHue | 0 |
RedSaturation | 0 |
Rights | Foto: Espen Seierstad |
Saturation (2) | 0 |
Saturation | Normal |
SaturationAdjustmentAqua | +50 |
SaturationAdjustmentBlue | +59 |
SaturationAdjustmentGreen | +7 |
SaturationAdjustmentMagenta | 0 |
SaturationAdjustmentOrange | +13 |
SaturationAdjustmentPurple | +23 |
SaturationAdjustmentRed | 0 |
SaturationAdjustmentYellow | +23 |
ScaleFactor35efl | 1.5 |
SceneCaptureType | Standard |
SceneType | Directly photographed |
SensingMethod | One-chip color area |
Shadows | 44 |
ShadowTint | 0 |
SharpenDetail | 80 |
SharpenEdgeMasking | 44 |
SharpenRadius | +1.5 |
Sharpness (2) | 99 |
Sharpness | Hard |
ShutterSpeed | 1/15 |
ShutterSpeedValue | 1/15 |
Software | Ver.2.00 |
SplitToningBalance | 0 |
SplitToningHighlightHue | 0 |
SplitToningHighlightSaturation | 0 |
SplitToningShadowHue | 0 |
SplitToningShadowSaturation | 0 |
SubjectDistance | 4294967295 m |
SubjectDistanceRange | Unknown |
Tint | -12 |
ToneCurve | 0, 0, 255, 255 |
ToneCurveName | Linear |
UserComment | Espen Seierstad |
Version | 5.7 |
Vibrance | 0 |
VignetteAmount | 0 |
WhiteBalance (2) | As Shot |
WhiteBalance | Auto |