Felt | Verdi |
AlreadyApplied | True |
Aperture | 18.0 |
ApertureValue | 18.0 |
BitsPerSample | 8 |
BlueHue | -100 |
BlueSaturation | +5 |
Brightness | +60 |
By-line | Karel Krizak |
CameraProfile | Adobe Standard |
ChromaticAberrationB | 0 |
ChromaticAberrationR | 0 |
CircleOfConfusion | 0.019 mm |
Clarity | +63 |
ColorComponents | 3 |
ColorNoiseReduction | 34 |
ColorNoiseReductionDetail | 51 |
ColorTemperature | 3700 |
Contrast | -14 |
ConvertToGrayscale | True |
Copyright | Karel Krizak |
CopyrightFlag | True |
CopyrightNotice | Karel Krizak |
CreateDate (1) | 2010:09:12 12:13:46.00+02:00 |
CreateDate | 2010:09:12 12:13:46 |
Creator | Karel Krizak |
CreatorAddress | Kløvervegen 56 |
CreatorCity | Verdal |
CreatorCountry | Norway |
CreatorPostalCode | 7650 |
CreatorTool | Adobe Photoshop Lightroom |
CreatorWorkEmail | karel@krizak.com |
CropAngle | -4.75392 |
CropBottom | 0.837818 |
CropConstrainToWarp | 0 |
CropHeight | 720 |
CropLeft | 0 |
CropRight | 0.929523 |
CropTop | 0.199352 |
CropUnit | pixels |
CropWidth | 1280 |
CustomRendered | Normal |
DateTimeDigitized | 2010:09:12 12:13:46.00+02:00 |
DateTimeOriginal (1) | 2010:09:12 12:13:46.00+02:00 |
DateTimeOriginal | 2010:09:12 12:13:46 |
Defringe | 0 |
DOF | 0.22 m (1.38 - 1.60 m) |
ExifImageHeight | 720 |
ExifImageWidth | 1280 |
Exposure | -1.15 |
ExposureCompensation | 0 |
ExposureMode | Manual |
ExposureProgram | Manual |
ExposureTime | 1/60 |
FillLight | 0 |
Firmware | 1.2.1 |
Flash | Off, Did not fire |
FlashCompensation | 0 |
FlashFired | False |
FlashFunction | False |
FlashMode | Off |
FlashRedEyeMode | False |
FlashReturn | No return detection |
FNumber | 18.0 |
FocalLength | 80.0 mm |
FocalLength35efl | 80.0 mm (35 mm equivalent: 125.6 mm) |
FOV | 16.3 deg |
GrainAmount | 0 |
GrayMixerAqua | +25 |
GrayMixerBlue | 0 |
GrayMixerGreen | -5 |
GrayMixerMagenta | -40 |
GrayMixerOrange | +38 |
GrayMixerPurple | -30 |
GrayMixerRed | +50 |
GrayMixerYellow | +36 |
GreenHue | +43 |
GreenSaturation | +100 |
HasCrop | True |
HasSettings | True |
HighlightRecovery | 26 |
HyperfocalDistance | 18.58 m |
ImageHeight | 720 |
ImageNumber | 0 |
ImageSize | 1280x720 |
ImageWidth | 1280 |
ISO | 100 |
Lens | EF24-105mm f/4L IS USM |
LensID (1) | 237 |
LensID | Canon EF 24-105mm f/4L IS USM |
LensInfo | 24-105mm f/? |
LensManualDistortionAmount | 0 |
LensProfileEnable | 0 |
LensProfileSetup | LensDefaults |
LightValue | 14.2 |
LuminanceNoiseReductionContrast | 0 |
LuminanceNoiseReductionDetail | 50 |
LuminanceSmoothing | 24 |
Make | Canon |
Marked | True |
MaxApertureValue | 4.0 |
Megapixels | 0.922 |
MeteringMode | Multi-segment |
Model | Canon EOS 7D |
ModifyDate (1) | 2010:09:19 18:47:01+02:00 |
ModifyDate | 2010:09:19 18:47:01 |
PaintCorrectionActive | true |
PaintCorrectionAmount | 1.000000 |
PaintCorrectionBrightness | 0.000000 |
PaintCorrectionClarity (1) | 0.000000 |
PaintCorrectionClarity (3) | 0.512000 |
PaintCorrectionClarity (5) | 0.268000 |
PaintCorrectionClarity | -0.244000 |
PaintCorrectionContrast (1) | -0.390000 |
PaintCorrectionContrast (5) | 0.659000 |
PaintCorrectionContrast | 0.000000 |
PaintCorrectionExposure (2) | 0.341000 |
PaintCorrectionExposure (5) | 0.000000 |
PaintCorrectionExposure | 0.122000 |
PaintCorrectionHue (1) | 242.000000 |
PaintCorrectionHue | 240.000000 |
PaintCorrectionMaskCenterWeight | 0.188233 |
PaintCorrectionMaskFlow (3) | 1.000000 |
PaintCorrectionMaskFlow | 0.564000 |
PaintCorrectionMaskRadius (1) | 0.018426 |
PaintCorrectionMaskRadius (11) | 0.063141 |
PaintCorrectionMaskRadius (4) | 0.005798 |
PaintCorrectionMaskRadius (6) | 0.060640 |
PaintCorrectionMaskRadius (8) | 0.054920 |
PaintCorrectionMaskRadius (9) | 0.035564 |
PaintCorrectionMaskRadius | 0.079481 |
PaintCorrectionMaskValue (8) | 0.595000 |
PaintCorrectionMaskValue | 0.619000 |
PaintCorrectionMaskWhat | Mask/Paint |
PaintCorrectionSaturation (4) | 0.020000 |
PaintCorrectionSaturation | 0.000000 |
PaintCorrectionSharpness (1) | 0.000000 |
PaintCorrectionSharpness (5) | 0.561000 |
PaintCorrectionSharpness (6) | -1.000000 |
PaintCorrectionSharpness | -0.293000 |
PaintCorrectionWhat | Correction |
ParametricDarks | +83 |
ParametricHighlights | +28 |
ParametricHighlightSplit | 75 |
ParametricLights | +18 |
ParametricMidtoneSplit | 50 |
ParametricShadows | +79 |
ParametricShadowSplit | 25 |
PerspectiveHorizontal | 0 |
PerspectiveRotate | 0.0 |
PerspectiveScale | 100 |
PerspectiveVertical | 0 |
PostCropVignetteAmount | 0 |
ProcessVersion | 5.7 |
ProfileDescription | sRGB IEC61966-2.1 |
Rating | 5 |
RedHue | +100 |
RedSaturation | -25 |
Rights | Karel Krizak |
ScaleFactor35efl | 1.6 |
SceneCaptureType | Standard |
SerialNumber | 1080700577 |
Shadows | 100 |
ShadowTint | -56 |
SharpenDetail | 25 |
SharpenEdgeMasking | 33 |
SharpenRadius | +1.0 |
Sharpness | 45 |
ShutterSpeed | 1/60 |
ShutterSpeedValue | 1/60 |
SplitToningBalance | 0 |
SplitToningHighlightHue | 0 |
SplitToningHighlightSaturation | 0 |
SplitToningShadowHue | 0 |
SplitToningShadowSaturation | 0 |
SubjectDistance | 1.48 m |
Tint | 0 |
ToneCurve | 0, 0, 32, 22, 64, 56, 128, 128, 192, 196, 255, 255 |
ToneCurveName | Medium Contrast |
Version | 6.1 |
VignetteAmount | 0 |
WhiteBalance (2) | As Shot |
WhiteBalance | Auto |