Felt | Verdi |
AlreadyApplied | True |
Aperture | 7.1 |
ApertureValue | 7.1 |
BitsPerSample | 8 |
BlueHue | +11 |
BlueSaturation | -21 |
Brightness | 0 |
By-line | Håkon Steinsvik |
CameraProfile | Adobe Standard |
CFAPattern | [Green,Blue][Red,Green] |
ChromaticAberrationB | 0 |
ChromaticAberrationR | 0 |
CircleOfConfusion | 0.020 mm |
Clarity | 0 |
ColorComponents | 3 |
ColorNoiseReduction | 25 |
ColorTemperature | 5550 |
Contrast (2) | 0 |
Contrast | Normal |
ConvertToGrayscale | False |
Copyright | Hakon Steinsvik |
CopyrightFlag | True |
CopyrightNotice | Håkon Steinsvik |
CreateDate (1) | 2010:08:31 16:34:42.90+02:00 |
CreateDate | 2010:08:31 16:34:42 |
Creator | Håkon Steinsvik |
CreatorAddress | 9151 Storlsett |
CreatorCity | Storslett |
CreatorCountry | Norway |
CreatorPostalCode | 9151 |
CreatorRegion | Nordreisa |
CreatorTool | Adobe Photoshop Lightroom |
CreatorWorkEmail | Hallayys@hotmail.com |
CreatorWorkTelephone | 95416192 |
CropAngle | 0 |
CropBottom | 0.84127 |
CropHeight | 569 |
CropLeft | 0.094451 |
CropRight | 0.785124 |
CropTop | 0.253968 |
CropUnit | pixels |
CropWidth | 1000 |
CustomRendered | Normal |
DateTimeDigitized | 2010:08:31 16:34:42.90+02:00 |
DateTimeOriginal (1) | 2010:08:31 16:34:42.90+02:00 |
DateTimeOriginal | 2010:08:31 16:34:42 |
Defringe | 0 |
DigitalZoomRatio | 1 |
ExifImageHeight | 569 |
ExifImageWidth | 1000 |
Exposure | +1.15 |
ExposureCompensation | 0 |
ExposureMode | Manual |
ExposureProgram | Manual |
ExposureTime | 1/80 |
FillLight | 0 |
Flash | No Flash |
FlashFired | False |
FlashFunction | False |
FlashMode | Unknown |
FlashRedEyeMode | False |
FlashReturn | No return detection |
FNumber | 7.1 |
FocalLength | 300.0 mm |
FocalLength35efl | 300.0 mm (35 mm equivalent: 450.0 mm) |
FocalLengthIn35mmFormat | 450 mm |
FOV | 4.6 deg |
GainControl | Low gain up |
GreenHue | +16 |
GreenSaturation | +51 |
HasCrop | True |
HasSettings | True |
HighlightRecovery | 25 |
HueAdjustmentAqua | 0 |
HueAdjustmentBlue | 0 |
HueAdjustmentGreen | 0 |
HueAdjustmentMagenta | 0 |
HueAdjustmentOrange | 0 |
HueAdjustmentPurple | 0 |
HueAdjustmentRed | 0 |
HueAdjustmentYellow | 0 |
HyperfocalDistance | 632.83 m |
ImageHeight | 569 |
ImageNumber | 62424 |
ImageSize | 1000x569 |
ImageWidth | 1000 |
ISO | 400 |
Lens | 70.0-300.0 mm f/4.5-5.6 |
LensInfo | 70-300mm f/4.5-5.6 |
LightSource | Cloudy |
LightValue | 10.0 |
LuminanceAdjustmentAqua | 0 |
LuminanceAdjustmentBlue | 0 |
LuminanceAdjustmentGreen | 0 |
LuminanceAdjustmentMagenta | 0 |
LuminanceAdjustmentOrange | 0 |
LuminanceAdjustmentPurple | 0 |
LuminanceAdjustmentRed | 0 |
LuminanceAdjustmentYellow | 0 |
LuminanceSmoothing | 0 |
Make | NIKON CORPORATION |
Marked | True |
MaxApertureValue | 5.7 |
Megapixels | 0.569 |
MeteringMode | Center-weighted average |
Model | NIKON D80 |
ModifyDate (1) | 2010:09:01 18:48:24+02:00 |
ModifyDate | 2010:09:01 18:48:24 |
ParametricDarks | -20 |
ParametricHighlights | +60 |
ParametricHighlightSplit | 75 |
ParametricLights | +10 |
ParametricMidtoneSplit | 50 |
ParametricShadows | -60 |
ParametricShadowSplit | 25 |
PostCropVignetteAmount | 0 |
ProfileDescription | sRGB IEC61966-2.1 |
RedHue | +23 |
RedSaturation | +10 |
Rights | Håkon Steinsvik |
Saturation (2) | 0 |
Saturation | High |
SaturationAdjustmentAqua | +50 |
SaturationAdjustmentBlue | +58 |
SaturationAdjustmentGreen | +10 |
SaturationAdjustmentMagenta | 0 |
SaturationAdjustmentOrange | +13 |
SaturationAdjustmentPurple | +23 |
SaturationAdjustmentRed | 0 |
SaturationAdjustmentYellow | +23 |
ScaleFactor35efl | 1.5 |
SceneCaptureType | Standard |
SceneType | Directly photographed |
SensingMethod | One-chip color area |
SerialNumber | 4062811 |
Shadows | 14 |
ShadowTint | +4 |
SharpenDetail | 50 |
SharpenEdgeMasking | 0 |
SharpenRadius | +1.0 |
Sharpness (2) | 25 |
Sharpness | Hard |
ShutterSpeed | 1/80 |
ShutterSpeedValue | 1/80 |
Software | Ver.1.10 |
SplitToningBalance | 0 |
SplitToningHighlightHue | 0 |
SplitToningHighlightSaturation | 0 |
SplitToningShadowHue | 0 |
SplitToningShadowSaturation | 0 |
SubjectDistanceRange | Unknown |
Tint | +1 |
ToneCurve | 0, 0, 255, 255 |
ToneCurveName | Linear |
UserComment | Espen Andre Steinsvik tlf:47676149 |
Version | 5.2 |
Vibrance | 0 |
VignetteAmount | -100 |
VignetteMidpoint | 40 |
WhiteBalance (2) | As Shot |
WhiteBalance | Manual |