Felt | Verdi |
AlreadyApplied | True |
Aperture | 4.0 |
ApertureValue | 4.0 |
BitsPerSample (1) | 16, 16, 16 |
BitsPerSample (2) | 16 16 16 |
BitsPerSample | 8 |
BlueHue | 0 |
BlueSaturation | 0 |
Brightness | +50 |
CameraProfile | Adobe Standard |
ChromaticAberrationB | 0 |
ChromaticAberrationR | 0 |
CircleOfConfusion | 0.031 mm |
Clarity | +12 |
ColorComponents | 3 |
ColorMode | RGB |
ColorNoiseReduction | 25 |
ColorSpace | sRGB |
ColorTemperature | 4550 |
Contrast | +34 |
ConvertToGrayscale | False |
CreateDate (1) | 2010:07:03 13:50:37.22+02:00 |
CreateDate | 2010:07:03 13:50:37 |
CreatorTool | Adobe Photoshop Lightroom |
CropAngle | -0.401096 |
CropBottom | 0.99451 |
CropHeight | 2881 |
CropLeft | 0.304655 |
CropRight | 0.800062 |
CropTop | 0.2302 |
CropUnit | pixels |
CropWidth | 2762 |
CustomRendered | Normal |
DateTimeDigitized | 2010:07:03 13:50:37.22+02:00 |
DateTimeOriginal (1) | 2010:07:03 13:50:37.22+02:00 |
DateTimeOriginal | 2010:07:03 13:50:37 |
Defringe | 0 |
DOF | inf (636.63 m - inf) |
ExifImageHeight | 700 |
ExifImageWidth | 683 |
Exposure | 0.00 |
ExposureCompensation | 0 |
ExposureMode | Auto |
ExposureProgram | Aperture-priority AE |
ExposureTime | 1/1600 |
FillLight | 10 |
Firmware | 2.0.7 |
Flash | Off, Did not fire |
FlashCompensation | 0 |
FlashFired | False |
FlashFunction | False |
FlashMode | Off |
FlashRedEyeMode | False |
FlashReturn | No return detection |
FNumber | 4.0 |
FocalLength | 280.0 mm |
FocalLength35efl | 280.0 mm (35 mm equivalent: 273.3 mm) |
Format | image/jpeg |
FOV | 7.5 deg |
GreenHue | 0 |
GreenSaturation | 0 |
HasCrop | True |
HasSettings | True |
HighlightRecovery | 0 |
HueAdjustmentAqua | 0 |
HueAdjustmentBlue | 0 |
HueAdjustmentGreen | 0 |
HueAdjustmentMagenta | 0 |
HueAdjustmentOrange | 0 |
HueAdjustmentPurple | 0 |
HueAdjustmentRed | 0 |
HueAdjustmentYellow | 0 |
HyperfocalDistance | 636.63 m |
ICCProfileName | sRGB IEC61966-2.1 |
ImageHeight (1) | 2715 |
ImageHeight (2) | 2881 |
ImageHeight | 700 |
ImageNumber | 0 |
ImageSize | 683x700 |
ImageWidth (1) | 2646 |
ImageWidth (2) | 2762 |
ImageWidth | 683 |
ISO | 400 |
Lens | EF70-200mm f/2.8L IS II USM +1.4x |
LensID (1) | 252 |
LensID | Canon EF 70-200mm f/2.8L IS II USM + 1.4x or Canon EF 70-200mm f/2.8L IS III USM + 1.4x |
LensInfo | 98-280mm f/? |
LightValue | 12.6 |
LuminanceAdjustmentAqua | -21 |
LuminanceAdjustmentBlue | -19 |
LuminanceAdjustmentGreen | 0 |
LuminanceAdjustmentMagenta | +12 |
LuminanceAdjustmentOrange | +5 |
LuminanceAdjustmentPurple | -19 |
LuminanceAdjustmentRed | +5 |
LuminanceAdjustmentYellow | +2 |
LuminanceSmoothing | 15 |
Make | Canon |
MaxApertureValue | 4.0 |
Megapixels | 0.478 |
MeteringMode | Multi-segment |
Model | Canon EOS 5D Mark II |
ModifyDate (1) | 2010:08:27 23:29:46+02:00 |
ModifyDate | 2010:08:27 23:29:46 |
Orientation | Horizontal (normal) |
ParametricDarks | 0 |
ParametricHighlights | 0 |
ParametricHighlightSplit | 75 |
ParametricLights | 0 |
ParametricMidtoneSplit | 50 |
ParametricShadows | 0 |
ParametricShadowSplit | 25 |
PhotometricInterpretation | RGB |
PlanarConfiguration | Chunky |
PostCropVignetteAmount | 0 |
ProfileDescription | sRGB IEC61966-2.1 |
RedHue | 0 |
RedSaturation | 0 |
SamplesPerPixel | 3 |
Saturation | 0 |
SaturationAdjustmentAqua | 0 |
SaturationAdjustmentBlue | 0 |
SaturationAdjustmentGreen | 0 |
SaturationAdjustmentMagenta | 0 |
SaturationAdjustmentOrange | 0 |
SaturationAdjustmentPurple | 0 |
SaturationAdjustmentRed | 0 |
SaturationAdjustmentYellow | 0 |
ScaleFactor35efl | 1.0 |
SceneCaptureType | Standard |
SerialNumber | 530320270 |
Shadows | 3 |
ShadowTint | 0 |
SharpenDetail | 25 |
SharpenEdgeMasking | 0 |
SharpenRadius | +1.0 |
Sharpness | 57 |
ShutterSpeed | 1/1600 |
ShutterSpeedValue | 1/1600 |
Software | Adobe Photoshop CS4 Windows |
SplitToningBalance | 0 |
SplitToningHighlightHue | 0 |
SplitToningHighlightSaturation | 0 |
SplitToningShadowHue | 0 |
SplitToningShadowSaturation | 0 |
SubjectDistance | 4294967295 m |
Tint | +4 |
ToneCurve | 0, 0, 32, 22, 64, 56, 128, 128, 192, 196, 255, 255 |
ToneCurveName | Medium Contrast |
URL_List | |
Version | 5.7 |
Vibrance | +12 |
VignetteAmount | 0 |
WhiteBalance (2) | Custom |
WhiteBalance | Auto |