Felt | Verdi |
AlreadyApplied | True |
Aperture | 4.5 |
ApertureValue | 4.5 |
Artist | Ole Berntsen |
BitsPerSample | 8 |
BlueHue | 0 |
BlueSaturation | 0 |
Brightness | +50 |
By-line | Ole Berntsen |
CameraProfile | Adobe Standard |
CFAPattern | [Green,Blue][Red,Green] |
ChromaticAberrationB | 0 |
ChromaticAberrationR | 0 |
CircleOfConfusion | 0.020 mm |
Clarity | 0 |
ColorComponents | 1 |
ColorMode | Grayscale |
ColorNoiseReduction | 25 |
ColorNoiseReductionDetail | 50 |
ColorSpace | Uncalibrated |
ColorTemperature | 3800 |
Contrast (1) | +25 |
Contrast | Low |
ConvertToGrayscale | True |
CreateDate (1) | 2010:06:10 18:18:58.00+1:00 |
CreateDate | 2010:06:10 18:18:58 |
Creator | Ole Berntsen |
CreatorTool | Adobe Photoshop CS5 Windows |
CropAngle | 0.42515 |
CropBottom | 0.958143 |
CropConstrainToWarp | 1 |
CropLeft | 0.014561 |
CropRight | 0.964743 |
CropTop | 0.197817 |
CustomRendered | Normal |
DateCreated (1) | 2010:06:10 |
DateCreated | 2010:06:10 18:18:58 |
DateTimeOriginal | 2010:06:10 18:18:58 |
Defringe | 0 |
DigitalZoomRatio | 1 |
DOF | 7.25 m (1.79 - 9.04 m) |
ExifImageHeight | 700 |
ExifImageWidth | 1331 |
Exposure | +0.35 |
ExposureCompensation | 0 |
ExposureMode | Manual |
ExposureProgram | Manual |
ExposureTime | 1/40 |
FillLight | 0 |
Flash | No Flash |
FNumber | 4.5 |
FocalLength | 20.0 mm |
FocalLength35efl | 20.0 mm (35 mm equivalent: 30.0 mm) |
FocalLengthIn35mmFormat | 30 mm |
Format | image/jpeg |
FOV | 61.9 deg |
GainControl | Low gain up |
GrainAmount | 0 |
GrayMixerAqua | -3 |
GrayMixerBlue | -93 |
GrayMixerGreen | -27 |
GrayMixerMagenta | +1 |
GrayMixerOrange | -21 |
GrayMixerPurple | +46 |
GrayMixerRed | +68 |
GrayMixerYellow | -10 |
GreenHue | 0 |
GreenSaturation | 0 |
HasCrop | True |
HasSettings | True |
HighlightRecovery | 100 |
HyperfocalDistance | 4.44 m |
ICCProfileName | Gray Gamma 2.2 |
ImageHeight | 700 |
ImageNumber | 19937 |
ImageSize | 1331x700 |
ImageWidth | 1331 |
ISO | 400 |
Lens | 18.0-135.0 mm f/3.5-5.6 |
LensID (1) | 143 |
LensID | AF-S DX Zoom-Nikkor 18-135mm f/3.5-5.6G IF-ED |
LensInfo | 18-135mm f/3.5-5.6 |
LensManualDistortionAmount | 0 |
LensProfileEnable | 0 |
LensProfileSetup | LensDefaults |
LightSource | Unknown |
LightValue | 7.7 |
LuminanceSmoothing | 0 |
Make | NIKON CORPORATION |
MaxApertureValue | 3.6 |
Megapixels | 0.932 |
MeteringMode | Multi-segment |
Model | NIKON D80 |
ModifyDate (1) | 2010:07:06 09:27:03+02:00 |
ModifyDate | 2010:07:06 09:27:03 |
Orientation | Horizontal (normal) |
PaintCorrectionActive | true |
PaintCorrectionAmount | 1.000000 |
PaintCorrectionBrightness | -0.105000 |
PaintCorrectionClarity | 0.000000 |
PaintCorrectionContrast | 0.000000 |
PaintCorrectionExposure (1) | -0.500000 |
PaintCorrectionExposure (2) | 0.262500 |
PaintCorrectionExposure | 0.425000 |
PaintCorrectionHue | 0.000000 |
PaintCorrectionMaskCenterWeight | 0.183050 |
PaintCorrectionMaskFlow | 0.888889 |
PaintCorrectionMaskRadius | 0.106092 |
PaintCorrectionMaskValue | 1.000000 |
PaintCorrectionMaskWhat | Mask/Paint |
PaintCorrectionSaturation | 0.000000 |
PaintCorrectionSharpness | 0.000000 |
PaintCorrectionWhat | Correction |
ParametricDarks | 0 |
ParametricHighlights | 0 |
ParametricHighlightSplit | 75 |
ParametricLights | 0 |
ParametricMidtoneSplit | 50 |
ParametricShadows | 0 |
ParametricShadowSplit | 25 |
PerspectiveHorizontal | 0 |
PerspectiveRotate | 0.0 |
PerspectiveScale | 100 |
PerspectiveVertical | 0 |
PostCropVignetteAmount | 0 |
ProcessVersion | 5.7 |
ProfileDescription | Gray Gamma 2.2 |
Rating | 0 |
RawFileName | DSC_0182.NEF |
RedHue | 0 |
RedSaturation | 0 |
ReferenceBlackWhite | 0 255 0 255 0 255 |
Saturation | Normal |
ScaleFactor35efl | 1.5 |
SceneCaptureType | Standard |
SceneType | Directly photographed |
SensingMethod | One-chip color area |
SerialNumber | 3236302 |
Shadows | 5 |
ShadowTint | 0 |
SharpenDetail | 25 |
SharpenEdgeMasking | 0 |
SharpenRadius | +1.0 |
Sharpness (1) | 25 |
Sharpness | Normal |
ShutterSpeed | 1/40 |
ShutterSpeedValue | 1/40 |
SidecarForExtension | NEF |
Software | Adobe Photoshop CS5 Windows |
SplitToningBalance | 0 |
SplitToningHighlightHue | 0 |
SplitToningHighlightSaturation | 0 |
SplitToningShadowHue | 0 |
SplitToningShadowSaturation | 0 |
SubjectDistance | 2.99 m |
SubjectDistanceRange | Unknown |
Tint | +4 |
ToneCurve | 0, 0, 32, 16, 64, 50, 128, 128, 192, 202, 255, 255 |
ToneCurveName | Strong Contrast |
URL_List | |
UserComment | OLE BERNTSEN |
Version | 6.1 |
VignetteAmount | 0 |
WhiteBalance (1) | As Shot |
WhiteBalance | Auto |