Felt | Verdi |
AlreadyApplied | True |
Aperture | 5.6 |
ApertureValue | 5.6 |
BitsPerSample | 8 |
BlueHue | 0 |
BlueSaturation | 0 |
Brightness | +44 |
CameraProfile | Adobe Standard |
CFAPattern | [Red,Green][Green,Blue] |
ChromaticAberrationB | 0 |
ChromaticAberrationR | 0 |
CircleOfConfusion | 0.020 mm |
Clarity | +17 |
ColorComponents | 3 |
ColorMode | RGB |
ColorNoiseReduction | 48 |
ColorSpace | sRGB |
ColorTemperature | 5500 |
Contrast (2) | +46 |
Contrast | Normal |
ConvertToGrayscale | False |
Copyright | (C)HANS OHRA |
CopyrightNotice | (C)HANS OHRA |
CreateDate (1) | 2010:03:20 13:39:30.90+01:00 |
CreateDate | 2010:03:20 13:39:30 |
CreatorTool | Ver.1.00 |
CustomRendered | Normal |
DateTimeDigitized | 2010:03:20 13:39:30.90+01:00 |
DateTimeOriginal (1) | 2010:03:20 13:39:30.90+01:00 |
DateTimeOriginal | 2010:03:20 13:39:30 |
Defringe | 0 |
DigitalZoomRatio | 1 |
ExifImageHeight | 2013 |
ExifImageWidth | 2807 |
Exposure | 0.00 |
ExposureCompensation | 0 |
ExposureMode | Auto |
ExposureProgram | Aperture-priority AE |
ExposureTime | 1/6000 |
FillLight | 3 |
Flash | No Flash |
FlashFired | False |
FlashFunction | False |
FlashMode | Unknown |
FlashRedEyeMode | False |
FlashReturn | No return detection |
FNumber | 5.6 |
FocalLength | 440.0 mm |
FocalLength35efl | 440.0 mm (35 mm equivalent: 660.0 mm) |
FocalLengthIn35mmFormat | 660 mm |
Format | image/jpeg |
FOV | 3.1 deg |
GainControl | Low gain up |
GreenHue | 0 |
GreenSaturation | 0 |
HasCrop | False |
HasSettings | True |
HighlightRecovery | 6 |
HueAdjustmentAqua | 0 |
HueAdjustmentBlue | 0 |
HueAdjustmentGreen | 0 |
HueAdjustmentMagenta | 0 |
HueAdjustmentOrange | 0 |
HueAdjustmentPurple | 0 |
HueAdjustmentRed | 0 |
HueAdjustmentYellow | 0 |
HyperfocalDistance | 1725.91 m |
ICCProfileName | sRGB IEC61966-2.1 |
ImageHeight | 2013 |
ImageNumber | 1234 |
ImageSize | 2807x2013 |
ImageWidth | 2807 |
ISO | 400 |
Lens | 300.0-800.0 mm f/5.6 |
LensInfo | 300-800mm f/5.6 |
LightSource | Unknown |
LightValue | 15.5 |
LuminanceAdjustmentAqua | 0 |
LuminanceAdjustmentBlue | 0 |
LuminanceAdjustmentGreen | 0 |
LuminanceAdjustmentMagenta | 0 |
LuminanceAdjustmentOrange | 0 |
LuminanceAdjustmentPurple | 0 |
LuminanceAdjustmentRed | 0 |
LuminanceAdjustmentYellow | 0 |
LuminanceSmoothing | 72 |
Make | NIKON CORPORATION |
MaxApertureValue | 5.7 |
Megapixels | 5.7 |
MeteringMode | Center-weighted average |
Model | NIKON D300S |
ModifyDate (1) | 2010:03:27 16:20:59+01:00 |
ModifyDate | 2010:03:27 16:20:59 |
Orientation | Horizontal (normal) |
ParametricDarks | 0 |
ParametricHighlights | 0 |
ParametricHighlightSplit | 75 |
ParametricLights | 0 |
ParametricMidtoneSplit | 50 |
ParametricShadows | 0 |
ParametricShadowSplit | 25 |
PostCropVignetteAmount | 0 |
ProfileDescription | sRGB IEC61966-2.1 |
Rating | 0 |
RawFileName | _HOH1112.NEF |
RedHue | 0 |
RedSaturation | 0 |
Rights | (C)HANS OHRA |
Saturation (2) | +6 |
Saturation | Normal |
SaturationAdjustmentAqua | 0 |
SaturationAdjustmentBlue | 0 |
SaturationAdjustmentGreen | 0 |
SaturationAdjustmentMagenta | 0 |
SaturationAdjustmentOrange | 0 |
SaturationAdjustmentPurple | 0 |
SaturationAdjustmentRed | 0 |
SaturationAdjustmentYellow | 0 |
ScaleFactor35efl | 1.5 |
SceneCaptureType | Standard |
SceneType | Directly photographed |
SensingMethod | One-chip color area |
SerialNumber | 6015553 |
Shadows | 5 |
ShadowTint | 0 |
SharpenDetail | 23 |
SharpenEdgeMasking | 18 |
SharpenRadius | +1.3 |
Sharpness (2) | 64 |
Sharpness | Normal |
ShutterSpeed | 1/6000 |
ShutterSpeedValue | 1/6000 |
SidecarForExtension | NEF |
Software | Adobe Photoshop Elements 8.0 Windows |
SplitToningBalance | 0 |
SplitToningHighlightHue | 0 |
SplitToningHighlightSaturation | 0 |
SplitToningShadowHue | 0 |
SplitToningShadowSaturation | 0 |
SubjectDistanceRange | Unknown |
Tint | +10 |
ToneCurve | 0, 0, 32, 22, 64, 56, 128, 128, 192, 196, 255, 255 |
ToneCurveName | Medium Contrast |
URL_List | |
Version | 5.5 |
Vibrance | +1 |
VignetteAmount | 0 |
WhiteBalance (2) | Daylight |
WhiteBalance | Auto |