Felt | Verdi |
AlreadyApplied | True |
Aperture | 18.0 |
ApertureValue | 18.0 |
Artist | GAUTE BRUVIK |
BitsPerSample | 8 |
BlueHue | 0 |
BlueSaturation | 0 |
Brightness | +50 |
By-line | GAUTE BRUVIK |
CameraProfile | Adobe Standard |
CFAPattern | [Red,Green][Green,Blue] |
ChromaticAberrationB | 0 |
ChromaticAberrationR | 0 |
CircleOfConfusion | 0.030 mm |
Clarity | 0 |
ColorComponents | 3 |
ColorNoiseReduction | 25 |
ColorTemperature | 3300 |
Contrast (2) | +41 |
Contrast | Normal |
ConvertToGrayscale | False |
Copyright | Kodiak Photography |
CopyrightNotice | Kodiak Photography |
CreateDate (1) | 2010:03:01 19:32:38.67+01:00 |
CreateDate | 2010:03:01 19:32:38 |
Creator | GAUTE BRUVIK |
CreatorTool | Adobe Photoshop Lightroom |
CropAngle | -0.823498 |
CropBottom | 0.978856 |
CropHeight | 2772 |
CropLeft | 0.005891 |
CropRight | 0.994109 |
CropTop | 0.021144 |
CropUnit | pixels |
CropWidth | 4166 |
CustomRendered | Normal |
DateTimeDigitized | 2010:03:01 19:32:38.67+1:00 |
DateTimeOriginal (1) | 2010:03:01 19:32:38.67+1:00 |
DateTimeOriginal | 2010:03:01 19:32:38 |
Defringe | 0 |
DigitalZoomRatio | 1 |
ExifImageHeight (1) | 2772 |
ExifImageHeight | 1065 |
ExifImageWidth (1) | 4166 |
ExifImageWidth | 1600 |
Exposure | 0.00 |
ExposureCompensation | 0 |
ExposureMode | Manual |
ExposureProgram | Manual |
ExposureTime | 30 |
FillLight | 0 |
Flash | No Flash |
FlashFired | False |
FlashFunction | False |
FlashMode | Unknown |
FlashRedEyeMode | False |
FlashReturn | No return detection |
FNumber | 18.0 |
FocalLength | 16.0 mm |
FocalLength35efl | 16.0 mm (35 mm equivalent: 16.0 mm) |
FocalLengthIn35mmFormat (2) | 16 |
FocalLengthIn35mmFormat | 16 mm |
FOV | 96.7 deg |
GainControl | None |
GreenHue | 0 |
GreenSaturation | 0 |
HasCrop | True |
HasSettings | True |
HighlightRecovery | 0 |
HueAdjustmentAqua | 0 |
HueAdjustmentBlue | 0 |
HueAdjustmentGreen | 0 |
HueAdjustmentMagenta | 0 |
HueAdjustmentOrange | 0 |
HueAdjustmentPurple | 0 |
HueAdjustmentRed | 0 |
HueAdjustmentYellow | 0 |
HyperfocalDistance | 0.47 m |
ImageHeight (1) | 2772 |
ImageHeight | 1065 |
ImageNumber | 12865 |
ImageSize | 1600x1065 |
ImageWidth (1) | 4166 |
ImageWidth | 1600 |
ISO | 200 |
Keywords | Qatar, ferie |
Lens | 14.0-24.0 mm f/2.8 |
LensID (1) | 146 |
LensID | AF-S Zoom-Nikkor 14-24mm f/2.8G ED |
LensInfo | 14-24mm f/2.8 |
LightSource | Unknown |
LightValue | 2.4 |
LuminanceAdjustmentAqua | 0 |
LuminanceAdjustmentBlue | 0 |
LuminanceAdjustmentGreen | 0 |
LuminanceAdjustmentMagenta | 0 |
LuminanceAdjustmentOrange | 0 |
LuminanceAdjustmentPurple | 0 |
LuminanceAdjustmentRed | 0 |
LuminanceAdjustmentYellow | 0 |
LuminanceSmoothing | 0 |
Make | NIKON CORPORATION |
Marked | True |
MaxApertureValue | 2.8 |
Megapixels | 1.7 |
MeteringMode | Multi-segment |
Model | NIKON D700 |
ModifyDate (1) | 2010:03:11 17:25:49.0+1:00 |
ModifyDate | 2010:03:12 15:08:35 |
Orientation | Horizontal (normal) |
PaintCorrectionActive | true |
PaintCorrectionAmount | 1.000000 |
PaintCorrectionBrightness | 0.000000 |
PaintCorrectionClarity | 0.000000 |
PaintCorrectionContrast | 0.000000 |
PaintCorrectionExposure | -0.500000 |
PaintCorrectionHue | 107.000000 |
PaintCorrectionMaskCenterWeight | 0.218559 |
PaintCorrectionMaskFlow | 0.344000 |
PaintCorrectionMaskRadius (1) | 0.019939 |
PaintCorrectionMaskRadius | 0.014821 |
PaintCorrectionMaskValue | 1.000000 |
PaintCorrectionMaskWhat | Mask/Paint |
PaintCorrectionSaturation | 0.000000 |
PaintCorrectionSharpness | 0.000000 |
PaintCorrectionWhat | Correction |
ParametricDarks | 0 |
ParametricHighlights | 0 |
ParametricHighlightSplit | 75 |
ParametricLights | 0 |
ParametricMidtoneSplit | 50 |
ParametricShadows | 0 |
ParametricShadowSplit | 25 |
PostCropVignetteAmount | 0 |
ProfileDescription | sRGB IEC61966-2.1 |
RedHue | 0 |
RedSaturation | 0 |
Rights | Kodiak Photography |
Saturation (2) | +21 |
Saturation | Normal |
SaturationAdjustmentAqua | 0 |
SaturationAdjustmentBlue | 0 |
SaturationAdjustmentGreen | 0 |
SaturationAdjustmentMagenta | 0 |
SaturationAdjustmentOrange | 0 |
SaturationAdjustmentPurple | 0 |
SaturationAdjustmentRed | 0 |
SaturationAdjustmentYellow | 0 |
ScaleFactor35efl | 1.0 |
SceneCaptureType | Standard |
SceneType | Directly photographed |
SensingMethod | One-chip color area |
SerialNumber | 2150211 |
Shadows | 8 |
ShadowTint | 0 |
SharpenDetail | 25 |
SharpenEdgeMasking | 0 |
SharpenRadius | +1.0 |
Sharpness (2) | 102 |
Sharpness | Normal |
ShutterSpeed | 30 |
ShutterSpeedValue | 30 |
Software | ACD Systems Digital Imaging |
SplitToningBalance | 0 |
SplitToningHighlightHue | 0 |
SplitToningHighlightSaturation | 0 |
SplitToningShadowHue | 0 |
SplitToningShadowSaturation | 0 |
Subject | Qatar, ferie |
SubjectDistance (1) | 4294967295 m |
SubjectDistance | m |
SubjectDistanceRange | Unknown |
Tint | +2 |
ToneCurve | 0, 0, 32, 22, 64, 56, 128, 128, 192, 196, 255, 255 |
ToneCurveName | Medium Contrast |
Version | 5.6 |
Vibrance | +21 |
VignetteAmount | -5 |
VignetteMidpoint | 50 |
WhiteBalance (2) | As Shot |
WhiteBalance | Auto |