Felt | Verdi |
AlreadyApplied | True |
Aperture | 22.0 |
ApertureValue | 22.0 |
BitsPerSample | 8 |
BlueHue | 0 |
BlueSaturation | 0 |
Brightness | +33 |
CameraProfile | Adobe Standard |
CFAPattern | [Green,Blue][Red,Green] |
ChromaticAberrationB | 0 |
ChromaticAberrationR | 0 |
CircleOfConfusion | 0.020 mm |
Clarity | -100 |
ColorComponents | 1 |
ColorNoiseReduction | 25 |
ColorNoiseReductionDetail | 50 |
ColorTemperature | 6000 |
Contrast (2) | +25 |
Contrast | Normal |
ConvertToGrayscale | True |
CreateDate (1) | 2010:02:28 12:48:29.00+01:00 |
CreateDate | 2010:02:28 12:48:29 |
CreatorTool | Adobe Photoshop Lightroom |
CropAngle | 0 |
CropBottom | 0.716567 |
CropHeight | 2041 |
CropLeft | 0.283433 |
CropRight | 1 |
CropTop | 0 |
CropUnit | pixels |
CropWidth | 3073 |
CustomRendered | Normal |
DateTimeDigitized | 2010:02:28 12:48:29.00+01:00 |
DateTimeOriginal (1) | 2010:02:28 12:48:29.00+01:00 |
DateTimeOriginal | 2010:02:28 12:48:29 |
Defringe | 0 |
DigitalZoomRatio | 1 |
DOF | inf (1.78 m - inf) |
ExifImageHeight | 2041 |
ExifImageWidth | 3073 |
Exposure | +0.23 |
ExposureCompensation | +4/3 |
ExposureMode | Auto |
ExposureProgram | Aperture-priority AE |
ExposureTime | 1/25 |
FillLight | 0 |
Flash | No Flash |
FlashFired | False |
FlashFunction | False |
FlashMode | Unknown |
FlashRedEyeMode | False |
FlashReturn | No return detection |
FNumber | 22.0 |
FocalLength | 28.0 mm |
FocalLength35efl | 28.0 mm (35 mm equivalent: 42.0 mm) |
FocalLengthIn35mmFormat | 42 mm |
FOV | 46.4 deg |
GainControl | None |
GrainAmount | 0 |
GrayMixerAqua | +17 |
GrayMixerBlue | -20 |
GrayMixerGreen | -27 |
GrayMixerMagenta | +4 |
GrayMixerOrange | -100 |
GrayMixerPurple | +16 |
GrayMixerRed | -10 |
GrayMixerYellow | -87 |
GreenHue | 0 |
GreenSaturation | 0 |
HasCrop | True |
HasSettings | True |
HighlightRecovery | 0 |
HyperfocalDistance | 1.78 m |
ImageHeight | 2041 |
ImageNumber | 2380 |
ImageSize | 3073x2041 |
ImageWidth | 3073 |
ISO | 200 |
Lens | 18.0-105.0 mm f/3.5-5.6 |
LensID (1) | 158 |
LensID | AF-S DX VR Zoom-Nikkor 18-105mm f/3.5-5.6G ED |
LensInfo | 18-105mm f/3.5-5.6 |
LightSource | Unknown |
LightValue | 12.6 |
Make | NIKON CORPORATION |
MaxApertureValue | 4.0 |
Megapixels | 6.3 |
MeteringMode | Multi-segment |
Model | NIKON D90 |
ModifyDate (1) | 2010:02:28 14:09:32+01:00 |
ModifyDate | 2010:02:28 14:09:32 |
NoiseReductionContrast | 0 |
ParametricDarks | +70 |
ParametricHighlights | -100 |
ParametricHighlightSplit | 75 |
ParametricLights | -100 |
ParametricMidtoneSplit | 50 |
ParametricShadows | -100 |
ParametricShadowSplit | 25 |
PostCropVignetteAmount | 0 |
ProfileDescription | Adobe RGB (1998) |
RedHue | 0 |
RedSaturation | 0 |
RenderVersion | 5.7 |
Saturation | Normal |
ScaleFactor35efl | 1.5 |
SceneCaptureType | Landscape |
SceneType | Directly photographed |
SensingMethod | One-chip color area |
SerialNumber | 6280865 |
Shadows | 21 |
ShadowTint | 0 |
SharpenDetail | 25 |
SharpenEdgeMasking | 0 |
SharpenRadius | +1.0 |
Sharpness (2) | 90 |
Sharpness | Normal |
ShutterSpeed | 1/25 |
ShutterSpeedValue | 1/25 |
Software | Ver.1.00 |
SplitToningBalance | 0 |
SplitToningHighlightHue | 0 |
SplitToningHighlightSaturation | 0 |
SplitToningShadowHue | 0 |
SplitToningShadowSaturation | 0 |
SubjectDistance | 4294967295 m |
SubjectDistanceRange | Unknown |
Tint | -9 |
ToneCurve | 0, 0, 32, 22, 64, 56, 128, 128, 192, 196, 255, 255 |
ToneCurveName | Medium Contrast |
Version | 6.0 |
VignetteAmount | 0 |
WhiteBalance (2) | As Shot |
WhiteBalance | Auto |