Felt | Verdi |
AlreadyApplied | True |
Aperture | 5.6 |
ApertureValue | 5.6 |
Artist | KENNETH SOLFJELD |
BitsPerSample (1) | 8, 8, 8 |
BitsPerSample (2) | 8 8 8 |
BitsPerSample | 8 |
BlueHue | 0 |
BlueSaturation | 0 |
Brightness | +50 |
By-line | KENNETH SOLFJELD |
CameraProfile | ACR 4.4 |
CFAPattern | [Red,Green][Green,Blue] |
ChromaticAberrationB | 0 |
ChromaticAberrationR | 0 |
CircleOfConfusion | 0.020 mm |
Clarity | +18 |
ColorComponents | 3 |
ColorMode | RGB |
ColorNoiseReduction | 25 |
ColorSpace | sRGB |
ColorTemperature | 4850 |
Contrast (2) | +25 |
Contrast | Normal |
ConvertToGrayscale | False |
Copyright | KENNETH SOLFJELD |
CopyrightFlag | False |
CopyrightNotice | KENNETH SOLFJELD |
CreateDate (1) | 2010:02:28 16:55:23+01:00 |
CreateDate | 2009:09:22 16:30:28 |
Creator | KENNETH SOLFJELD |
CreatorTool | Adobe Photoshop CS3 Windows |
CustomRendered | Normal |
DateTimeDigitized | 2009:09:22 16:30:28.77+02:00 |
DateTimeOriginal (1) | 2009:09:22 16:30:28.77+02:00 |
DateTimeOriginal | 2009:09:22 16:30:28 |
Defringe | 0 |
DigitalZoomRatio | 1 |
ExifImageHeight | 501 |
ExifImageWidth | 1280 |
Exposure | +0.05 |
ExposureCompensation | 0 |
ExposureMode | Manual |
ExposureProgram | Manual |
ExposureTime | 1/1250 |
FillLight | 0 |
Flash | No Flash |
FlashFired | False |
FlashFunction | False |
FlashMode | Unknown |
FlashRedEyeMode | False |
FlashReturn | No return detection |
FNumber | 5.6 |
FocalLength | 50.0 mm |
FocalLength35efl | 50.0 mm (35 mm equivalent: 75.0 mm) |
FocalLengthIn35mmFormat | 75 mm |
Format | image/jpeg |
FOV | 27.0 deg |
GainControl | None |
GreenHue | 0 |
GreenSaturation | 0 |
HasCrop | False |
HasSettings | True |
HighlightRecovery | 35 |
HueAdjustmentAqua | 0 |
HueAdjustmentBlue | 0 |
HueAdjustmentGreen | 0 |
HueAdjustmentMagenta | 0 |
HueAdjustmentOrange | 0 |
HueAdjustmentPurple | 0 |
HueAdjustmentRed | 0 |
HueAdjustmentYellow | 0 |
HyperfocalDistance | 22.29 m |
ICCProfileName | sRGB IEC61966-2.1 |
ImageHeight (2) | 2730 |
ImageHeight | 501 |
ImageNumber | 16212 |
ImageSize | 1280x501 |
ImageWidth (2) | 6975 |
ImageWidth | 1280 |
ISO | 100 |
Lens | 50.0 mm f/1.8 |
LensInfo | 50mm f/1.8 |
LightSource | Unknown |
LightValue | 15.3 |
LuminanceAdjustmentAqua | 0 |
LuminanceAdjustmentBlue | 0 |
LuminanceAdjustmentGreen | 0 |
LuminanceAdjustmentMagenta | 0 |
LuminanceAdjustmentOrange | 0 |
LuminanceAdjustmentPurple | 0 |
LuminanceAdjustmentRed | 0 |
LuminanceAdjustmentYellow | 0 |
LuminanceSmoothing | 0 |
Make | NIKON CORPORATION |
MaxApertureValue | 1.7 |
Megapixels | 0.641 |
MeteringMode | Spot |
Model | NIKON D300 |
ModifyDate (1) | 2010:02:28 16:55:23+01:00 |
ModifyDate | 2010:02:28 16:55:23 |
Orientation | Horizontal (normal) |
ParametricDarks | 0 |
ParametricHighlights | 0 |
ParametricHighlightSplit | 75 |
ParametricLights | 0 |
ParametricMidtoneSplit | 50 |
ParametricShadows | 0 |
ParametricShadowSplit | 25 |
PhotometricInterpretation | RGB |
PlanarConfiguration | Chunky |
PostCropVignetteAmount | 0 |
ProfileDescription | sRGB IEC61966-2.1 |
Rating | 0 |
RatingPercent | 0 |
RawFileName | _DSC6025.NEF |
RedHue | 0 |
RedSaturation | 0 |
Rights | KENNETH SOLFJELD |
SamplesPerPixel | 3 |
Saturation (2) | +32 |
Saturation | Normal |
SaturationAdjustmentAqua | 0 |
SaturationAdjustmentBlue | -35 |
SaturationAdjustmentGreen | 0 |
SaturationAdjustmentMagenta | 0 |
SaturationAdjustmentOrange | 0 |
SaturationAdjustmentPurple | 0 |
SaturationAdjustmentRed | 0 |
SaturationAdjustmentYellow | 0 |
ScaleFactor35efl | 1.5 |
SceneCaptureType | Standard |
SceneType | Directly photographed |
SensingMethod | One-chip color area |
SerialNumber | 4056106 |
Shadows | 5 |
ShadowTint | 0 |
SharpenDetail | 25 |
SharpenEdgeMasking | 0 |
SharpenRadius | +1.0 |
Sharpness (2) | 0 |
Sharpness | Soft |
ShutterSpeed | 1/1250 |
ShutterSpeedValue | 1/1250 |
SidecarForExtension | NEF |
Software | Adobe Photoshop CS3 Windows |
SplitToningBalance | 0 |
SplitToningHighlightHue | 0 |
SplitToningHighlightSaturation | 0 |
SplitToningShadowHue | 0 |
SplitToningShadowSaturation | 0 |
SubjectDistanceRange | Unknown |
Tint | +5 |
ToneCurve | 0, 0, 32, 22, 64, 56, 126, 131, 184, 197, 255, 255 |
ToneCurveName | Custom |
URL_List | |
Version | 4.5 |
Vibrance | +32 |
VignetteAmount | 0 |
WhiteBalance (2) | Custom |
WhiteBalance | Auto |