Felt | Verdi |
AlreadyApplied | True |
Aperture | 5.6 |
ApertureValue | 5.6 |
BitsPerSample | 8 |
BlueHue | 0 |
BlueSaturation | +63 |
Brightness | +25 |
By-line | Ane Nyrud Dreyer |
CameraProfile | ACR 2.4 |
CFAPattern | [Red,Green][Green,Blue] |
ChromaticAberrationB | 0 |
ChromaticAberrationR | 0 |
CircleOfConfusion | 0.020 mm |
Clarity | 0 |
ColorComponents | 3 |
ColorNoiseReduction | 25 |
ColorTemperature | 6800 |
Contrast (2) | 0 |
Contrast | Normal |
ConvertToGrayscale | True |
Copyright | Ane Nyrud Dreyer |
CopyrightNotice | Ane Nyrud Dreyer |
CreateDate | 2010:02:16 00:00:00 |
Creator | Ane Nyrud Dreyer |
CreatorTool | Adobe Photoshop Lightroom |
CreatorWorkEmail | anendreyer@hotmail.com |
CropAngle | 0 |
CropBottom | 1 |
CropHeight | 466 |
CropLeft | 0 |
CropRight | 0.779456 |
CropTop | 0.145455 |
CropUnit | pixels |
CropWidth | 640 |
CustomRendered | Normal |
DateTimeDigitized | 2010:02:16 22:18:54.00+01:00 |
DateTimeOriginal (1) | 2010:02:16 22:18:54.00+01:00 |
DateTimeOriginal | 2010:02:16 00:00:00 |
Defringe | 0 |
DigitalZoomRatio | 1 |
Exposure | +0.48 |
ExposureCompensation | 0 |
ExposureMode | Auto |
ExposureProgram | Aperture-priority AE |
ExposureTime | 1/60 |
FillLight | 21 |
Flash | On, Return detected |
FlashFired | True |
FlashFunction | False |
FlashMode | On |
FlashRedEyeMode | False |
FlashReturn | Return detected |
FNumber | 5.6 |
FocalLength | 70.0 mm |
FocalLength35efl | 70.0 mm (35 mm equivalent: 105.0 mm) |
FocalLengthIn35mmFormat | 105 mm |
FOV | 19.5 deg |
GainControl | None |
GrayMixerAqua | -24 |
GrayMixerBlue | +3 |
GrayMixerGreen | -24 |
GrayMixerMagenta | +16 |
GrayMixerOrange | -7 |
GrayMixerPurple | +18 |
GrayMixerRed | +9 |
GrayMixerYellow | -15 |
GreenHue | 0 |
GreenSaturation | 0 |
HasCrop | True |
HasSettings | True |
HighlightRecovery | 0 |
HyperfocalDistance | 43.68 m |
ImageHeight | 466 |
ImageNumber | 4733 |
ImageSize | 640x466 |
ImageWidth | 640 |
ISO | 250 |
Keywords | rose |
Label | Yellow |
Lens | 70.0 mm f/2.8 |
LensInfo | 70mm f/2.8 |
LightSource | Unknown |
LightValue | 9.6 |
LuminanceSmoothing | 0 |
Make | NIKON CORPORATION |
Marked | True |
MaxApertureValue | 2.8 |
Megapixels | 0.298 |
MeteringMode | Multi-segment |
Model | NIKON D300 |
ModifyDate (1) | 2010:02:17 10:16:14+01:00 |
ModifyDate | 2010:02:17 10:16:14 |
ParametricDarks | -2 |
ParametricHighlights | 0 |
ParametricHighlightSplit | 75 |
ParametricLights | +2 |
ParametricMidtoneSplit | 50 |
ParametricShadows | -20 |
ParametricShadowSplit | 25 |
ProfileDescription | Adobe RGB (1998) |
Rating | 4 |
RedHue | 0 |
RedSaturation | -34 |
Rights | Ane Nyrud Dreyer |
Saturation | Normal |
ScaleFactor35efl | 1.5 |
SceneCaptureType | Standard |
SceneType | Directly photographed |
SensingMethod | One-chip color area |
Shadows | 8 |
ShadowTint | 0 |
SharpenDetail | 50 |
SharpenEdgeMasking | 0 |
SharpenRadius | +1.0 |
Sharpness (2) | 25 |
Sharpness | Normal |
ShutterSpeed | 1/60 |
ShutterSpeedValue | 1/60 |
Software | Ver.1.00 |
SplitToningBalance | 0 |
SplitToningHighlightHue | 50 |
SplitToningHighlightSaturation | 66 |
SplitToningShadowHue | 30 |
SplitToningShadowSaturation | 28 |
Subject | rose |
SubjectDistanceRange | Unknown |
Tint | +63 |
ToneCurve | 0, 0, 255, 255 |
ToneCurveName | Linear |
Version | 4.4 |
VignetteAmount | -41 |
VignetteMidpoint | 48 |
WhiteBalance (2) | Custom |
WhiteBalance | Auto |