Felt | Verdi |
AlreadyApplied | True |
Aperture | 3.0 |
ApertureValue | 3.0 |
ApproximateFNumber | 3.0 |
BaseISO | 160 |
BitsPerSample | 8 |
BlueBalance | 0.842062 |
BlueHue | 0 |
BlueSaturation | 0 |
Brightness | +16 |
By-line | Alf M. Sollund |
CameraProfile | Adobe Standard |
CameraTemperature | -8 C |
ChromaticAberrationB | 0 |
ChromaticAberrationR | 0 |
CircleOfConfusion | 0.030 mm |
Clarity | 0 |
ColorComponents | 3 |
ColorNoiseReduction | 0 |
ColorTemperature | 5678 |
Contrast (1) | +10 |
Contrast | Normal |
ConvertToGrayscale | False |
Copyright | Alf M. Sollund |
CopyrightFlag | True |
CopyrightNotice | Alf M. Sollund |
CreateDate (1) | 2010:01:31 14:54:04+01:00 |
CreateDate | 2010:01:31 14:54:04 |
Creator | Alf M. Sollund |
CreatorAddress | Amtmanns gt. 15 |
CreatorCity | Tromsø |
CreatorCountry | Norway |
CreatorPostalCode | 9008 |
CreatorTool | Adobe Photoshop Lightroom |
CreatorWorkEmail | alf-martin.sollund |
CreatorWorkTelephone | +4791889676 |
CreatorWorkURL | http://flyalf.com |
CropAngle | 0 |
CropBottom | 0.948088 |
CropHeight | 681 |
CropLeft | 0.176548 |
CropRight | 0.937945 |
CropTop | 0.186691 |
CropUnit | pixels |
CropWidth | 1024 |
DateTimeDigitized | 2010:01:31 14:54:04+01:00 |
DateTimeOriginal (1) | 2010:01:31 14:54:04+01:00 |
DateTimeOriginal | 2010:01:31 14:54:04 |
Defringe | 0 |
DigitalZoomRatio | 0 |
ExifImageHeight | 681 |
ExifImageWidth | 1024 |
Exposure | +1.06 |
ExposureCompensation | 0 |
ExposureMode | Manual |
ExposureProgram | Aperture-priority AE |
ExposureTime | 1/250 |
ExternalSensorBrightnessValue | 2.88 |
FillLight | 40 |
FirmwareVersion | 1.002 |
Flash | No Flash |
FlashFired | False |
FlashFunction | False |
FlashMode | Unknown |
FlashRedEyeMode | False |
FlashReturn | No return detection |
FNumber | 3.0 |
FocalLength | 50.0 mm |
FocalLength35efl | 50.0 mm (35 mm equivalent: 50.0 mm) |
FocalLengthIn35mmFormat | 50 mm |
FOV | 39.6 deg |
GrainAmount | 0 |
GreenHue | 0 |
GreenSaturation | 0 |
HasCrop | True |
HasSettings | True |
HighlightRecovery | 0 |
HueAdjustmentAqua | 0 |
HueAdjustmentBlue | 0 |
HueAdjustmentGreen | 0 |
HueAdjustmentMagenta | 0 |
HueAdjustmentOrange | 0 |
HueAdjustmentPurple | 0 |
HueAdjustmentRed | 0 |
HueAdjustmentYellow | 0 |
HyperfocalDistance | 27.74 m |
ImageHeight | 681 |
ImageSize | 1024x681 |
ImageWidth | 1024 |
ISO | 400 |
JPEGQuality | Basic |
Keywords | Kvaløya, Norway, Troms, winter |
Lens | Leica Summicron-M 50mm f/2 (IV, V) |
LensID (1) | 33 |
LensID | Summicron-M 50mm f/2 (IV, V) |
LensType | Summicron-M 50mm f/2 (IV, V) |
LightSource | Unknown |
LightValue | 9.1 |
LuminanceAdjustmentAqua | 0 |
LuminanceAdjustmentBlue | 0 |
LuminanceAdjustmentGreen | 0 |
LuminanceAdjustmentMagenta | 0 |
LuminanceAdjustmentOrange | 0 |
LuminanceAdjustmentPurple | 0 |
LuminanceAdjustmentRed | 0 |
LuminanceAdjustmentYellow | 0 |
Make | Leica Camera AG |
MakerNoteSafety | Safe |
Marked | True |
MaxApertureValue | 2.0 |
MeasuredLV | 4.06 |
Megapixels | 0.697 |
MeteringMode | Center-weighted average |
Model | M9 Digital Camera |
ModifyDate (1) | 2010:01:31 18:32:02+01:00 |
ModifyDate | 2010:01:31 18:32:02 |
ParametricDarks | -3 |
ParametricHighlights | +66 |
ParametricHighlightSplit | 75 |
ParametricLights | +15 |
ParametricMidtoneSplit | 50 |
ParametricShadows | -20 |
ParametricShadowSplit | 25 |
PostCropVignetteAmount | 0 |
ProfileDescription | sRGB IEC61966-2.1 |
RedBalance | 0.498054 |
RedHue | 0 |
RedSaturation | 0 |
RenderVersion | 5.7 |
Rights | Alf M. Sollund |
Saturation (1) | +20 |
Saturation | Normal |
SaturationAdjustmentAqua | 0 |
SaturationAdjustmentBlue | 0 |
SaturationAdjustmentGreen | 0 |
SaturationAdjustmentMagenta | 0 |
SaturationAdjustmentOrange | 0 |
SaturationAdjustmentPurple | 0 |
SaturationAdjustmentRed | 0 |
SaturationAdjustmentYellow | 0 |
ScaleFactor35efl | 1.0 |
SceneCaptureType | Standard |
SceneType | Directly photographed |
SensorBitDepth | 14 |
SensorHeight | 3516 |
SensorWidth | 5270 |
SerialNumber | ******* |
Shadows | 5 |
ShadowTint | 0 |
SharpenDetail | 25 |
SharpenEdgeMasking | 0 |
Sharpening | Normal |
SharpenRadius | +1.0 |
Sharpness | 10 |
ShutterSpeed | 1/250 |
ShutterSpeedValue | 1/250 |
Software | 1.002 |
SplitToningBalance | 0 |
SplitToningHighlightHue | 0 |
SplitToningHighlightSaturation | 0 |
SplitToningShadowHue | 0 |
SplitToningShadowSaturation | 0 |
Subject | Kvaløya, Norway, Troms, winter |
Tint | -5 |
ToneCurve | 0, 0, 32, 22, 64, 56, 128, 128, 192, 196, 255, 255 |
ToneCurveName | Medium Contrast |
UserProfile | Profile 1 |
Version | 6.0 |
Vibrance | +20 |
VignetteAmount | 0 |
WB_RGBLevels | 0.4980544747 1 0.8420619828 |
WhiteBalance (3) | Custom |
WhiteBalance | Auto |