Felt | Verdi |
AlreadyApplied | True |
Aperture | 11.0 |
ApertureValue | 11.0 |
BitsPerSample | 8 |
BlueHue | 0 |
BlueSaturation | 0 |
Brightness | +61 |
CameraProfile | Beta |
ChromaticAberrationB | 0 |
ChromaticAberrationR | 0 |
CircleOfConfusion | 0.019 mm |
Clarity | +53 |
ColorComponents | 3 |
ColorMode | RGB |
ColorNoiseReduction | 25 |
ColorSpace | sRGB |
ColorTemperature | 3150 |
Contrast | +25 |
ConvertToGrayscale | False |
CopyrightFlag | False |
CreateDate (1) | 2010:01:22 21:08:07.00+01:00 |
CreateDate | 2010:01:22 21:08:07 |
CreatorTool | Adobe Photoshop Elements 7.0 Windows |
CustomRendered | Normal |
DateTimeDigitized | 2010:01:22 21:08:07.00+01:00 |
DateTimeOriginal (1) | 2010:01:22 21:08:07.00+01:00 |
DateTimeOriginal | 2010:01:22 21:08:07 |
Defringe | 0 |
ExifImageHeight | 3456 |
ExifImageWidth | 3716 |
Exposure | 0.00 |
ExposureCompensation | 0 |
ExposureMode | Manual |
ExposureProgram | Manual |
ExposureTime | 3.2 |
FillLight | 0 |
Firmware | 1.1.0 |
Flash | Off, Did not fire |
FlashCompensation | 0 |
FlashFired | False |
FlashFunction | False |
FlashMode | Off |
FlashRedEyeMode | False |
FlashReturn | No return detection |
FNumber | 11.0 |
FocalLength | 34.0 mm |
FocalLength35efl | 34.0 mm (35 mm equivalent: 53.4 mm) |
Format | image/jpeg |
FOV | 37.3 deg |
GreenHue | 0 |
GreenSaturation | 0 |
HasCrop | False |
HasSettings | True |
HighlightRecovery | 77 |
HueAdjustmentAqua | 0 |
HueAdjustmentBlue | 0 |
HueAdjustmentGreen | 0 |
HueAdjustmentMagenta | 0 |
HueAdjustmentOrange | 0 |
HueAdjustmentPurple | 0 |
HueAdjustmentRed | 0 |
HueAdjustmentYellow | 0 |
HyperfocalDistance | 5.49 m |
ICCProfileName | sRGB IEC61966-2.1 |
ImageHeight | 3456 |
ImageNumber | 0 |
ImageSize | 3716x3456 |
ImageWidth | 3716 |
ISO | 100 |
Lens | 24-70mm |
LensInfo | 24-70mm f/? |
LightValue | 5.2 |
LuminanceAdjustmentAqua | 0 |
LuminanceAdjustmentBlue | 0 |
LuminanceAdjustmentGreen | 0 |
LuminanceAdjustmentMagenta | 0 |
LuminanceAdjustmentOrange | 0 |
LuminanceAdjustmentPurple | 0 |
LuminanceAdjustmentRed | 0 |
LuminanceAdjustmentYellow | 0 |
LuminanceSmoothing | 0 |
Make | Canon |
MaxApertureValue | 2.8 |
Megapixels | 12.8 |
MeteringMode | Spot |
Model | Canon EOS 7D |
ModifyDate (1) | 2010:01:22 23:46:31+01:00 |
ModifyDate | 2010:01:22 23:46:31 |
Orientation | Horizontal (normal) |
ParametricDarks | 0 |
ParametricHighlights | 0 |
ParametricHighlightSplit | 75 |
ParametricLights | 0 |
ParametricMidtoneSplit | 50 |
ParametricShadows | 0 |
ParametricShadowSplit | 25 |
PostCropVignetteAmount | 0 |
ProfileDescription | sRGB IEC61966-2.1 |
Rating | 0 |
RawFileName | stilleben II 047.CR2 |
RedHue | 0 |
RedSaturation | 0 |
Saturation | 0 |
SaturationAdjustmentAqua | 0 |
SaturationAdjustmentBlue | 0 |
SaturationAdjustmentGreen | 0 |
SaturationAdjustmentMagenta | 0 |
SaturationAdjustmentOrange | 0 |
SaturationAdjustmentPurple | 0 |
SaturationAdjustmentRed | 0 |
SaturationAdjustmentYellow | 0 |
ScaleFactor35efl | 1.6 |
SceneCaptureType | Standard |
SerialNumber | 330425880 |
Shadows | 7 |
ShadowTint | 0 |
SharpenDetail | 25 |
SharpenEdgeMasking | 0 |
SharpenRadius | +1.0 |
Sharpness | 25 |
ShutterSpeed | 3.2 |
ShutterSpeedValue | 3.2 |
SidecarForExtension | CR2 |
Software | Adobe Photoshop Elements 7.0 Windows |
SplitToningBalance | 0 |
SplitToningHighlightHue | 0 |
SplitToningHighlightSaturation | 0 |
SplitToningShadowHue | 0 |
SplitToningShadowSaturation | 0 |
Tint | +17 |
ToneCurve | 0, 0, 32, 22, 64, 56, 128, 128, 192, 196, 255, 255 |
ToneCurveName | Medium Contrast |
URL_List | |
Version | 5.5 |
Vibrance | 0 |
VignetteAmount | 0 |
WhiteBalance (2) | Custom |
WhiteBalance | Auto |