Felt | Verdi |
AlreadyApplied | True |
Aperture | 5.7 |
ApertureValue | 5.7 |
BitsPerSample | 8 |
BlueHue | 0 |
BlueSaturation | 0 |
Brightness | +13 |
CameraProfile | Embedded |
ChromaticAberrationB | 0 |
ChromaticAberrationR | 0 |
Clarity | -10 |
ColorComponents | 3 |
ColorNoiseReduction | 0 |
Contrast | +25 |
ConvertToGrayscale | False |
CreateDate (1) | 2009:12:20 14:22:27+01:00 |
CreateDate | 2009:12:20 14:22:27 |
CreatorTool | Adobe Photoshop Lightroom |
CropAngle | 0 |
CropBottom | 0.947484 |
CropHeight | 2448 |
CropLeft | 0 |
CropRight | 1 |
CropTop | 0 |
CropUnit | pixels |
CropWidth | 3888 |
DateTimeDigitized | 2009:12:20 14:22:27+01:00 |
DateTimeOriginal (1) | 2009:12:20 14:22:27+01:00 |
DateTimeOriginal | 2009:12:20 14:22:27 |
Defringe | 0 |
ExifImageHeight | 2448 |
ExifImageWidth | 3888 |
Exposure | -0.33 |
ExposureCompensation | 0 |
ExposureProgram | Manual |
ExposureTime | 1/60 |
FillLight | 0 |
Flash | No Flash |
FlashFired | False |
FlashFunction | False |
FlashMode | Unknown |
FlashRedEyeMode | False |
FlashReturn | No return detection |
FNumber | 5.7 |
FocalLength | 35.0 mm |
FocalLength35efl | 35.0 mm |
GreenHue | 0 |
GreenSaturation | 0 |
HasCrop | True |
HasSettings | True |
HighlightRecovery | 6 |
HueAdjustmentAqua | 0 |
HueAdjustmentBlue | 0 |
HueAdjustmentGreen | 0 |
HueAdjustmentMagenta | 0 |
HueAdjustmentOrange | 0 |
HueAdjustmentPurple | 0 |
HueAdjustmentRed | 0 |
HueAdjustmentYellow | 0 |
ImageHeight | 2448 |
ImageSize | 3888x2448 |
ImageWidth | 3888 |
IncrementalTemperature | -27 |
IncrementalTint | 0 |
ISO | 200 |
LightValue | 9.9 |
LuminanceAdjustmentAqua | 0 |
LuminanceAdjustmentBlue | 0 |
LuminanceAdjustmentGreen | 0 |
LuminanceAdjustmentMagenta | 0 |
LuminanceAdjustmentOrange | 0 |
LuminanceAdjustmentPurple | 0 |
LuminanceAdjustmentRed | 0 |
LuminanceAdjustmentYellow | 0 |
LuminanceSmoothing | 0 |
Make | Canon |
Megapixels | 9.5 |
MeteringMode | Spot |
Model | Canon EOS-1D Mark III |
ModifyDate (1) | 2009:12:26 00:49:15+01:00 |
ModifyDate | 2009:12:26 00:49:15 |
ParametricDarks | 0 |
ParametricHighlights | 0 |
ParametricHighlightSplit | 75 |
ParametricLights | 0 |
ParametricMidtoneSplit | 50 |
ParametricShadows | 0 |
ParametricShadowSplit | 25 |
PostCropVignetteAmount | -13 |
PostCropVignetteFeather | 50 |
PostCropVignetteMidpoint | 50 |
PostCropVignetteRoundness | 0 |
ProfileDescription | sRGB IEC61966-2.1 |
RedHue | 0 |
RedSaturation | 0 |
Saturation | 0 |
SaturationAdjustmentAqua | 0 |
SaturationAdjustmentBlue | 0 |
SaturationAdjustmentGreen | 0 |
SaturationAdjustmentMagenta | 0 |
SaturationAdjustmentOrange | 0 |
SaturationAdjustmentPurple | 0 |
SaturationAdjustmentRed | 0 |
SaturationAdjustmentYellow | 0 |
Shadows | 0 |
ShadowTint | 0 |
SharpenDetail | 25 |
SharpenEdgeMasking | 0 |
SharpenRadius | +1.0 |
Sharpness | 0 |
ShutterSpeed | 1/60 |
ShutterSpeedValue | 1/60 |
Software | QuickTime 7.6.4 |
SplitToningBalance | 0 |
SplitToningHighlightHue | 0 |
SplitToningHighlightSaturation | 0 |
SplitToningShadowHue | 0 |
SplitToningShadowSaturation | 0 |
ToneCurve | 0, 0, 255, 255 |
ToneCurveName | Linear |
Version | 5.6 |
Vibrance | 0 |
VignetteAmount | -100 |
VignetteMidpoint | 10 |
WhiteBalance | Custom |