Felt | Verdi |
AlreadyApplied | True |
Aperture | 9.0 |
ApertureValue | 9.0 |
BitsPerSample | 8 |
BlueHue | 0 |
BlueSaturation | +63 |
Brightness | +57 |
CameraProfile | Embedded |
CFAPattern | [Red,Green][Green,Blue] |
ChromaticAberrationB | 0 |
ChromaticAberrationR | 0 |
CircleOfConfusion | 0.020 mm |
Clarity | 0 |
ColorComponents | 3 |
ColorMode | RGB |
ColorNoiseReduction | 25 |
ColorSpace | Uncalibrated |
Contrast (2) | 0 |
Contrast | Normal |
ConvertToGrayscale | True |
CreateDate (1) | 2009:09:22 18:03:37.77+02:00 |
CreateDate | 2009:09:22 18:03:37 |
CreatorTool | Adobe Photoshop Lightroom |
CropAngle | 0 |
CropBottom | 0.743802 |
CropHeight | 2024 |
CropLeft | 0.334552 |
CropRight | 0.974406 |
CropTop | 0.033058 |
CropUnit | pixels |
CropWidth | 2744 |
CustomRendered | Normal |
DateTimeDigitized | 2009:09:22 18:03:37.77+02:00 |
DateTimeOriginal (1) | 2009:09:22 18:03:37.77+02:00 |
DateTimeOriginal | 2009:09:22 18:03:37 |
Defringe | 0 |
DigitalZoomRatio | 1 |
ExifImageHeight | 1000 |
ExifImageWidth | 738 |
Exposure | 0.00 |
ExposureCompensation | -1/3 |
ExposureMode | Auto |
ExposureProgram | Aperture-priority AE |
ExposureTime | 1/125 |
FillLight | 0 |
Flash | No Flash |
FlashFired | False |
FlashFunction | False |
FlashMode | Unknown |
FlashRedEyeMode | False |
FlashReturn | No return detection |
FNumber | 9.0 |
FocalLength | 19.0 mm |
FocalLength35efl | 19.0 mm (35 mm equivalent: 28.0 mm) |
FocalLengthIn35mmFormat | 28 mm |
Format | image/jpeg |
FOV | 65.5 deg |
GainControl | Low gain up |
GrayMixerAqua | -13 |
GrayMixerBlue | +16 |
GrayMixerGreen | -19 |
GrayMixerMagenta | +19 |
GrayMixerOrange | -5 |
GrayMixerPurple | +25 |
GrayMixerRed | +10 |
GrayMixerYellow | -12 |
GreenHue | 0 |
GreenSaturation | 0 |
HasCrop | True |
HasSettings | True |
HighlightRecovery | 0 |
HyperfocalDistance | 1.97 m |
ICCProfileName | Adobe RGB (1998) |
ImageHeight (1) | 2744 |
ImageHeight | 1000 |
ImageNumber | 8905 |
ImageSize | 738x1000 |
ImageWidth (1) | 2024 |
ImageWidth | 738 |
IncrementalTemperature | +23 |
IncrementalTint | +49 |
ISO | 400 |
Lens | 17.0-55.0 mm f/2.8 |
LensInfo | 17-55mm f/2.8 |
LightSource | Unknown |
LightValue | 11.3 |
LuminanceSmoothing | 0 |
Make | NIKON CORPORATION |
MaxApertureValue | 2.8 |
Megapixels | 0.738 |
MeteringMode | Multi-segment |
Model | NIKON D2Xs |
ModifyDate (1) | 2009:10:22 21:58:53+02:00 |
ModifyDate | 2009:10:22 21:58:53 |
Orientation | Horizontal (normal) |
ParametricDarks | -2 |
ParametricHighlights | 0 |
ParametricHighlightSplit | 75 |
ParametricLights | +2 |
ParametricMidtoneSplit | 50 |
ParametricShadows | -20 |
ParametricShadowSplit | 25 |
PostCropVignetteAmount | -44 |
PostCropVignetteFeather | 50 |
PostCropVignetteMidpoint | 50 |
PostCropVignetteRoundness | 0 |
ProfileDescription | Adobe RGB (1998) |
RedHue | 0 |
RedSaturation | -34 |
Saturation | Normal |
ScaleFactor35efl | 1.5 |
SceneCaptureType | Standard |
SceneType | Directly photographed |
SensingMethod | One-chip color area |
SerialNumber | 6000385 |
Shadows | 8 |
ShadowTint | 0 |
SharpenDetail | 20 |
SharpenEdgeMasking | 70 |
SharpenRadius | +1.2 |
Sharpness (2) | 25 |
Sharpness | Hard |
ShutterSpeed | 1/125 |
ShutterSpeedValue | 1/125 |
Software | Adobe Photoshop CS4 Macintosh |
SplitToningBalance | 0 |
SplitToningHighlightHue | 50 |
SplitToningHighlightSaturation | 66 |
SplitToningShadowHue | 30 |
SplitToningShadowSaturation | 28 |
SubjectDistanceRange | Unknown |
ToneCurve | 0, 0, 255, 255 |
ToneCurveName | Linear |
URL_List | |
Version | 4.6 |
VignetteAmount | -41 |
VignetteMidpoint | 48 |
WhiteBalance (2) | Custom |
WhiteBalance | Auto |