Felt | Verdi |
AEBBracketValue | 0 |
AlreadyApplied | True |
Aperture | 11.0 |
ApertureValue | 11.0 |
AutoExposureBracketing | Off |
AutoISO | 100 |
BitsPerSample | 8 |
BlueHue | 0 |
BlueSaturation | 0 |
Brightness | +50 |
BulbDuration | 0 |
CameraProfile | Adobe Standard |
CameraType | n/a |
CanonExposureMode | Unknown (-1) |
CanonFirmwareVersion | |
CanonFlashMode | n/a |
CanonImageSize | n/a |
CanonImageType | |
ChromaticAberrationB | 0 |
ChromaticAberrationR | 0 |
CircleOfConfusion | 0.031 mm |
Clarity | +2 |
ColorComponents | 3 |
ColorNoiseReduction | 25 |
ColorSpace | sRGB |
ColorTemperature | 5095 |
ContinuousDrive | Unknown (-1) |
Contrast | +25 |
ControlMode | n/a |
ConvertToGrayscale | False |
CreateDate (1) | 2009:06:14 11:57:06.22+02:00 |
CreateDate | 2009:06:14 11:57:06 |
CreatorTool | Adobe Photoshop Lightroom |
CropAngle | 0 |
CropBottom | 0.853968 |
CropHeight | 2651 |
CropLeft | 0.15678 |
CropRight | 0.86017 |
CropTop | 0.146032 |
CropUnit | pixels |
CropWidth | 3950 |
CustomRendered | Normal |
DateTimeDigitized | 2009:06:14 11:57:06.22+02:00 |
DateTimeOriginal (1) | 2009:06:14 11:57:06.22+02:00 |
DateTimeOriginal | 2009:06:14 11:57:06 |
Defringe | 0 |
DigitalZoom | None |
DriveMode | Continuous Shooting |
EasyMode | Unknown (-1) |
ExifImageHeight (1) | 3950 |
ExifImageHeight | 1192 |
ExifImageWidth (1) | 2651 |
ExifImageWidth | 800 |
Exposure | +0.48 |
ExposureCompensation | 0 |
ExposureMode | Manual |
ExposureProgram | Manual |
ExposureTime | 1/125 |
FileNumber | 0 |
FillLight | 0 |
Firmware | 1.0.6 |
Flash | Off, Did not fire |
FlashBits | (none) |
FlashCompensation | 0 |
FlashExposureComp | 0 |
FlashFired | False |
FlashFunction | False |
FlashGuideNumber | 0 |
FlashMode | Off |
FlashRedEyeMode | False |
FlashReturn | No return detection |
FNumber | 11.0 |
FocalLength | 105.0 mm |
FocalLength35efl | 105.0 mm (35 mm equivalent: 102.5 mm) |
FocalUnits | 32/mm |
FocusMode | Single |
FocusRange | Not Known |
FOV | 19.9 deg |
GreenHue | 0 |
GreenSaturation | 0 |
HasCrop | True |
HasSettings | True |
HighlightRecovery | 0 |
HueAdjustmentAqua | 0 |
HueAdjustmentBlue | 0 |
HueAdjustmentGreen | 0 |
HueAdjustmentMagenta | 0 |
HueAdjustmentOrange | 0 |
HueAdjustmentPurple | 0 |
HueAdjustmentRed | 0 |
HueAdjustmentYellow | 0 |
HyperfocalDistance | 32.56 m |
ImageHeight (1) | 3950 |
ImageHeight | 1192 |
ImageNumber | 0 |
ImageSize | 800x1192 |
ImageWidth (1) | 2651 |
ImageWidth | 800 |
ISO | 100 |
Label | Aktfotografering |
Lens (1) | EF24-105mm f/4L IS USM |
Lens | 0.0 mm |
Lens35efl | 0.0 mm (35 mm equivalent: 0.0 mm) |
LensID | n/a |
LensInfo | 24-105mm f/? |
LensType | n/a |
LightValue | 13.9 |
LuminanceAdjustmentAqua | 0 |
LuminanceAdjustmentBlue | 0 |
LuminanceAdjustmentGreen | 0 |
LuminanceAdjustmentMagenta | 0 |
LuminanceAdjustmentOrange | 0 |
LuminanceAdjustmentPurple | 0 |
LuminanceAdjustmentRed | 0 |
LuminanceAdjustmentYellow | 0 |
LuminanceSmoothing | 0 |
MacroMode | Unknown (0) |
Make | Canon |
ManualFlashOutput | n/a |
Marked | True |
MaxApertureValue | 4.0 |
MaxFocalLength | 0 mm |
MeasuredEV | 5.00 |
Megapixels | 0.954 |
MeteringMode (1) | Multi-segment |
MeteringMode | Unknown (-1) |
MinFocalLength | 0 mm |
Model | Canon EOS 5D Mark II |
ModifyDate (1) | 2009:06:21 02:32:52+02:00 |
ModifyDate | 2009:06:14 11:57:06 |
NDFilter | n/a |
OpticalZoomCode | n/a |
Orientation | Horizontal (normal) |
OwnerName | |
ParametricDarks | 0 |
ParametricHighlights | 0 |
ParametricHighlightSplit | 75 |
ParametricLights | 0 |
ParametricMidtoneSplit | 50 |
ParametricShadows | 0 |
ParametricShadowSplit | 25 |
PostCropVignetteAmount | 0 |
ProfileDescription | sRGB v1.31 (Canon) |
Quality | Fine |
Rating | 5 |
RedHue | 0 |
RedSaturation | 0 |
RelatedImageHeight | 1192 |
RelatedImageWidth | 800 |
Saturation | +17 |
SaturationAdjustmentAqua | 0 |
SaturationAdjustmentBlue | 0 |
SaturationAdjustmentGreen | 0 |
SaturationAdjustmentMagenta | 0 |
SaturationAdjustmentOrange | 0 |
SaturationAdjustmentPurple | 0 |
SaturationAdjustmentRed | 0 |
SaturationAdjustmentYellow | 0 |
ScaleFactor35efl | 1.0 |
SceneCaptureType | Standard |
SelfTimer | Off |
SequenceNumber | 0 |
SerialNumber | 330235906 |
Shadows | 5 |
ShadowTint | 0 |
SharpenDetail | 44 |
SharpenEdgeMasking | 0 |
SharpenRadius | +1.0 |
Sharpness | 96 |
ShootingMode | Unknown (-1) |
ShutterSpeed | 1/125 |
ShutterSpeedValue | 1/125 |
SlowShutter | None |
Software | Digital Photo Professional |
SplitToningBalance | 0 |
SplitToningHighlightHue | 0 |
SplitToningHighlightSaturation | 0 |
SplitToningShadowHue | 0 |
SplitToningShadowSaturation | 0 |
SRAWQuality | n/a |
Subject | Akt, Kropp, Lyssetting, Modell, People, Studiofotografering |
TargetAperture | 11 |
TargetExposureTime | 1/125 |
Tint | -8 |
Title | Aktfotografering |
ToneCurve | 0, 0, 32, 22, 64, 56, 128, 128, 192, 196, 255, 255 |
ToneCurveName | Medium Contrast |
UserComment | |
Version | 5.3 |
Vibrance | +17 |
VignetteAmount | 0 |
WhiteBalance (2) | Auto |
WhiteBalance (3) | Custom |
WhiteBalance | Unknown (-1) |
ZoomSourceWidth | 0 |
ZoomTargetWidth | 0 |