Felt | Verdi |
AlreadyApplied | True |
Aperture | 5.0 |
ApertureValue | 5.0 |
BitsPerSample | 8 |
BlueHue | 0 |
BlueSaturation | 0 |
Brightness | +23 |
BrightnessValue | 9.37 |
CameraProfile | Embedded |
Caption-Abstract | SONY DSC |
ChromaticAberrationB | 0 |
ChromaticAberrationR | 0 |
CircleOfConfusion | 0.020 mm |
Clarity | +6 |
ColorComponents | 3 |
ColorNoiseReduction | 21 |
Contrast (2) | +52 |
Contrast | Normal |
ConvertToGrayscale | False |
CreateDate (1) | 2009:07:16 17:24:46+02:00 |
CreateDate | 2009:07:16 17:24:46 |
CreatorTool | Adobe Photoshop Lightroom |
CropAngle | -1.75103 |
CropBottom | 0.954826 |
CropHeight | 800 |
CropLeft | 0.014467 |
CropRight | 0.985533 |
CropTop | 0.045174 |
CropUnit | pixels |
CropWidth | 536 |
CustomRendered | Normal |
DateTimeDigitized | 2009:07:16 17:24:46+02:00 |
DateTimeOriginal (1) | 2009:07:16 17:24:46+02:00 |
DateTimeOriginal | 2009:07:16 17:24:46 |
Defringe | 0 |
Description | SONY DSC |
DigitalZoomRatio | 0 |
ExifImageHeight | 800 |
ExifImageWidth | 536 |
Exposure | +0.14 |
ExposureCompensation | -1 |
ExposureMode | Auto |
ExposureProgram | Aperture-priority AE |
ExposureTime | 1/1600 |
FillLight | 53 |
Flash | Off, Did not fire |
FlashFired | False |
FlashFunction | False |
FlashMode | Off |
FlashRedEyeMode | False |
FlashReturn | No return detection |
FNumber | 5.0 |
FocalLength | 17.0 mm |
FocalLength35efl | 17.0 mm (35 mm equivalent: 25.0 mm) |
FocalLengthIn35mmFormat | 25 mm |
FOV | 71.5 deg |
GainControl | None |
GreenHue | 0 |
GreenSaturation | 0 |
HasCrop | True |
HasSettings | True |
HighlightRecovery | 27 |
HueAdjustmentAqua | 0 |
HueAdjustmentBlue | 0 |
HueAdjustmentGreen | 0 |
HueAdjustmentMagenta | 0 |
HueAdjustmentOrange | 0 |
HueAdjustmentPurple | 0 |
HueAdjustmentRed | 0 |
HueAdjustmentYellow | 0 |
HyperfocalDistance | 2.83 m |
ImageDescription | SONY DSC |
ImageHeight | 800 |
ImageSize | 536x800 |
ImageWidth | 536 |
IncrementalTemperature | +29 |
IncrementalTint | +11 |
ISO | 100 |
Keywords | ferie |
LightSource | Unknown |
LightValue | 15.3 |
LuminanceAdjustmentAqua | 0 |
LuminanceAdjustmentBlue | 0 |
LuminanceAdjustmentGreen | 0 |
LuminanceAdjustmentMagenta | 0 |
LuminanceAdjustmentOrange | 0 |
LuminanceAdjustmentPurple | 0 |
LuminanceAdjustmentRed | 0 |
LuminanceAdjustmentYellow | 0 |
LuminanceSmoothing | 0 |
Make | SONY |
MaxApertureValue | 2.8 |
Megapixels | 0.429 |
MeteringMode | Multi-segment |
Model | DSLR-A100 |
ModifyDate (1) | 2009:07:22 12:23:35+02:00 |
ModifyDate | 2009:07:22 12:23:35 |
ParametricDarks | +11 |
ParametricHighlights | +13 |
ParametricHighlightSplit | 75 |
ParametricLights | -1 |
ParametricMidtoneSplit | 50 |
ParametricShadows | -6 |
ParametricShadowSplit | 14 |
PostCropVignetteAmount | 0 |
ProfileDescription | sRGB IEC61966-2.1 |
RedHue | 0 |
RedSaturation | 0 |
Saturation (2) | -51 |
Saturation | Normal |
SaturationAdjustmentAqua | 0 |
SaturationAdjustmentBlue | 0 |
SaturationAdjustmentGreen | 0 |
SaturationAdjustmentMagenta | 0 |
SaturationAdjustmentOrange | 0 |
SaturationAdjustmentPurple | 0 |
SaturationAdjustmentRed | 0 |
SaturationAdjustmentYellow | 0 |
ScaleFactor35efl | 1.5 |
SceneCaptureType | Standard |
SceneType | Directly photographed |
Shadows | 48 |
ShadowTint | 0 |
SharpenDetail | 25 |
SharpenEdgeMasking | 0 |
SharpenRadius | +1.0 |
Sharpness (2) | 12 |
Sharpness | Normal |
ShutterSpeed | 1/1600 |
ShutterSpeedValue | 1/1600 |
Software | Adobe Photoshop Lightroom |
SplitToningBalance | +11 |
SplitToningHighlightHue | 68 |
SplitToningHighlightSaturation | 22 |
SplitToningShadowHue | 72 |
SplitToningShadowSaturation | 6 |
Subject | ferie |
SubjectArea (1) | 1936, 891, 329, 393 |
SubjectArea | 1936 891 329 393 |
ToneCurve | 0, 0, 32, 16, 64, 50, 128, 128, 192, 202, 255, 255 |
ToneCurveName | Strong Contrast |
Version | 5.4 |
Vibrance | +18 |
VignetteAmount | -95 |
VignetteMidpoint | 20 |
WhiteBalance (2) | Custom |
WhiteBalance | Auto |