Felt | Verdi |
AlreadyApplied | True |
Aperture | 10.0 |
ApertureValue | 10.0 |
Artist | KENNETH SOLFJELD |
BitsPerSample (1) | 16, 16, 16 |
BitsPerSample (2) | 16 16 16 |
BitsPerSample | 8 |
BlueHue | 0 |
BlueSaturation | 0 |
Brightness | +50 |
By-line | KENNETH SOLFJELD |
CameraProfile | ACR 4.4 |
CFAPattern | [Red,Green][Green,Blue] |
ChromaticAberrationB | 0 |
ChromaticAberrationR | 0 |
CircleOfConfusion | 0.020 mm |
Clarity | +14 |
ColorComponents | 3 |
ColorMode | RGB |
ColorNoiseReduction | 26 |
ColorSpace | sRGB |
ColorTemperature | 5100 |
Contrast (2) | +26 |
Contrast | Normal |
ConvertToGrayscale | False |
Copyright | KENNETH SOLFJELD |
CopyrightFlag | False |
CopyrightNotice | KENNETH SOLFJELD |
CreateDate (1) | 2009:06:21 18:07:23+02:00 |
CreateDate | 2009:06:20 22:23:09 |
Creator | KENNETH SOLFJELD |
CreatorTool | Adobe Photoshop CS3 Windows |
CustomRendered | Normal |
DateTimeDigitized | 2009:06:20 22:23:09.57+02:00 |
DateTimeOriginal (1) | 2009:06:20 22:23:09.57+02:00 |
DateTimeOriginal | 2009:06:20 22:23:09 |
Defringe | 0 |
DigitalZoomRatio | 1 |
ExifImageHeight | 872 |
ExifImageWidth | 1398 |
Exposure | -0.20 |
ExposureCompensation | -2/3 |
ExposureMode | Auto |
ExposureProgram | Aperture-priority AE |
ExposureTime | 1/1000 |
FillLight | 0 |
Flash | No Flash |
FlashFired | False |
FlashFunction | False |
FlashMode | Unknown |
FlashRedEyeMode | False |
FlashReturn | No return detection |
FNumber | 10.0 |
FocalLength | 110.0 mm |
FocalLength35efl | 110.0 mm (35 mm equivalent: 165.0 mm) |
FocalLengthIn35mmFormat | 165 mm |
Format | image/jpeg |
FOV | 12.5 deg |
GainControl | None |
GreenHue | 0 |
GreenSaturation | 0 |
HasCrop | False |
HasSettings | True |
HighlightRecovery | 50 |
HueAdjustmentAqua | 0 |
HueAdjustmentBlue | +7 |
HueAdjustmentGreen | 0 |
HueAdjustmentMagenta | +2 |
HueAdjustmentOrange | +7 |
HueAdjustmentPurple | 0 |
HueAdjustmentRed | +10 |
HueAdjustmentYellow | -5 |
HyperfocalDistance | 60.41 m |
ICCProfileName | sRGB IEC61966-2.1 |
ImageHeight (1) | 2519 |
ImageHeight | 872 |
ImageNumber | 12727 |
ImageSize | 1398x872 |
ImageWidth (2) | 4283 |
ImageWidth | 1398 |
ISO | 200 |
Lens | 70.0-200.0 mm f/2.8 |
LensInfo | 70-200mm f/2.8 |
LightSource | Unknown |
LightValue | 15.6 |
LuminanceAdjustmentAqua | 0 |
LuminanceAdjustmentBlue | 0 |
LuminanceAdjustmentGreen | 0 |
LuminanceAdjustmentMagenta | 0 |
LuminanceAdjustmentOrange | +9 |
LuminanceAdjustmentPurple | 0 |
LuminanceAdjustmentRed | +8 |
LuminanceAdjustmentYellow | +8 |
LuminanceSmoothing | 29 |
Make | NIKON CORPORATION |
MaxApertureValue | 2.8 |
Megapixels | 1.2 |
MeteringMode | Multi-segment |
Model | NIKON D300 |
ModifyDate (1) | 2009:06:21 18:07:23+02:00 |
ModifyDate | 2009:06:21 18:07:23 |
Orientation | Horizontal (normal) |
ParametricDarks | 0 |
ParametricHighlights | 0 |
ParametricHighlightSplit | 75 |
ParametricLights | 0 |
ParametricMidtoneSplit | 50 |
ParametricShadows | 0 |
ParametricShadowSplit | 25 |
PhotometricInterpretation | RGB |
PlanarConfiguration | Chunky |
PostCropVignetteAmount | 0 |
ProfileDescription | sRGB IEC61966-2.1 |
Rating | 0 |
RatingPercent | 0 |
RawFileName | _DSC2597.NEF |
RedHue | 0 |
RedSaturation | 0 |
Rights | KENNETH SOLFJELD |
SamplesPerPixel | 3 |
Saturation (2) | +8 |
Saturation | Normal |
SaturationAdjustmentAqua | +33 |
SaturationAdjustmentBlue | +33 |
SaturationAdjustmentGreen | 0 |
SaturationAdjustmentMagenta | -10 |
SaturationAdjustmentOrange | 0 |
SaturationAdjustmentPurple | -9 |
SaturationAdjustmentRed | 0 |
SaturationAdjustmentYellow | 0 |
ScaleFactor35efl | 1.5 |
SceneCaptureType | Standard |
SceneType | Directly photographed |
SensingMethod | One-chip color area |
SerialNumber | 4056106 |
Shadows | 12 |
ShadowTint | 0 |
SharpenDetail | 0 |
SharpenEdgeMasking | 0 |
SharpenRadius | +1.0 |
Sharpness (2) | 0 |
Sharpness | Soft |
ShutterSpeed | 1/1000 |
ShutterSpeedValue | 1/1000 |
SidecarForExtension | NEF |
Software | Adobe Photoshop CS3 Windows |
SplitToningBalance | 0 |
SplitToningHighlightHue | 0 |
SplitToningHighlightSaturation | 0 |
SplitToningShadowHue | 0 |
SplitToningShadowSaturation | 0 |
SubjectDistanceRange | Unknown |
Tint | +11 |
ToneCurve | 0, 0, 32, 16, 68, 46, 127, 127, 186, 197, 215, 215, 255, 255 |
ToneCurveName | Custom |
URL_List | |
Version | 4.5 |
Vibrance | +13 |
VignetteAmount | 0 |
WhiteBalance (2) | Custom |
WhiteBalance | Auto |