Felt | Verdi |
AlreadyApplied | True |
Aperture | 5.3 |
ApertureValue | 5.3 |
BitsPerSample | 8 |
BlueHue | 0 |
BlueSaturation | 0 |
Brightness | +75 |
By-line | Sigurd Fyllingsnes |
CameraProfile | Adobe Standard |
CFAPattern | [Green,Blue][Red,Green] |
ChromaticAberrationB | 0 |
ChromaticAberrationR | 0 |
CircleOfConfusion | 0.020 mm |
Clarity | 0 |
ColorComponents | 1 |
ColorNoiseReduction | 25 |
ColorTemperature | 4850 |
Contrast (2) | +33 |
Contrast | Normal |
ConvertToGrayscale | True |
Copyright | Sigurd Fyllingsnes |
CopyrightFlag | True |
CopyrightNotice | Sigurd Fyllingsnes |
CreateDate (1) | 2006:01:01 16:20:22.40+02:00 |
CreateDate | 2006:01:01 16:20:22 |
Creator | Sigurd Fyllingsnes |
CreatorTool | Adobe Photoshop Lightroom |
CreatorWorkURL | sigurdf.com |
CropAngle | 0 |
CropBottom | 0.850144 |
CropHeight | 402 |
CropLeft | 0 |
CropRight | 0.78098 |
CropTop | 0.069164 |
CropUnit | pixels |
CropWidth | 600 |
CustomRendered | Normal |
DateTimeDigitized | 2006:01:01 16:20:22.40+02:00 |
DateTimeOriginal (1) | 2006:01:01 16:20:22.40+02:00 |
DateTimeOriginal | 2006:01:01 16:20:22 |
Defringe | 0 |
DigitalZoomRatio | 1 |
ExifImageHeight | 600 |
ExifImageWidth | 402 |
Exposure | 0.00 |
ExposureCompensation | 0 |
ExposureMode | Auto |
ExposureProgram | Program AE |
ExposureTime | 1/160 |
FillLight | 42 |
Flash | No Flash |
FlashFired | False |
FlashFunction | False |
FlashMode | Unknown |
FlashRedEyeMode | False |
FlashReturn | No return detection |
FNumber | 5.3 |
FocalLength | 90.0 mm |
FocalLength35efl | 90.0 mm (35 mm equivalent: 135.0 mm) |
FocalLengthIn35mmFormat | 135 mm |
FOV | 15.2 deg |
GainControl | None |
GrayMixerAqua | -19 |
GrayMixerBlue | +6 |
GrayMixerGreen | -24 |
GrayMixerMagenta | +5 |
GrayMixerOrange | -14 |
GrayMixerPurple | +13 |
GrayMixerRed | -6 |
GrayMixerYellow | -18 |
GreenHue | 0 |
GreenSaturation | 0 |
HasCrop | True |
HasSettings | True |
HighlightRecovery | 21 |
HyperfocalDistance | 76.30 m |
ImageHeight | 600 |
ImageNumber | 7865 |
ImageSize | 402x600 |
ImageWidth | 402 |
ISO | 100 |
Lens | 18.0-200.0 mm f/3.5-5.6 |
LensInfo | 18-200mm f/3.5-5.6 |
LightSource | Fine Weather |
LightValue | 12.1 |
LuminanceSmoothing | 0 |
Make | NIKON CORPORATION |
Marked | True |
MaxApertureValue | 5.3 |
Megapixels | 0.241 |
MeteringMode | Spot |
Model | NIKON D80 |
ModifyDate (1) | 2009:05:08 23:25:30+02:00 |
ModifyDate | 2009:05:08 23:25:30 |
ParametricDarks | 0 |
ParametricHighlights | 0 |
ParametricHighlightSplit | 75 |
ParametricLights | 0 |
ParametricMidtoneSplit | 50 |
ParametricShadows | 0 |
ParametricShadowSplit | 25 |
PostCropVignetteAmount | 0 |
ProfileDescription | sRGB IEC61966-2.1 |
RedHue | 0 |
RedSaturation | 0 |
Rights | Sigurd Fyllingsnes |
Saturation | Normal |
ScaleFactor35efl | 1.5 |
SceneCaptureType | Standard |
SceneType | Directly photographed |
SensingMethod | One-chip color area |
SerialNumber | 4125120 |
Shadows | 27 |
ShadowTint | 0 |
SharpenDetail | 25 |
SharpenEdgeMasking | 0 |
SharpenRadius | +1.0 |
Sharpness (2) | 25 |
Sharpness | Normal |
ShutterSpeed | 1/160 |
ShutterSpeedValue | 1/160 |
Software | Ver.1.10 |
SplitToningBalance | 0 |
SplitToningHighlightHue | 0 |
SplitToningHighlightSaturation | 0 |
SplitToningShadowHue | 0 |
SplitToningShadowSaturation | 0 |
SubjectDistanceRange | Unknown |
Tint | 0 |
ToneCurve | 0, 0, 255, 255 |
ToneCurveName | Linear |
Version | 5.3 |
VignetteAmount | 0 |
WhiteBalance (2) | Auto |
WhiteBalance | Manual |