Felt | Verdi |
AlreadyApplied | True |
Aperture | 1.8 |
ApertureValue | 1.8 |
Artist | Ronny Moan |
BitsPerSample (1) | 8, 8, 8 |
BitsPerSample | 8 |
BlueHue | 0 |
BlueSaturation | 0 |
Brightness | +50 |
By-line | Ronny Moan |
By-lineTitle | |
CameraProfile | ACR 4.4 |
Caption-Abstract | |
Category | |
CFAPattern | [Green,Blue][Red,Green] |
ChromaticAberrationB | 0 |
ChromaticAberrationR | 0 |
CircleOfConfusion | 0.020 mm |
City | |
Clarity | 0 |
ColorComponents | 3 |
ColorMode | RGB |
ColorNoiseReduction | 25 |
ColorSpace | Uncalibrated |
ColorTemperature | 9400 |
Contrast (4) | +33 |
Contrast | Normal |
ConvertToGrayscale | False |
Copyright | (C)2008 Ronny Moan, all rights reserved |
CopyrightNotice | (C)2008 Ronny Moan, all rights reserved |
Country-PrimaryLocationCode | |
Country-PrimaryLocationName | |
CreateDate (2) | 2009:04:06 19:33:37.20+02:00 |
CreateDate | 2009:04:06 19:33:37 |
Creator | Ronny Moan |
CreatorAddress | Nordsiveien 196 |
CreatorCity | Soerreisa |
CreatorCountry | Norway |
CreatorPostalCode | 9310 |
CreatorTool | Nikon Transfer 1.2 W |
CreatorWorkEmail | ronny@moan.dk |
Credit | |
CropAngle | 0 |
CropBottom | 0.930288 |
CropLeft | 0.128617 |
CropRight | 0.895498 |
CropTop | 0.009615 |
CustomRendered | Normal |
DateCreated | |
DateSent | |
DateTimeDigitized | 2009:04:06 19:33:37.20+02:00 |
DateTimeOriginal (2) | 2009:04:06 19:33:37.20+02:00 |
DateTimeOriginal | 2009:04:06 19:33:37 |
Defringe | 0 |
Destination | |
DigitalZoomRatio | 1 |
ExifImageHeight (1) | 2969 |
ExifImageHeight | 1274 |
ExifImageWidth (2) | 2386 |
ExifImageWidth | 1023 |
ExpirationDate | |
ExpirationTime | |
Exposure | -0.20 |
ExposureCompensation | 0 |
ExposureMode | Auto |
ExposureProgram | Aperture-priority AE |
ExposureTime | 1/13 |
FileFormat | No ObjectData |
FileVersion | 0 |
FillLight | 11 |
Flash | No Flash |
FlashFired | False |
FlashFunction | False |
FlashMode | Unknown |
FlashRedEyeMode | False |
FlashReturn | No return detection |
FNumber | 1.8 |
FocalLength | 50.0 mm |
FocalLength35efl | 50.0 mm (35 mm equivalent: 75.0 mm) |
FocalLengthIn35mmFormat | 75 mm |
Format | image/tiff |
FOV | 27.0 deg |
GainControl | None |
GreenHue | 0 |
GreenSaturation | 0 |
HasCrop | True |
HasSettings | True |
Headline | |
HighlightRecovery | 84 |
HueAdjustmentAqua | 0 |
HueAdjustmentBlue | 0 |
HueAdjustmentGreen | 0 |
HueAdjustmentMagenta | 0 |
HueAdjustmentOrange | 0 |
HueAdjustmentPurple | 0 |
HueAdjustmentRed | 0 |
HueAdjustmentYellow | 0 |
HyperfocalDistance | 69.34 m |
ICCProfileName | Adobe RGB (1998) |
IFD0_Offset | 26219 |
ImageDataSize | 212894 |
ImageHeight (1) | 2969 |
ImageHeight | 1274 |
ImageNumber | 5576 |
ImageSize | 1023x1274 |
ImageWidth (1) | 2386 |
ImageWidth | 1023 |
ISO | 100 |
Label | Portrett |
LanguageIdentifier | |
Lens | 50.0 mm f/1.8 |
LensInfo | 50mm f/1.8 |
LightSource | Unknown |
LightValue | 5.4 |
LuminanceAdjustmentAqua | 0 |
LuminanceAdjustmentBlue | 0 |
LuminanceAdjustmentGreen | 0 |
LuminanceAdjustmentMagenta | 0 |
LuminanceAdjustmentOrange | 0 |
LuminanceAdjustmentPurple | 0 |
LuminanceAdjustmentRed | 0 |
LuminanceAdjustmentYellow | 0 |
LuminanceSmoothing | 0 |
Make | NIKON CORPORATION |
MakerNoteVersion | 2.10 |
MaxApertureValue | 1.7 |
Megapixels | 1.3 |
MeteringMode | Multi-segment |
Model | NIKON D80 |
ModifyDate (1) | 2009:04:07 23:28:21+02:00 |
ModifyDate | 2009:04:22 21:50:03 |
NEFBitDepth | 8 x 3 |
NikonCaptureVersion | Capture NX 1.3.0 W |
ObjectName | |
Orientation | Horizontal (normal) |
OriginalTransmissionReference | |
OriginatingProgram | |
ParametricDarks | 0 |
ParametricHighlights | -15 |
ParametricHighlightSplit | 75 |
ParametricLights | 0 |
ParametricMidtoneSplit | 50 |
ParametricShadows | 0 |
ParametricShadowSplit | 25 |
PhotometricInterpretation | RGB |
PlanarConfiguration | Chunky |
PostCropVignetteAmount | 0 |
PreviewIFD_Offset | 26119 |
ProductID | |
ProfileDescription | Adobe RGB (1998) |
ProgramVersion | |
Province-State | |
RatingPercent | 0 |
RawFileName | DSC_5088.NEF |
RedHue | 0 |
RedSaturation | 0 |
ReleaseDate | |
ReleaseTime | |
Rights | (C)2008 Ronny Moan, all rights reserved |
SamplesPerPixel | 3 |
Saturation (4) | 0 |
Saturation | High |
SaturationAdjustmentAqua | 0 |
SaturationAdjustmentBlue | 0 |
SaturationAdjustmentGreen | 0 |
SaturationAdjustmentMagenta | 0 |
SaturationAdjustmentOrange | 0 |
SaturationAdjustmentPurple | 0 |
SaturationAdjustmentRed | 0 |
SaturationAdjustmentYellow | 0 |
ScaleFactor35efl | 1.5 |
SceneCaptureType | Standard |
SceneType | Directly photographed |
SensingMethod | One-chip color area |
ServiceIdentifier | |
Shadows | 3 |
ShadowTint | 0 |
SharpenDetail | 30 |
SharpenEdgeMasking | 0 |
SharpenRadius | +2.0 |
Sharpness (4) | 71 |
Sharpness | Hard |
ShutterSpeed | 1/13 |
ShutterSpeedValue (2) | 1/13 |
ShutterSpeedValue | 0.6 |
Software | Capture NX 1.3.0 W |
Source | |
SpecialInstructions | |
SplitToningBalance | 0 |
SplitToningHighlightHue | 0 |
SplitToningHighlightSaturation | 0 |
SplitToningShadowHue | 0 |
SplitToningShadowSaturation | 0 |
SubjectDistanceRange | Unknown |
TimeSent | |
Tint | +3 |
ToneCurve | 0, 0, 32, 22, 64, 56, 128, 128, 192, 196, 255, 255 |
ToneCurveName | Medium Contrast |
Urgency | 8 (least urgent) |
Version | 5.0 |
Vibrance | 0 |
VignetteAmount | 0 |
WhiteBalance (1) | Custom |
WhiteBalance | Manual |
Writer-Editor | |