Felt | Verdi |
AlreadyApplied | True |
Aperture | 22.0 |
ApertureValue | 22.0 |
BitsPerSample | 8 |
BlueHue | 0 |
BlueSaturation | 0 |
Brightness | +50 |
CameraProfile | ACR 2.4 |
ChromaticAberrationB | 0 |
ChromaticAberrationR | 0 |
CircleOfConfusion | 0.030 mm |
Clarity | 0 |
ColorComponents | 3 |
ColorMode | RGB |
ColorNoiseReduction | 57 |
ColorSpace (1) | Unknown (-1) |
ColorSpace | Uncalibrated |
ColorTemperature | 5150 |
Contrast | +25 |
ConvertToGrayscale | False |
CopyrightFlag | False |
CreateDate (1) | 2009:02:13 11:46:25+01:00 |
CreateDate | 2009:02:12 15:59:51 |
CreatorTool | Adobe Photoshop CS3 Macintosh |
CropAngle | -14.149847 |
CropBottom | 0.715281 |
CropHeight | 30 |
CropLeft | 0.225556 |
CropRight | 0.813898 |
CropTop | 0.18815 |
CropUnit | cm |
CropWidth | 30 |
CustomRendered | Normal |
DateTimeDigitized | 2009:02:12 15:59:51+01:00 |
DateTimeOriginal (1) | 2009:02:12 15:59:51+01:00 |
DateTimeOriginal | 2009:02:12 15:59:51 |
Defringe | 0 |
ExifImageHeight | 2362 |
ExifImageWidth | 2362 |
Exposure | -0.15 |
ExposureCompensation | 0 |
ExposureMode | Manual |
ExposureProgram | Manual |
ExposureTime | 1/320 |
FillLight | 0 |
Firmware | 1.1.6 |
Flash | Off, Did not fire |
FlashCompensation | 0 |
FlashFired | False |
FlashFunction | False |
FlashMode | Off |
FlashRedEyeMode | False |
FlashReturn | No return detection |
FNumber | 22.0 |
FocalLength | 105.0 mm |
FocalLength35efl | 105.0 mm (35 mm equivalent: 104.9 mm) |
Format | image/jpeg |
FOV | 19.5 deg |
GreenHue | 0 |
GreenSaturation | 0 |
HasCrop | True |
HasSettings | True |
HighlightRecovery | 28 |
HueAdjustmentAqua | 0 |
HueAdjustmentBlue | 0 |
HueAdjustmentGreen | 0 |
HueAdjustmentMagenta | 0 |
HueAdjustmentOrange | 0 |
HueAdjustmentPurple | 0 |
HueAdjustmentRed | 0 |
HueAdjustmentYellow | 0 |
HyperfocalDistance | 16.66 m |
ICCProfileName | Adobe RGB (1998) |
ImageHeight | 2362 |
ImageNumber | 47158 |
ImageSize | 2362x2362 |
ImageWidth | 2362 |
ISO | 100 |
Label | Red |
Lens | 24.0-105.0 mm |
LensInfo | 24-105mm f/? |
LightValue | 17.2 |
LuminanceAdjustmentAqua | 0 |
LuminanceAdjustmentBlue | 0 |
LuminanceAdjustmentGreen | 0 |
LuminanceAdjustmentMagenta | 0 |
LuminanceAdjustmentOrange | 0 |
LuminanceAdjustmentPurple | 0 |
LuminanceAdjustmentRed | 0 |
LuminanceAdjustmentYellow | 0 |
LuminanceSmoothing | 37 |
Make | Canon |
MaxApertureValue | 4.0 |
Megapixels | 5.6 |
MeteringMode | Multi-segment |
Model | Canon EOS-1Ds Mark II |
ModifyDate (1) | 2009:02:13 11:46:25+01:00 |
ModifyDate | 2009:02:13 11:46:25 |
Orientation | Horizontal (normal) |
ParametricDarks | 0 |
ParametricHighlights | 0 |
ParametricHighlightSplit | 75 |
ParametricLights | 0 |
ParametricMidtoneSplit | 50 |
ParametricShadows | 0 |
ParametricShadowSplit | 25 |
PostCropVignetteAmount | 0 |
ProfileDescription | Adobe RGB (1998) |
Rating | 0 |
RawFileName | Tomater - 053.CR2 |
RedHue | 0 |
RedSaturation | 0 |
Saturation | 0 |
SaturationAdjustmentAqua | 0 |
SaturationAdjustmentBlue | 0 |
SaturationAdjustmentGreen | 0 |
SaturationAdjustmentMagenta | 0 |
SaturationAdjustmentOrange | 0 |
SaturationAdjustmentPurple | 0 |
SaturationAdjustmentRed | 0 |
SaturationAdjustmentYellow | 0 |
ScaleFactor35efl | 1.0 |
SceneCaptureType | Standard |
SerialNumber | 335105 |
Shadows | 5 |
ShadowTint | 0 |
SharpenDetail | 25 |
SharpenEdgeMasking | 0 |
SharpenRadius | +1.0 |
Sharpness | 25 |
ShutterSpeed | 1/320 |
ShutterSpeedValue | 1/320 |
Software | Adobe Photoshop CS3 Macintosh |
SplitToningBalance | 0 |
SplitToningHighlightHue | 0 |
SplitToningHighlightSaturation | 0 |
SplitToningShadowHue | 0 |
SplitToningShadowSaturation | 0 |
Tint | +3 |
ToneCurve | 0, 0, 32, 22, 64, 56, 128, 128, 192, 196, 255, 255 |
ToneCurveName | Medium Contrast |
URL_List | |
Version | 4.5 |
Vibrance | 0 |
VignetteAmount | 0 |
WhiteBalance (2) | Custom |
WhiteBalance | Manual |