Felt | Verdi |
AlreadyApplied | True |
Aperture | 5.6 |
ApertureValue | 5.6 |
Artist | Tine F. Berg |
BitsPerSample | 8 |
BlueHue | 0 |
BlueSaturation | 0 |
Brightness | +114 |
By-line | Tine F. Berg |
CameraProfile | ACR 4.4 |
ChromaticAberrationB | 0 |
ChromaticAberrationR | 0 |
CircleOfConfusion | 0.019 mm |
Clarity | -78 |
ColorComponents | 3 |
ColorMode | RGB |
ColorNoiseReduction | 25 |
ColorSpace | sRGB |
ColorTemperature | 3800 |
Contrast | +82 |
ConvertToGrayscale | False |
Copyright | tine_f_berg@getmail.no_tlf +4790879228 |
CopyrightFlag | True |
CopyrightNotice | tine_f_berg@getmail.no_tlf +4790879228 |
CreateDate (1) | 2009:02:15 20:31:44+01:00 |
CreateDate | 2009:02:08 15:56:32 |
Creator | Tine F. Berg |
CreatorTool | Adobe Photoshop Elements 7.0 Windows |
Credit | Tine F. Berg |
CustomRendered | Normal |
DateTimeDigitized | 2009:02:08 15:56:32+01:00 |
DateTimeOriginal (1) | 2009:02:08 15:56:32+01:00 |
DateTimeOriginal | 2009:02:08 15:56:32 |
Defringe | 0 |
ExifImageHeight | 500 |
ExifImageWidth | 1032 |
Exposure | -0.05 |
ExposureCompensation | -1/3 |
ExposureMode | Auto |
ExposureProgram | Aperture-priority AE |
ExposureTime | 1/100 |
FillLight | 9 |
Firmware | 1.0.5 |
Flash | Off, Did not fire |
FlashCompensation | -0.333333333333333 |
FlashFired | False |
FlashFunction | False |
FlashMode | Off |
FlashRedEyeMode | False |
FlashReturn | No return detection |
FNumber | 5.6 |
FocalLength | 26.0 mm |
FocalLength35efl | 26.0 mm (35 mm equivalent: 41.6 mm) |
Format | image/jpeg |
FOV | 46.8 deg |
GreenHue | 0 |
GreenSaturation | 0 |
HasCrop | False |
HasSettings | True |
HighlightRecovery | 100 |
HueAdjustmentAqua | 0 |
HueAdjustmentBlue | 0 |
HueAdjustmentGreen | 0 |
HueAdjustmentMagenta | 0 |
HueAdjustmentOrange | 0 |
HueAdjustmentPurple | 0 |
HueAdjustmentRed | 0 |
HueAdjustmentYellow | 0 |
HyperfocalDistance | 6.43 m |
ICCProfileName | sRGB IEC61966-2.1 |
ImageHeight | 500 |
ImageNumber | 240 |
ImageSize | 1032x500 |
ImageWidth | 1032 |
ISO | 100 |
Lens | EF-S17-85mm f/4-5.6 IS USM |
LensInfo | 17-85mm f/? |
LightValue | 11.6 |
LuminanceAdjustmentAqua | 0 |
LuminanceAdjustmentBlue | 0 |
LuminanceAdjustmentGreen | 0 |
LuminanceAdjustmentMagenta | 0 |
LuminanceAdjustmentOrange | 0 |
LuminanceAdjustmentPurple | 0 |
LuminanceAdjustmentRed | 0 |
LuminanceAdjustmentYellow | 0 |
LuminanceSmoothing | 0 |
Make | Canon |
Marked | True |
MaxApertureValue | 4.0 |
Megapixels | 0.516 |
MeteringMode | Spot |
Model | Canon EOS 30D |
ModifyDate (1) | 2009:02:15 20:31:44+01:00 |
ModifyDate | 2009:02:15 20:31:44 |
ObjectName | Paradisbukta |
Orientation | Horizontal (normal) |
OriginalTransmissionReference | Tine F. Berg |
OwnerName | unknown |
ParametricDarks | 0 |
ParametricHighlights | 0 |
ParametricHighlightSplit | 75 |
ParametricLights | 0 |
ParametricMidtoneSplit | 50 |
ParametricShadows | 0 |
ParametricShadowSplit | 25 |
PostCropVignetteAmount | 0 |
ProfileDescription | sRGB IEC61966-2.1 |
Rating | 0 |
RawFileName | IMG_7071.CR2 |
RedHue | 0 |
RedSaturation | 0 |
Rights | tine_f_berg@getmail.no_tlf +4790879228 |
Saturation | -77 |
SaturationAdjustmentAqua | 0 |
SaturationAdjustmentBlue | 0 |
SaturationAdjustmentGreen | 0 |
SaturationAdjustmentMagenta | 0 |
SaturationAdjustmentOrange | 0 |
SaturationAdjustmentPurple | 0 |
SaturationAdjustmentRed | 0 |
SaturationAdjustmentYellow | 0 |
ScaleFactor35efl | 1.6 |
SceneCaptureType | Standard |
SerialNumber | 1430900148 |
Shadows | 43 |
ShadowTint | 0 |
SharpenDetail | 25 |
SharpenEdgeMasking | 0 |
SharpenRadius | +1.0 |
Sharpness | 25 |
ShutterSpeed | 1/100 |
ShutterSpeedValue | 1/100 |
SidecarForExtension | CR2 |
Software | Adobe Photoshop Elements 7.0 Windows |
Source | Tine F. Berg |
SplitToningBalance | 0 |
SplitToningHighlightHue | 0 |
SplitToningHighlightSaturation | 0 |
SplitToningShadowHue | 0 |
SplitToningShadowSaturation | 0 |
Tint | -8 |
Title | Paradisbukta |
ToneCurve | 0, 0, 32, 22, 64, 56, 128, 128, 192, 196, 255, 255 |
ToneCurveName | Medium Contrast |
TransmissionReference | Tine F. Berg |
URL_List | |
Version | 4.5 |
Vibrance | 0 |
VignetteAmount | 0 |
WhiteBalance (2) | Custom |
WhiteBalance | Auto |