Felt | Verdi |
1/250 sec - F/10
2006/10/05 15:54:42.1
[#End of Shooting Data Section]
AF Mode: AF-S
AlreadyApplied | True |
Aperture | 10.0 |
ApertureValue | 10.0 |
Auto Flash Comp: 0 EV
BitsPerSample | 8 |
BlueHue | 0 |
BlueSaturation | 0 |
Brightness | +58 |
CameraProfile | ACR 4.4 |
ChromaticAberrationB | 0 |
ChromaticAberrationR | 0 |
CircleOfConfusion | 0.020 mm |
Clarity | +18 |
Color Mode: Mode IIIa (sRGB)
ColorComponents | 3 |
ColorMode | RGB |
ColorNoiseReduction | 25 |
ColorTemperature | 5600 |
Compressed RAW (12-bit)
Contrast (1) | +51 |
Contrast | Normal |
ConvertToGrayscale | False |
CreateDate | 2006:10:05 15:54:42.10+02:00 |
CreatorTool | Nikon Transfer 6.2.5 W |
CustomRendered | Normal |
DateTimeDigitized | 2006:10:05 15:54:42.10+02:00 |
DateTimeOriginal | 2006:10:05 15:54:42.10+02:00 |
Defringe | 0 |
Description | [#Beginning of Shooting Data Section]
Digital Vari-Program: Landscape
DigitalZoomRatio | 1 |
ExifImageHeight | 2000 |
ExifImageWidth | 3008 |
Exposure Comp.: 0 EV
Exposure | +0.60 |
ExposureCompensation | 0 |
ExposureMode | Auto |
ExposureProgram | Not Defined |
ExposureTime | 1/250 |
FillLight | 0 |
Flash Sync Mode: Not Attached
Flash | Off, Did not fire |
FlashFired | False |
FlashFunction | False |
FlashMode | Off |
FlashRedEyeMode | False |
FlashReturn | No return detection |
FNumber | 10.0 |
Focal Length: 28mm
FocalLength | 28.0 mm |
FocalLength35efl | 28.0 mm (35 mm equivalent: 42.0 mm) |
FocalLengthIn35mmFormat | 42 mm |
Format | image/tiff |
FOV | 46.4 deg |
GainControl | None |
GreenHue | 0 |
GreenSaturation | 0 |
HasCrop | False |
HasSettings | True |
HighlightRecovery | 3 |
Hue Adjustment: 0°
HueAdjustmentAqua | 0 |
HueAdjustmentBlue | 0 |
HueAdjustmentGreen | 0 |
HueAdjustmentMagenta | 0 |
HueAdjustmentOrange | 0 |
HueAdjustmentPurple | 0 |
HueAdjustmentRed | 0 |
HueAdjustmentYellow | 0 |
HyperfocalDistance | 3.91 m |
ICCProfileName | Adobe RGB (1998) |
Image Comment:
Image Size: Large (3008 x 2000)
ImageHeight | 806 |
ImageNumber | 3901 |
ImageSize | 1200x806 |
ImageWidth | 1200 |
ISO | 200 |
Lens | 28.0-200.0 mm f/3.5-5.6 |
Lens: 28-200mm F/3.5-5.6 D
LensInfo | 28-200mm f/3.5-5.6 |
LightSource | Unknown |
LightValue | 13.6 |
Long Exposure NR: Off
LuminanceAdjustmentAqua | 0 |
LuminanceAdjustmentBlue | 0 |
LuminanceAdjustmentGreen | 0 |
LuminanceAdjustmentMagenta | 0 |
LuminanceAdjustmentOrange | 0 |
LuminanceAdjustmentPurple | 0 |
LuminanceAdjustmentRed | 0 |
LuminanceAdjustmentYellow | 0 |
LuminanceSmoothing | 0 |
Make | NIKON CORPORATION |
MaxApertureValue | 3.5 |
Megapixels | 0.967 |
Metering Mode: Multi-Pattern
MeteringMode | Multi-segment |
Model | NIKON D70s |
ModifyDate | 2006:10:05 18:56:58.10+02:00 |
Nikon D70s
Optimize Image:
ParametricDarks | 0 |
ParametricHighlights | 0 |
ParametricHighlightSplit | 75 |
ParametricLights | 0 |
ParametricMidtoneSplit | 50 |
ParametricShadows | 0 |
ParametricShadowSplit | 25 |
PostCropVignetteAmount | 0 |
Rating | 0 |
RawFileName | DSC_3857.NEF |
RedHue | 0 |
RedSaturation | 0 |
Saturation (1) | +48 |
Saturation | Normal |
Saturation: Normal
SaturationAdjustmentAqua | 0 |
SaturationAdjustmentBlue | 0 |
SaturationAdjustmentGreen | 0 |
SaturationAdjustmentMagenta | 0 |
SaturationAdjustmentOrange | 0 |
SaturationAdjustmentPurple | 0 |
SaturationAdjustmentRed | 0 |
SaturationAdjustmentYellow | 0 |
ScaleFactor35efl | 1.5 |
SceneCaptureType | Landscape |
SceneType | Directly photographed |
SensingMethod | One-chip color area |
Sensitivity: ISO 200
Shadows | 11 |
ShadowTint | 0 |
SharpenDetail | 25 |
SharpenEdgeMasking | 0 |
Sharpening: Auto
SharpenRadius | +1.0 |
Sharpness (1) | 25 |
Sharpness | Hard |
ShutterSpeed | 1/250 |
ShutterSpeedValue | 1/250 |
SidecarForExtension | NEF |
SplitToningBalance | 0 |
SplitToningHighlightHue | 0 |
SplitToningHighlightSaturation | 0 |
SplitToningShadowHue | 0 |
SplitToningShadowSaturation | 0 |
SubjectDistanceRange | Unknown |
Tint | -3 |
Tone Comp.: Auto
ToneCurve | 0, 0, 32, 22, 64, 56, 128, 128, 192, 196, 255, 255 |
ToneCurveName | Medium Contrast |
Version | 4.6 |
Vibrance | 0 |
VignetteAmount | 0 |
White Balance: Auto
WhiteBalance (1) | Custom |
WhiteBalance | Auto |