Felt | Verdi |
AlreadyApplied | True |
Aperture | 8.0 |
ApertureValue | 8.0 |
Artist | Tine F. Berg |
BitsPerSample | 8 |
BlueHue | 0 |
BlueSaturation | 0 |
Brightness | +51 |
By-line | Tine F. Berg |
CameraProfile | ACR 4.4 |
ChromaticAberrationB | 0 |
ChromaticAberrationR | 0 |
CircleOfConfusion | 0.019 mm |
Clarity | +16 |
ColorComponents | 3 |
ColorMode | RGB |
ColorNoiseReduction | 32 |
ColorSpace | sRGB |
ColorTemperature | 5450 |
Contrast | +61 |
ConvertToGrayscale | False |
Copyright | tine_f_berg@getmail.no_tlf +4790879228 |
CopyrightFlag | True |
CopyrightNotice | tine_f_berg@getmail.no_tlf +4790879228 |
CreateDate (1) | 2009:01:26 22:47:01+01:00 |
CreateDate | 2008:07:09 20:41:53 |
Creator | Tine F. Berg |
CreatorTool | Adobe Photoshop Elements 7.0 Windows |
Credit | Tine F. Berg |
CustomRendered | Normal |
DateTimeDigitized | 2008:07:09 20:41:53+02:00 |
DateTimeOriginal (1) | 2008:07:09 20:41:53+02:00 |
DateTimeOriginal | 2008:07:09 20:41:53 |
Defringe | 0 |
ExifImageHeight | 591 |
ExifImageWidth | 1181 |
Exposure | +0.55 |
ExposureCompensation | -4/3 |
ExposureMode | Auto |
ExposureProgram | Aperture-priority AE |
ExposureTime | 1/400 |
FillLight | 38 |
Firmware | 1.0.5 |
Flash | Off, Did not fire |
FlashCompensation | 0 |
FlashFired | False |
FlashFunction | False |
FlashMode | Off |
FlashRedEyeMode | False |
FlashReturn | No return detection |
FNumber | 8.0 |
FocalLength | 44.0 mm |
FocalLength35efl | 44.0 mm (35 mm equivalent: 70.5 mm) |
Format | image/jpeg |
FOV | 28.7 deg |
GreenHue | 0 |
GreenSaturation | 0 |
HasCrop | False |
HasSettings | True |
HighlightRecovery | 48 |
HueAdjustmentAqua | 0 |
HueAdjustmentBlue | 0 |
HueAdjustmentGreen | 0 |
HueAdjustmentMagenta | 0 |
HueAdjustmentOrange | 0 |
HueAdjustmentPurple | 0 |
HueAdjustmentRed | 0 |
HueAdjustmentYellow | 0 |
HyperfocalDistance | 12.90 m |
ICCProfileName | sRGB IEC61966-2.1 |
ImageHeight | 591 |
ImageNumber | 208 |
ImageSize | 1181x591 |
ImageWidth | 1181 |
ISO | 100 |
Lens | EF-S17-85mm f/4-5.6 IS USM |
LensInfo | 17-85mm f/? |
LightValue | 14.6 |
LuminanceAdjustmentAqua | 0 |
LuminanceAdjustmentBlue | 0 |
LuminanceAdjustmentGreen | 0 |
LuminanceAdjustmentMagenta | 0 |
LuminanceAdjustmentOrange | 0 |
LuminanceAdjustmentPurple | 0 |
LuminanceAdjustmentRed | 0 |
LuminanceAdjustmentYellow | 0 |
LuminanceSmoothing | 0 |
Make | Canon |
Marked | True |
MaxApertureValue | 4.5 |
Megapixels | 0.698 |
MeteringMode | Average |
Model | Canon EOS 30D |
ModifyDate (1) | 2009:01:26 22:47:01+01:00 |
ModifyDate | 2009:01:26 22:47:01 |
ObjectName | Horne-Danmark |
Orientation | Horizontal (normal) |
OriginalTransmissionReference | Tine F. Berg |
OwnerName | unknown |
ParametricDarks | 0 |
ParametricHighlights | 0 |
ParametricHighlightSplit | 75 |
ParametricLights | 0 |
ParametricMidtoneSplit | 50 |
ParametricShadows | 0 |
ParametricShadowSplit | 25 |
PostCropVignetteAmount | 0 |
ProfileDescription | sRGB IEC61966-2.1 |
Rating | 5 |
RawFileName | IMG_5133.CR2 |
RedHue | 0 |
RedSaturation | 0 |
Rights | tine_f_berg@getmail.no_tlf +4790879228 |
Saturation | +8 |
SaturationAdjustmentAqua | 0 |
SaturationAdjustmentBlue | 0 |
SaturationAdjustmentGreen | 0 |
SaturationAdjustmentMagenta | 0 |
SaturationAdjustmentOrange | 0 |
SaturationAdjustmentPurple | 0 |
SaturationAdjustmentRed | 0 |
SaturationAdjustmentYellow | 0 |
ScaleFactor35efl | 1.6 |
SceneCaptureType | Standard |
SerialNumber | 1430900148 |
Shadows | 5 |
ShadowTint | 0 |
SharpenDetail | 43 |
SharpenEdgeMasking | 0 |
SharpenRadius | +1.0 |
Sharpness | 40 |
ShutterSpeed | 1/400 |
ShutterSpeedValue | 1/400 |
SidecarForExtension | CR2 |
Software | Adobe Photoshop Elements 7.0 Windows |
Source | Tine F. Berg |
SplitToningBalance | 0 |
SplitToningHighlightHue | 0 |
SplitToningHighlightSaturation | 0 |
SplitToningShadowHue | 0 |
SplitToningShadowSaturation | 0 |
Tint | +6 |
Title | Horne-Danmark |
ToneCurve | 0, 0, 32, 22, 64, 56, 128, 128, 192, 196, 255, 255 |
ToneCurveName | Medium Contrast |
TransmissionReference | Tine F. Berg |
URL_List | |
Version | 4.5 |
Vibrance | +5 |
VignetteAmount | 0 |
WhiteBalance (2) | As Shot |
WhiteBalance | Auto |