Felt | Verdi |
AlreadyApplied | True |
Aperture | 6.3 |
ApertureValue | 6.3 |
BitsPerSample | 8 |
BlueHue | 0 |
BlueSaturation | 0 |
Brightness | +50 |
CameraProfile | ACR 4.3 |
CFAPattern | [Red,Green][Green,Blue] |
ChromaticAberrationB | 0 |
ChromaticAberrationR | 0 |
CircleOfConfusion | 0.020 mm |
Clarity | 0 |
ColorComponents | 3 |
ColorMode | RGB |
ColorNoiseReduction | 25 |
ColorSpace (1) | Unknown (-1) |
ColorSpace | Uncalibrated |
ColorTemperature | 6650 |
Contrast (2) | +13 |
Contrast | Normal |
ConvertToGrayscale | False |
CopyrightFlag | False |
CreateDate (1) | 2008:12:11 18:25:17+01:00 |
CreateDate | 2008:12:11 12:57:56 |
CreatorTool | Adobe Photoshop CS3 Windows |
CropAngle | -1.578818 |
CropBottom | 0.960624 |
CropLeft | 0.048348 |
CropRight | 0.987619 |
CropTop | 0.09095 |
CustomRendered | Normal |
DateTimeDigitized | 2008:12:11 12:57:56.75+01:00 |
DateTimeOriginal (1) | 2008:12:11 12:57:56.75+01:00 |
DateTimeOriginal | 2008:12:11 12:57:56 |
Defringe | 0 |
DigitalZoomRatio | 1 |
ExifImageHeight | 669 |
ExifImageWidth | 1024 |
Exposure | 0.00 |
ExposureCompensation | -5/3 |
ExposureMode | Auto |
ExposureProgram | Aperture-priority AE |
ExposureTime | 1/20 |
FillLight | 0 |
Flash | No Flash |
FlashFired | False |
FlashFunction | False |
FlashMode | Unknown |
FlashRedEyeMode | False |
FlashReturn | No return detection |
FNumber | 6.3 |
FocalLength | 10.0 mm |
FocalLength35efl | 10.0 mm (35 mm equivalent: 15.0 mm) |
FocalLengthIn35mmFormat | 15 mm |
Format | image/jpeg |
FOV | 100.4 deg |
GainControl | Low gain up |
GreenHue | 0 |
GreenSaturation | 0 |
HasCrop | True |
HasSettings | True |
HighlightRecovery | 0 |
HueAdjustmentAqua | 0 |
HueAdjustmentBlue | 0 |
HueAdjustmentGreen | 0 |
HueAdjustmentMagenta | 0 |
HueAdjustmentOrange | -1 |
HueAdjustmentPurple | 0 |
HueAdjustmentRed | -13 |
HueAdjustmentYellow | -22 |
HyperfocalDistance | 0.79 m |
ICCProfileName | Adobe RGB (1998) |
ImageHeight | 669 |
ImageNumber | 22121 |
ImageSize | 1024x669 |
ImageWidth | 1024 |
ISO | 400 |
Lens | 10.0-20.0 mm f/4.0-5.6 |
LensInfo | 10-20mm f/4-5.6 |
LightSource | Unknown |
LightValue | 7.6 |
LuminanceAdjustmentAqua | +24 |
LuminanceAdjustmentBlue | +28 |
LuminanceAdjustmentGreen | -2 |
LuminanceAdjustmentMagenta | 0 |
LuminanceAdjustmentOrange | -14 |
LuminanceAdjustmentPurple | 0 |
LuminanceAdjustmentRed | -17 |
LuminanceAdjustmentYellow | -14 |
LuminanceSmoothing | 0 |
Make | NIKON CORPORATION |
MaxApertureValue | 4.0 |
Megapixels | 0.685 |
MeteringMode | Multi-segment |
Model | NIKON D300 |
ModifyDate (1) | 2008:12:11 18:25:17+01:00 |
ModifyDate | 2008:12:11 18:25:17 |
Orientation | Horizontal (normal) |
ParametricDarks | +6 |
ParametricHighlights | -8 |
ParametricHighlightSplit | 75 |
ParametricLights | -41 |
ParametricMidtoneSplit | 50 |
ParametricShadows | +8 |
ParametricShadowSplit | 25 |
ProfileDescription | Adobe RGB (1998) |
Rating | 0 |
RawFileName | _OLA1956.NEF |
RedHue | 0 |
RedSaturation | 0 |
Saturation (2) | +14 |
Saturation | Normal |
SaturationAdjustmentAqua | 0 |
SaturationAdjustmentBlue | +26 |
SaturationAdjustmentGreen | 0 |
SaturationAdjustmentMagenta | -3 |
SaturationAdjustmentOrange | +28 |
SaturationAdjustmentPurple | -8 |
SaturationAdjustmentRed | +18 |
SaturationAdjustmentYellow | -23 |
ScaleFactor35efl | 1.5 |
SceneCaptureType | Standard |
SceneType | Directly photographed |
SensingMethod | One-chip color area |
Shadows | 0 |
ShadowTint | 0 |
SharpenDetail | 25 |
SharpenEdgeMasking | 0 |
SharpenRadius | +1.0 |
Sharpness (2) | 10 |
Sharpness | Normal |
ShutterSpeed | 1/20 |
ShutterSpeedValue | 1/20 |
SidecarForExtension | NEF |
Software | Adobe Photoshop CS3 Windows |
SplitToningBalance | 0 |
SplitToningHighlightHue | 0 |
SplitToningHighlightSaturation | 0 |
SplitToningShadowHue | 0 |
SplitToningShadowSaturation | 0 |
SubjectDistanceRange | Unknown |
Tint | -46 |
ToneCurve | 0, 0, 32, 22, 64, 56, 128, 128, 192, 196, 255, 255 |
ToneCurveName | Medium Contrast |
URL_List | |
Version | 4.3.1 |
Vibrance | -3 |
VignetteAmount | 0 |
WhiteBalance (2) | Custom |
WhiteBalance | Auto |