Felt | Verdi |
AlreadyApplied | True |
Aperture | 13.0 |
Aperture: 11
ApertureValue | 13.0 |
Artist | Magne Thidemansen |
BitsPerSample | 8 |
BlueHue | 0 |
BlueSaturation | 0 |
Brightness | +50 |
By-line | Magne Thidemansen |
CameraProfile | ACR 3.3 |
Category (1) | Fri |
Category | Fritid |
CFAPattern | [Green,Red][Blue,Green] |
ChromaticAberrationB | 0 |
ChromaticAberrationR | 0 |
CircleOfConfusion | 0.020 mm |
ColorComponents | 1 |
ColorMode | RGB |
ColorNoiseReduction | 25 |
ColorSpace | sRGB |
ColorTemperature | 5412 |
Contrast (2) | +25 |
Contrast | Normal |
ConvertToGrayscale | False |
Copyright | Magne Thidemansen |
Copyright: Magne Thidemansen
CopyrightFlag | False |
CopyrightNotice | Magne Thidemansen |
Country | Sverige |
Country-PrimaryLocationCode | SWE |
Country-PrimaryLocationName | Sverige |
CountryCode | SWE |
CreateDate (1) | 2008:10:22 20:10:36+02:00 |
CreateDate | 2008:07:19 18:27:00 |
Creator | Magne Thidemansen |
CreatorAddress | Brubakken 40 |
CreatorCity | Hvittingfoss |
CreatorCountry | Norway |
CreatorPostalCode | 3647 |
CreatorRegion | |
CreatorTool | Adobe Photoshop CS3 Windows |
CreatorWorkEmail | foto@thidemansen.com |
CreatorWorkTelephone | |
CreatorWorkURL | |
CustomRendered | Normal |
Date and Time: 2008:07:19 18:27:00
DateTimeDigitized | 2008:07:19 18:27:00.57+02:00 |
DateTimeOriginal (1) | 2008:07:19 18:27:00.57+02:00 |
DateTimeOriginal | 2008:07:19 18:27:00 |
DerivedFrom | |
DigitalZoomRatio | 1 |
EditStatus | Fra RAW |
ExifCameraInfo | Model: NIKON D200
ExifImageHeight | 769 |
ExifImageWidth | 1200 |
Exposure Bias: 0.000
Exposure Program: Aperture prio
Exposure Time: 1/160 Sec
Exposure | 0.00 |
ExposureCompensation | 0 |
ExposureMode | Auto |
ExposureProgram | Aperture-priority AE |
ExposureTime | 1/160 |
F Number: 13.0
FillLight | 11 |
Flash | No Flash |
Flash: No
FlashFired | False |
FlashFunction | False |
FlashMode | Unknown |
FlashRedEyeMode | False |
FlashReturn | No return detection |
FNumber | 13.0 |
FocalLength | 22.0 mm |
FocalLength35efl | 22.0 mm (35 mm equivalent: 33.0 mm) |
FocalLengthIn35mmFormat | 33 mm |
Format | image/jpeg |
FOV | 57.2 deg |
GainControl | None |
GreenHue | 0 |
GreenSaturation | 0 |
HasCrop | False |
HasSettings | True |
Headline | Sverige |
HighlightRecovery | 0 |
HueAdjustmentAqua | 0 |
HueAdjustmentBlue | 0 |
HueAdjustmentGreen | 0 |
HueAdjustmentMagenta | 0 |
HueAdjustmentOrange | 0 |
HueAdjustmentPurple | 0 |
HueAdjustmentRed | 0 |
HueAdjustmentYellow | 0 |
HyperfocalDistance | 1.86 m |
ICCProfileName | sRGB IEC61966-2.1 |
ImageHeight (1) | 2592 |
ImageHeight | 769 |
ImageNumber | 9466 |
ImageSize | 1200x769 |
ImageWidth (1) | 3872 |
ImageWidth | 1200 |
ISO Speed: 200
ISO | 200 |
Label | Ferie 2008 |
Lens | 18.0-70.0 mm f/3.5-4.5 |
LensInfo | 18-70mm f/3.5-4.5 |
Light Source: Unknown
LightSource | Fine Weather |
LightValue | 13.7 |
Location | Såne;Halland;Öland |
LuminanceAdjustmentAqua | 0 |
LuminanceAdjustmentBlue | 0 |
LuminanceAdjustmentGreen | 0 |
LuminanceAdjustmentMagenta | 0 |
LuminanceAdjustmentOrange | 0 |
LuminanceAdjustmentPurple | 0 |
LuminanceAdjustmentRed | 0 |
LuminanceAdjustmentYellow | 0 |
LuminanceSmoothing | 0 |
Make | NIKON CORPORATION |
MaxApertureValue | 3.6 |
Megapixels | 0.923 |
Metering Mode: Pattern
MeteringMode | Multi-segment |
Model | NIKON D200 |
ModifyDate (1) | 2008:10:22 20:33:35+02:00 |
ModifyDate | 2008:10:22 20:33:35 |
ObjectName | Ferieopplevelse |
Orientation | Horizontal (normal) |
ParametricDarks | 0 |
ParametricHighlights | 0 |
ParametricHighlightSplit | 75 |
ParametricLights | 0 |
ParametricMidtoneSplit | 50 |
ParametricShadows | 0 |
ParametricShadowSplit | 25 |
ProfileDescription | sRGB IEC61966-2.1 |
Province-State | Skåne;Halland;Öland;Bohuslän |
RedHue | 0 |
RedSaturation | 0 |
Resolution: 300.000
Rights | Magne Thidemansen |
Saturation (2) | 0 |
Saturation | Normal |
SaturationAdjustmentAqua | 0 |
SaturationAdjustmentBlue | 0 |
SaturationAdjustmentGreen | 0 |
SaturationAdjustmentMagenta | 0 |
SaturationAdjustmentOrange | 0 |
SaturationAdjustmentPurple | 0 |
SaturationAdjustmentRed | 0 |
SaturationAdjustmentYellow | 0 |
ScaleFactor35efl | 1.5 |
SceneCaptureType | Standard |
SceneType | Directly photographed |
SensingMethod | One-chip color area |
Shadows | 5 |
ShadowTint | 0 |
Sharpness (2) | 25 |
Sharpness | Normal |
Shutter Speed: 1/125 Sec
ShutterSpeed | 1/160 |
ShutterSpeedValue | 1/160 |
Software | Adobe Photoshop CS3 Windows |
Software: Ver.1.00
SplitToningBalance | 0 |
SplitToningHighlightHue | 0 |
SplitToningHighlightSaturation | 0 |
SplitToningShadowHue | 0 |
SplitToningShadowSaturation | 0 |
State | Skåne;Halland;Öland;Bohuslän |
Sub-location | Såne;Halland;Öland |
SubjectCode | SWE |
SubjectDistanceRange | Unknown |
SupplementalCategories | Bobilferie |
Tint | -3 |
Title | Ferieopplevelse |
ToneCurve | 0, 0, 32, 22, 64, 56, 128, 128, 192, 196, 255, 255 |
ToneCurveName | Medium Contrast |
URL_List | |
UsageTerms | |
Version | 1.0 |
Vibrance | 0 |
VignetteAmount | 0 |
WhiteBalance (2) | Custom |
WhiteBalance | Manual |
Zoom Length: 22 mm