Felt | Verdi |
AlreadyApplied | True |
Aperture | 5.6 |
ApertureValue | 5.6 |
BitsPerSample | 8 |
BlueHue | 0 |
BlueSaturation | 0 |
Brightness | -7 |
CameraProfile | ACR 2.4 |
ChromaticAberrationB | 0 |
ChromaticAberrationR | 0 |
Clarity | 50 |
ColorComponents | 3 |
ColorNoiseReduction | 70 |
ColorTemperature | 6286 |
Contrast | 0 |
ConvertToGrayscale | False |
Copyright | Aleksander M. Stensby |
CopyrightNotice | Aleksander M. Stensby |
CreateDate | 2007:12:22 19:35:32 |
CreatorTool | Adobe Photoshop Lightroom |
CropAngle | 0 |
CropBottom | 1 |
CropHeight | 400 |
CropLeft | 0 |
CropRight | 0.982857 |
CropTop | 0.157143 |
CropUnit | pixels |
CropWidth | 700 |
DateTimeDigitized | 2007:12:22 19:35:32-06:00 |
DateTimeOriginal (1) | 2007:12:22 19:35:32-06:00 |
DateTimeOriginal | 2007:12:22 19:35:32 |
Defringe | 0 |
Exposure | +0.86 |
ExposureCompensation | -1 |
ExposureProgram | Aperture-priority AE |
ExposureTime | 1/100 |
FillLight | 24 |
Firmware | 1.1.1 |
Flash | No Flash |
FlashFired | False |
FNumber | 5.6 |
FocalLength | 79.0 mm |
FocalLength35efl | 79.0 mm |
GreenHue | 0 |
GreenSaturation | 0 |
HasCrop | True |
HasSettings | True |
HighlightRecovery | 45 |
HueAdjustmentAqua | 0 |
HueAdjustmentBlue | 0 |
HueAdjustmentGreen | +12 |
HueAdjustmentMagenta | 0 |
HueAdjustmentOrange | -7 |
HueAdjustmentPurple | 0 |
HueAdjustmentRed | 0 |
HueAdjustmentYellow | 0 |
ImageHeight | 400 |
ImageSize | 700x400 |
ImageWidth | 700 |
ISO | 1600 |
Lens | 17.0-85.0 mm |
LensInfo | 17-85mm f/? |
LightValue | 7.6 |
LuminanceAdjustmentAqua | 0 |
LuminanceAdjustmentBlue | 0 |
LuminanceAdjustmentGreen | +40 |
LuminanceAdjustmentMagenta | 0 |
LuminanceAdjustmentOrange | +36 |
LuminanceAdjustmentPurple | 0 |
LuminanceAdjustmentRed | 0 |
LuminanceAdjustmentYellow | 0 |
LuminanceSmoothing | 15 |
Make | Canon |
MaxApertureValue | 5.6 |
Megapixels | 0.280 |
MeteringMode | Multi-segment |
Model | Canon EOS 300D DIGITAL |
ModifyDate (1) | 2008:02:20 00:22:06+01:00 |
ModifyDate | 2008:02:20 00:22:06 |
ParametricDarks | -20 |
ParametricHighlights | +60 |
ParametricHighlightSplit | 75 |
ParametricLights | +10 |
ParametricMidtoneSplit | 50 |
ParametricShadows | -60 |
ParametricShadowSplit | 25 |
ProfileDescription | sRGB IEC61966-2.1 |
RedHue | 0 |
RedSaturation | 0 |
Rights | Aleksander M. Stensby |
Saturation | +19 |
SaturationAdjustmentAqua | +50 |
SaturationAdjustmentBlue | +58 |
SaturationAdjustmentGreen | +50 |
SaturationAdjustmentMagenta | 0 |
SaturationAdjustmentOrange | +14 |
SaturationAdjustmentPurple | +23 |
SaturationAdjustmentRed | 0 |
SaturationAdjustmentYellow | +23 |
Shadows | 15 |
ShadowTint | 0 |
SharpenDetail | 44 |
SharpenEdgeMasking | 0 |
SharpenRadius | +1.0 |
Sharpness | 80 |
ShutterSpeed | 1/100 |
ShutterSpeedValue | 1/100 |
SplitToningBalance | 0 |
SplitToningHighlightHue | 0 |
SplitToningHighlightSaturation | 0 |
SplitToningShadowHue | 0 |
SplitToningShadowSaturation | 0 |
Tint | +32 |
ToneCurve | 0, 0, 255, 255 |
ToneCurveName | Linear |
Version | 1.0 |
Vibrance | +25 |
VignetteAmount | -100 |
VignetteMidpoint | 29 |
WhiteBalance | Custom |