Felt | Verdi |
AlreadyApplied | True |
Aperture | 20.0 |
ApertureValue | 20.0 |
Artist | Truls Schaal Foto |
BitsPerSample | 8 |
BlueHue | 0 |
BlueSaturation | 0 |
Brightness | +73 |
By-line | Truls Schaal Foto |
CameraProfile | ACR 4.3 |
ChromaticAberrationB | 0 |
ChromaticAberrationR | 0 |
CircleOfConfusion | 0.030 mm |
Clarity | 43 |
ColorComponents | 3 |
ColorMode | RGB |
ColorNoiseReduction | 25 |
ColorSpace (1) | Unknown (-1) |
ColorSpace | Uncalibrated |
ColorTemperature | 7200 |
Contrast | +38 |
ConvertToGrayscale | False |
CopyrightFlag | False |
CreateDate (1) | 2008:02:03 12:38:01+01:00 |
CreateDate | 2008:02:02 08:27:41 |
Creator | Truls Schaal Foto |
CreatorTool | Adobe Photoshop CS3 Windows |
CustomRendered | Normal |
DateTimeDigitized | 2008:02:02 08:27:41.36+01:00 |
DateTimeOriginal (1) | 2008:02:02 08:27:41.36+01:00 |
DateTimeOriginal | 2008:02:02 08:27:41 |
Defringe | 0 |
DerivedFrom | |
ExifImageHeight | 488 |
ExifImageWidth | 1024 |
Exposure | 0.00 |
ExposureCompensation | 0 |
ExposureMode | Manual |
ExposureProgram | Manual |
ExposureTime | 30 |
FillLight | 0 |
Firmware | 1.0.6 |
Flash | No Flash |
FlashCompensation | 0 |
FlashFired | False |
FlashFunction | False |
FlashMode | Unknown |
FlashRedEyeMode | False |
FlashReturn | No return detection |
FNumber | 20.0 |
FocalLength | 12.0 mm |
FocalLength35efl | 12.0 mm (35 mm equivalent: 12.0 mm) |
Format | image/jpeg |
FOV | 112.7 deg |
GreenHue | 0 |
GreenSaturation | 0 |
HasCrop | False |
HasSettings | True |
HighlightRecovery | 0 |
HueAdjustmentAqua | 0 |
HueAdjustmentBlue | 0 |
HueAdjustmentGreen | 0 |
HueAdjustmentMagenta | 0 |
HueAdjustmentOrange | 0 |
HueAdjustmentPurple | 0 |
HueAdjustmentRed | 0 |
HueAdjustmentYellow | 0 |
HyperfocalDistance | 0.24 m |
ICCProfileName | Adobe RGB (1998) |
ImageHeight | 488 |
ImageNumber | 0 |
ImageSize | 1024x488 |
ImageWidth | 1024 |
ISO | 50 |
Lens | 12-24mm |
LensInfo | 12-24mm f/? |
LightValue | 4.7 |
LuminanceAdjustmentAqua | 0 |
LuminanceAdjustmentBlue | 0 |
LuminanceAdjustmentGreen | 0 |
LuminanceAdjustmentMagenta | 0 |
LuminanceAdjustmentOrange | 0 |
LuminanceAdjustmentPurple | 0 |
LuminanceAdjustmentRed | 0 |
LuminanceAdjustmentYellow | 0 |
LuminanceSmoothing | 0 |
Make | Canon |
MaxApertureValue | 4.6 |
Megapixels | 0.500 |
MeteringMode | Multi-segment |
Model | Canon EOS-1Ds Mark III |
ModifyDate (1) | 2008:02:03 12:38:01+01:00 |
ModifyDate | 2008:02:03 12:38:01 |
Orientation | Horizontal (normal) |
OwnerName | Truls Schaal Foto |
ParametricDarks | 0 |
ParametricHighlights | 0 |
ParametricHighlightSplit | 75 |
ParametricLights | 0 |
ParametricMidtoneSplit | 50 |
ParametricShadows | 0 |
ParametricShadowSplit | 25 |
ProfileDescription | Adobe RGB (1998) |
Rating | 0 |
RawFileName | _J5W2696.CR2 |
RedHue | 0 |
RedSaturation | 0 |
Saturation | 0 |
SaturationAdjustmentAqua | 0 |
SaturationAdjustmentBlue | 0 |
SaturationAdjustmentGreen | 0 |
SaturationAdjustmentMagenta | 0 |
SaturationAdjustmentOrange | 0 |
SaturationAdjustmentPurple | 0 |
SaturationAdjustmentRed | 0 |
SaturationAdjustmentYellow | 0 |
ScaleFactor35efl | 1.0 |
SceneCaptureType | Standard |
SerialNumber | 606675 |
Shadows | 1 |
ShadowTint | 0 |
SharpenDetail | 25 |
SharpenEdgeMasking | 0 |
SharpenRadius | +1.0 |
Sharpness | 25 |
ShutterSpeed | 30 |
ShutterSpeedValue | 30 |
SidecarForExtension | CR2 |
Software | Adobe Photoshop CS3 Windows |
SplitToningBalance | 0 |
SplitToningHighlightHue | 0 |
SplitToningHighlightSaturation | 0 |
SplitToningShadowHue | 0 |
SplitToningShadowSaturation | 0 |
Tint | -9 |
ToneCurve | 0, 0, 32, 22, 58, 58, 120, 133, 188, 202, 255, 255 |
ToneCurveName | Custom |
URL_List | |
Version | 4.3.1 |
Vibrance | +35 |
VignetteAmount | +39 |
VignetteMidpoint | 0 |
WhiteBalance (2) | Custom |
WhiteBalance | Auto |