Felt | Verdi |
AELock | Off |
AFAreas | Center (121,121)-(133,133) |
AFPoint | Center (vertical) |
AFSearch | Ready |
AlreadyApplied | True |
Aperture | 22.0 |
ApertureValue | 22.0 |
Artist | Torstein Hall |
AutoLateralCA | 0 |
AutoWhiteVersion | 134348800 |
BitsPerSample | 8 |
BlackLevel2 | 73 73 73 73 |
Blacks2012 | -8 |
BlueBalance | 1.273438 |
BlueHue | 0 |
BlueSaturation | 0 |
BodyFirmwareVersion | 1.300 |
CameraID | OLYMPUS DIGITAL CAMERA |
CameraProfile | ACR 4.4 |
CameraSettingsVersion | 0100 |
CameraType2 | E-510 |
CFAPattern | [Red,Green][Green,Blue] |
CircleOfConfusion | 0.015 mm |
Clarity2012 | 0 |
ColorComponents | 3 |
ColorMatrix | 348 -72 -20 -32 346 -56 -10 -90 358 |
ColorNoiseReduction | 25 |
ColorNoiseReductionDetail | 50 |
ColorNoiseReductionSmoothness | 50 |
ColorSpace (1) | sRGB |
ColorSpace | Uncalibrated |
ColorTemperature | 5450 |
Contrast | Low |
Contrast2012 | +41 |
ContrastSetting | -2 (min -5, max 5) |
ConvertToGrayscale | False |
Copyright | Torstein Hall |
CreateDate (1) | 2008:09:06 15:05:14+02:00 |
CreateDate | 2008:09:06 15:05:14 |
Creator | Torstein Hall |
CreatorAddress | Undelstadveien 33D |
CreatorCity | Asker |
CreatorCountry | Norway |
CreatorPostalCode | 1387 |
CreatorRegion | Asker |
CreatorTool | DxO PhotoLab 8.0 EA 4 |
CreatorWorkEmail | tohall@online.no |
CropHeight | 2736 |
CropLeft | 32 0 |
CropTop | 10 0 |
CropWidth | 3648 |
CustomRendered | Normal |
CustomSaturation | 1 (min -5, max 5) |
DateTimeOriginal (1) | 2008:09:06 15:05:14+02:00 |
DateTimeOriginal | 2008:09:06 15:05:14 |
DefringeGreenAmount | 0 |
DefringeGreenHueHi | 60 |
DefringeGreenHueLo | 40 |
DefringePurpleAmount | 0 |
DefringePurpleHueHi | 70 |
DefringePurpleHueLo | 30 |
Dehaze | 0 |
Description | OLYMPUS DIGITAL CAMERA |
DigitalZoomRatio | 1 |
DistortionCorrection | Off |
DistortionCorrection2 | Off |
DOF | 0.53 m (0.73 - 1.26 m) |
DriveMode | Continuous Shooting, Shot 1 |
EquipmentVersion | 0100 |
ExifImageHeight (1) | 2736 |
ExifImageHeight | 1516 |
ExifImageWidth (1) | 3648 |
ExifImageWidth | 2000 |
Exposure2012 | -0.40 |
ExposureCompensation | 0 |
ExposureMode (1) | Shutter speed priority AE |
ExposureMode | Manual |
ExposureProgram | Shutter speed priority AE |
ExposureTime | 1/50 |
Extender | None |
ExtenderFirmwareVersion | 0 |
ExtenderModel | |
ExtenderSerialNumber | |
ExtenderStatus | Not attached |
ExternalFlash | Off |
ExternalFlashBounce | Bounce or Off |
ExternalFlashZoom | 0 |
FacesDetected | 0 0 |
Flash | On, Fired |
FlashCompensation | -0.7 |
FlashExposureComp | -0.7 |
FlashFired | True |
FlashFirmwareVersion | 0 |
FlashFunction | False |
FlashMode (1) | On |
FlashMode | On, Fill-in, 2nd Curtain |
FlashModel | None |
FlashRedEyeMode | False |
FlashReturn | No return detection |
FlashSerialNumber | |
FlashType | None |
FNumber | 22.0 |
FocalLength | 33.0 mm |
FocusDistance | 0.92 m |
FocusInfoVersion | 0100 |
FocusMode | MF |
FocusProcess | AF Used |
FocusStepCount | 306 |
Format | image/x-olympus-orf |
FOV | 29.4 deg (0.48 m) |
GainBase | 256 |
GainControl | High gain up |
Gradation | Normal |
GrainAmount | 0 |
GreenHue | 0 |
GreenSaturation | 0 |
HasSettings | True |
HierarchicalSubject | skulptur, vigelandsparken |
Highlights2012 | 0 |
HueAdjustmentAqua | 0 |
HueAdjustmentBlue | 0 |
HueAdjustmentGreen | 0 |
HueAdjustmentMagenta | 0 |
HueAdjustmentOrange | 0 |
HueAdjustmentPurple | 0 |
HueAdjustmentRed | 0 |
HueAdjustmentYellow | 0 |
HyperfocalDistance | 3.30 m |
ImageCreatorImageCreatorName | Torstein Hall |
ImageDescription | OLYMPUS DIGITAL CAMERA |
ImageHeight (1) | 2736 |
ImageHeight | 1516 |
ImageProcessingVersion | 0111 |
ImageQuality2 | RAW |
ImageSize | 2000x1516 |
ImageStabilization | On, Mode 1 |
ImageWidth (1) | 3648 |
ImageWidth | 2000 |
InternalFlash | On |
InternalSerialNumber | 4046705003714001 |
ISO | 400 |
Lens | 14.0-54.0 mm f/2.8-3.5 |
LensFirmwareVersion | 1.100 |
LensID | Olympus Zuiko Digital 14-54mm F2.8-3.5 |
LensInfo | 14-54mm f/2.8-3.5 |
LensManualDistortionAmount | 0 |
LensProfileEnable | 0 |
LensProfileSetup | LensDefaults |
LensProperties | 0xc043 |
LensSerialNumber | 050304913 |
LensType | Olympus Zuiko Digital 14-54mm F2.8-3.5 |
LightSource | Unknown |
LightValue | 12.6 |
LuminanceAdjustmentAqua | 0 |
LuminanceAdjustmentBlue | 0 |
LuminanceAdjustmentGreen | 0 |
LuminanceAdjustmentMagenta | 0 |
LuminanceAdjustmentOrange | 0 |
LuminanceAdjustmentPurple | 0 |
LuminanceAdjustmentRed | 0 |
LuminanceAdjustmentYellow | 0 |
LuminanceSmoothing | 0 |
MacroLED | Off |
MacroMode | Off |
Make | OLYMPUS IMAGING CORP. |
ManometerPressure | 0 kPa |
ManometerReading | 0 m, 0 ft |
ManualFlash | Off |
MaxAperture | 3.2 |
MaxApertureAtMaxFocal | 3.5 |
MaxApertureAtMinFocal | 2.8 |
MaxApertureValue | 2.8 |
MaxFocalLength | 54 |
Megapixels | 3.0 |
MeteringMode | Center-weighted average |
MinFocalLength | 14 |
Model | E-510 |
ModifiedSaturation | Off |
ModifyDate (1) | 2024:05:01 22:20:26+02:00 |
ModifyDate | 2024:05:01 22:20:26 |
NoiseFilter | Low |
NoiseReduction | (none) |
NoiseReduction2 | (none) |
Orientation | Horizontal (normal) |
PanoramaMode | Off |
ParametricDarks | 0 |
ParametricHighlights | 0 |
ParametricHighlightSplit | 75 |
ParametricLights | 0 |
ParametricMidtoneSplit | 50 |
ParametricShadows | 0 |
ParametricShadowSplit | 25 |
PerspectiveAspect | 0 |
PerspectiveHorizontal | 0 |
PerspectiveRotate | 0.0 |
PerspectiveScale | 100 |
PerspectiveUpright | 0 |
PerspectiveVertical | 0 |
PerspectiveX | 0.00 |
PerspectiveY | 0.00 |
PictureMode | Natural |
PictureModeBWFilter | n/a |
PictureModeContrast | -2 (min -2, max 2) |
PictureModeSaturation | 1 (min -2, max 2) |
PictureModeSharpness | 0 (min -2, max 2) |
PictureModeTone | n/a |
PostCropVignetteAmount | 0 |
PreservedFileName | P9062116.ORF |
PrintIMVersion | 0300 |
ProcessVersion | 6.7 |
ProfileDescription | Adobe RGB (1998) |
Rating | 0 |
RatingPercent | 0 |
RawDevColorSpace | sRGB |
RawDevContrastValue | 0 0 0 |
RawDevEditStatus | Original |
RawDevEngine | High Speed |
RawDevExposureBiasValue | 0 |
RawDevGrayPoint | 0 0 0 |
RawDevMemoryColorEmphasis | 0 |
RawDevNoiseReduction | (none) |
RawDevSaturationEmphasis | 0 0 0 |
RawDevSettings | (none) |
RawDevSharpnessValue | 0 0 0 |
RawDevVersion | 0100 |
RawDevWBFineAdjustment | 0 |
RawDevWhiteBalanceValue | 0 |
RawFileName | P9062116.ORF |
RedBalance | 1.984375 |
RedHue | 0 |
RedSaturation | 0 |
Rights | Torstein Hall |
Saturation (2) | 0 |
Saturation | High |
SaturationAdjustmentAqua | 0 |
SaturationAdjustmentBlue | 0 |
SaturationAdjustmentGreen | 0 |
SaturationAdjustmentMagenta | 0 |
SaturationAdjustmentOrange | 0 |
SaturationAdjustmentPurple | 0 |
SaturationAdjustmentRed | 0 |
SaturationAdjustmentYellow | 0 |
SavedSettingsName | Import |
SavedSettingsParametersAutoBrightness | False |
SavedSettingsParametersAutoContrast | False |
SavedSettingsParametersAutoExposure | False |
SavedSettingsParametersAutoGrayscaleMix | True |
SavedSettingsParametersAutoLateralCA | 0 |
SavedSettingsParametersAutoShadows | False |
SavedSettingsParametersAutoTone | True |
SavedSettingsParametersAutoWhiteVersion | 134348800 |
SavedSettingsParametersBlueHue | 0 |
SavedSettingsParametersBlueSaturation | 0 |
SavedSettingsParametersCameraProfile | ACR 4.4 |
SavedSettingsParametersChromaticAberrationB | 0 |
SavedSettingsParametersChromaticAberrationR | 0 |
SavedSettingsParametersClarity | 0 |
SavedSettingsParametersClarity2012 | 0 |
SavedSettingsParametersColorNoiseReduction | 25 |
SavedSettingsParametersConvertToGrayscale | False |
SavedSettingsParametersDefringe | 0 |
SavedSettingsParametersDefringeGreenAmount | 0 |
SavedSettingsParametersDefringeGreenHueHi | 60 |
SavedSettingsParametersDefringeGreenHueLo | 40 |
SavedSettingsParametersDefringePurpleAmount | 0 |
SavedSettingsParametersDefringePurpleHueHi | 70 |
SavedSettingsParametersDefringePurpleHueLo | 30 |
SavedSettingsParametersDehaze | 0 |
SavedSettingsParametersEnableCalibration | True |
SavedSettingsParametersEnableDetail | True |
SavedSettingsParametersEnableEffects | True |
SavedSettingsParametersEnableGrayscaleMix | True |
SavedSettingsParametersEnableLensCorrections | True |
SavedSettingsParametersEnableRedEye | True |
SavedSettingsParametersEnableRetouch | True |
SavedSettingsParametersEnableSplitToning | True |
SavedSettingsParametersEnableToneCurve | True |
SavedSettingsParametersEnableTransform | True |
SavedSettingsParametersGrainAmount | 0 |
SavedSettingsParametersGrainFrequency | 50 |
SavedSettingsParametersGrainSize | 50 |
SavedSettingsParametersGreenHue | 0 |
SavedSettingsParametersGreenSaturation | 0 |
SavedSettingsParametersHueAdjustmentAqua | 0 |
SavedSettingsParametersHueAdjustmentBlue | 0 |
SavedSettingsParametersHueAdjustmentGreen | 0 |
SavedSettingsParametersHueAdjustmentMagenta | 0 |
SavedSettingsParametersHueAdjustmentOrange | 0 |
SavedSettingsParametersHueAdjustmentPurple | 0 |
SavedSettingsParametersHueAdjustmentRed | 0 |
SavedSettingsParametersHueAdjustmentYellow | 0 |
SavedSettingsParametersLensProfileEnable | 0 |
SavedSettingsParametersLuminanceAdjustmentAqua | 0 |
SavedSettingsParametersLuminanceAdjustmentBlue | 0 |
SavedSettingsParametersLuminanceAdjustmentGreen | 0 |
SavedSettingsParametersLuminanceAdjustmentOrange | 0 |
SavedSettingsParametersLuminanceAdjustmentPurple | 0 |
SavedSettingsParametersLuminanceAdjustmentRed | 0 |
SavedSettingsParametersLuminanceAdjustmentYellow | 0 |
SavedSettingsParametersLuminanceSmoothing | 0 |
SavedSettingsParametersParametricDarks | 0 |
SavedSettingsParametersParametricHighlights | 0 |
SavedSettingsParametersParametricHighlightSplit | 75 |
SavedSettingsParametersParametricLights | 0 |
SavedSettingsParametersParametricMidtoneSplit | 50 |
SavedSettingsParametersParametricShadows | 0 |
SavedSettingsParametersParametricShadowSplit | 25 |
SavedSettingsParametersPerspectiveAspect | 0 |
SavedSettingsParametersPerspectiveHorizontal | 0 |
SavedSettingsParametersPerspectiveRotate | 0.0 |
SavedSettingsParametersPerspectiveScale | 100 |
SavedSettingsParametersPerspectiveUpright | 0 |
SavedSettingsParametersPerspectiveVertical | 0 |
SavedSettingsParametersPerspectiveX | 0.00 |
SavedSettingsParametersPerspectiveY | 0.00 |
SavedSettingsParametersPostCropVignetteAmount | 0 |
SavedSettingsParametersPostCropVignetteFeather | 50 |
SavedSettingsParametersPostCropVignetteMidpoint | 50 |
SavedSettingsParametersPostCropVignetteRoundness | 0 |
SavedSettingsParametersPostCropVignetteStyle | 1 |
SavedSettingsParametersProcessVersion | 5.0 |
SavedSettingsParametersRedHue | 0 |
SavedSettingsParametersRedSaturation | 0 |
SavedSettingsParametersSaturation | 0 |
SavedSettingsParametersSaturationAdjustmentAqua | 0 |
SavedSettingsParametersSaturationAdjustmentBlue | 0 |
SavedSettingsParametersSaturationAdjustmentGreen | 0 |
SavedSettingsParametersSaturationAdjustmentRed | 0 |
SavedSettingsParametersShadowTint | 0 |
SavedSettingsParametersSharpenDetail | 25 |
SavedSettingsParametersSharpenEdgeMasking | 0 |
SavedSettingsParametersSharpenRadius | +1.0 |
SavedSettingsParametersSharpness | 25 |
SavedSettingsParametersSplitToningBalance | 0 |
SavedSettingsParametersSplitToningHighlightHue | 0 |
SavedSettingsParametersSplitToningShadowHue | 0 |
SavedSettingsParametersToneCurveName2012 | Linear |
SavedSettingsParametersToneCurveRed | 0, 0, 255, 255 |
SavedSettingsParametersToneMapStrength | 0 |
SavedSettingsParametersUprightCenterMode | 0 |
SavedSettingsParametersUprightCenterNormX | 0.5 |
SavedSettingsParametersUprightCenterNormY | 0.5 |
SavedSettingsParametersUprightFocalLength35mm | 35 |
SavedSettingsParametersUprightFocalMode | 0 |
SavedSettingsParametersUprightFourSegmentsCount | 0 |
SavedSettingsParametersUprightPreview | False |
SavedSettingsParametersUprightTransformCount | 6 |
SavedSettingsParametersUprightVersion | 151388160 |
SavedSettingsParametersVersion | 9.12 |
SavedSettingsParametersVibrance | 0 |
SavedSettingsParametersVignetteAmount | 0 |
SavedSettingsParametersVignetteMidpoint | 50 |
SavedSettingsParametersWhiteBalance | As Shot |
SavedSettingsType | Snapshot |
ScaleFactor35efl | 2.0 |
SceneCaptureType | Standard |
SceneDetect | 2 |
SceneMode | Standard |
SensorTemperature | 27.5 C |
SerialNumber | D63505553 |
ShadingCompensation | Off |
ShadingCompensation2 | Off |
Shadows2012 | 0 |
ShadowTint | 0 |
SharpenDetail | 25 |
SharpenEdgeMasking | 0 |
SharpenRadius | +1.0 |
Sharpness (2) | 25 |
Sharpness | Soft |
SharpnessSetting | -1 (min -5, max 5) |
ShutterSpeed | 1/50 |
ShutterSpeedValue | 1/50 |
SidecarForExtension | ORF |
Software | DxO PhotoLab 8.0 EA 4 |
SpecialMode | Fast, Sequence: 1, Panorama: (none) |
SplitToningBalance | 0 |
SplitToningHighlightHue | 0 |
SplitToningHighlightSaturation | 0 |
SplitToningShadowHue | 0 |
SplitToningShadowSaturation | 0 |
Subject | skulptur, vigelandsparken |
SubjectDistance | 0.92 m |
Tint | +1 |
ToneCurve | 0, 0, 32, 22, 64, 56, 128, 128, 192, 196, 255, 255 |
ToneCurveBlue | 0, 0, 255, 255 |
ToneCurveGreen | 0, 0, 255, 255 |
ToneCurveName | Medium Contrast |
ToneCurveName2012 | Linear |
ToneCurvePV2012 | 0, 0, 255, 255 |
ToneCurvePV2012Blue | 0, 0, 255, 255 |
ToneCurvePV2012Green | 0, 0, 255, 255 |
ToneCurvePV2012Red | 0, 0, 255, 255 |
ToneCurveRed | 0, 0, 255, 255 |
ToneMapStrength | 0 |
UserComment | |
ValidBits | 12 0 |
Version | 9.12 |
Vibrance | 0 |
VignetteAmount | 0 |
WB_RBLevels | 508 326 |
WB_RBLevels3000K | 286 660 |
WB_RBLevels3300K | 350 513 |
WB_RBLevels3600K | 378 469 |
WB_RBLevels3900K | 403 437 |
WB_RBLevels4000K | 455 532 |
WB_RBLevels4300K | 444 385 |
WB_RBLevels4500K | 442 429 |
WB_RBLevels4800K | 481 352 |
WB_RBLevels5300K | 513 326 |
WB_RBLevels6000K | 548 298 |
WB_RBLevels6600K | 530 353 |
WB_RBLevels7500K | 616 246 |
WB_RBLevelsCWB1 | 382 378 |
WB_RBLevelsCWB2 | 382 378 |
WB_RBLevelsCWB3 | 382 378 |
WB_RBLevelsCWB4 | 382 378 |
WebStatement | www.ohb.no |
WhiteBalance (2) | As Shot |
WhiteBalance | Auto |
WhiteBalance2 | Auto |
WhiteBalanceBracket | 0 0 |
WhiteBalanceTemperature | Auto |
Whites2012 | -25 |
ZoomStepCount | 12 |