Felt | Verdi |
AlreadyApplied | True |
Aperture | 1.8 |
ApertureValue | 1.8 |
AutoLateralCA | 0 |
BitsPerSample | 8 |
Blacks2012 | 0 |
BlueHue | 0 |
BlueSaturation | 0 |
BrightnessValue | -4.29318456 |
CameraProfile | Embedded |
CircleOfConfusion | 0.004 mm |
Clarity2012 | 0 |
ColorComponents | 3 |
ColorGradeBlending | 50 |
ColorGradeGlobalHue | 0 |
ColorGradeGlobalLum | 0 |
ColorGradeGlobalSat | 0 |
ColorGradeHighlightLum | 0 |
ColorGradeMidtoneHue | 0 |
ColorGradeMidtoneLum | 0 |
ColorGradeMidtoneSat | 0 |
ColorGradeShadowLum | 0 |
ColorNoiseReduction | 0 |
ColorSpace | Uncalibrated |
ColorTransform | YCbCr |
CompatibleVersion | 234881024 |
Contrast2012 | +11 |
ConvertToGrayscale | False |
Country | Norge |
Country-PrimaryLocationCode | NO |
Country-PrimaryLocationName | Norge |
CountryCode | NO |
CreateDate (1) | 2023:11:26 16:46:33.174+01:00 |
CreateDate | 2023:11:26 16:46:33 |
CreatorTool | Adobe Photoshop Lightroom Classic 13.0.1 (Macintosh) |
CropAngle | 0 |
CropBottom | 1 |
CropConstrainToWarp | 0 |
CropLeft | 0 |
CropRight | 1 |
CropTop | 0 |
DateCreated (1) | 2023:11:26 |
DateCreated | 2023:11:26 16:46:33.174+01:00 |
DateTimeOriginal | 2023:11:26 16:46:33 |
DefringeGreenAmount | 0 |
DefringeGreenHueHi | 60 |
DefringeGreenHueLo | 40 |
DefringePurpleAmount | 0 |
DefringePurpleHueHi | 70 |
DefringePurpleHueLo | 30 |
Dehaze | +1 |
DepthBasedCorrectionsCorrectionActive | true |
DepthBasedCorrectionsCorrectionAmount | 0.97 |
DepthBasedCorrectionsCorrectionMasksMaskActive | true |
DepthBasedCorrectionsCorrectionMasksMaskBlendMode | 0 |
DepthBasedCorrectionsCorrectionMasksMaskInverted | false |
DepthBasedCorrectionsCorrectionMasksMasksCenterWeight | 0 |
DepthBasedCorrectionsCorrectionMasksMasksFlow | 0.681659 |
DepthBasedCorrectionsCorrectionMasksMasksMaskActive | true |
DepthBasedCorrectionsCorrectionMasksMasksMaskBlendMode | 0 |
DepthBasedCorrectionsCorrectionMasksMasksMaskInverted | false |
DepthBasedCorrectionsCorrectionMasksMasksMaskSyncID | EE7C3E4DE1BD4600A6FBC1DF17FECAA0 |
DepthBasedCorrectionsCorrectionMasksMasksMaskValue | 1 |
DepthBasedCorrectionsCorrectionMasksMasksRadius | 0.111324 |
DepthBasedCorrectionsCorrectionMasksMasksWhat | Mask/Paint |
DepthBasedCorrectionsCorrectionMasksMaskSyncID | 46B663D29B3E4490917EA5B90F142F9E |
DepthBasedCorrectionsCorrectionMasksMaskValue | 1 |
DepthBasedCorrectionsCorrectionMasksWhat | Mask/Aggregate |
DepthBasedCorrectionsCorrectionSyncID | 577952A649EF40CD83AFE6BA4F1E178D |
DepthBasedCorrectionsLocalCorrectedDepth | -1 |
DepthBasedCorrectionsLocalCurveRefineSaturation | 100 |
DepthBasedCorrectionsWhat | Correction |
DepthMapInfoBaseHighlightGuideTable | 5DE58CA9A7095BB85A88E469CE00BCAE |
DepthMapInfoBaseHighlightGuideVersion | 1 |
DepthMapInfoBaseLayeredDepthTable | 3500017D5C04DB862D9374F9FBFB8BDD |
DepthMapInfoBaseLayeredDepthVersion | 1 |
DepthMapInfoBaseRawDepthTable | CDB545646A6FEF18E2516619331BADAF |
DepthMapInfoBaseRawDepthVersion | 1 |
DepthMapInfoDepthSource | 2 |
Exposure2012 | -0.20 |
ExposureCompensation | +0.082 |
ExposureMode | Auto |
ExposureProgram | Program AE |
ExposureTime | 1/4 |
Flash | Off, Did not fire |
FNumber | 1.8 |
FocalLength | 4.0 mm |
FocalLength35efl | 4.0 mm (35 mm equivalent: 28.0 mm) |
FocalLengthIn35mmFormat | 28 mm |
Format | image/jpeg |
FOV | 65.5 deg |
GPSAltitude (1) | 23.78214451 m |
GPSAltitude | 23.7 m Above Sea Level |
GPSAltitudeRef | Above Sea Level |
GPSDateStamp | 2023:11:26 |
GPSDateTime | 2023:11:26 15:46:28Z |
GPSDestBearing | 254.8870087 |
GPSDestBearingRef | True North |
GPSHPositioningError | 35 m |
GPSImgDirection | 254.8870087 |
GPSImgDirectionRef | True North |
GPSLatitude (1) | 59 deg 54' 0.42" |
GPSLatitude | 59 deg 54' 0.42" N |
GPSLatitudeRef | North |
GPSLongitude (1) | 10 deg 41' 5.96" |
GPSLongitude | 10 deg 41' 5.96" E |
GPSLongitudeRef | East |
GPSPosition | 59 deg 54' 0.42" N, 10 deg 41' 5.96" E |
GPSSpeed | 0 |
GPSSpeedRef | km/h |
GPSTimeStamp | 15:46:28 |
GrainAmount | 0 |
GreenHue | 0 |
GreenSaturation | 0 |
HasCrop | False |
HasSettings | True |
HDREditMode | 0 |
Highlights2012 | -54 |
HueAdjustmentAqua | 0 |
HueAdjustmentBlue | 0 |
HueAdjustmentGreen | 0 |
HueAdjustmentMagenta | 0 |
HueAdjustmentOrange | 0 |
HueAdjustmentPurple | 0 |
HueAdjustmentRed | 0 |
HueAdjustmentYellow | 0 |
HyperfocalDistance | 2.07 m |
ImageHeight | 885 |
ImageSize | 1181x885 |
ImageWidth | 1181 |
IncrementalTemperature | 0 |
IncrementalTint | 0 |
ISO | 500 |
Lens | iPhone SE (2nd generation) back camera 3.99mm f/1.8 |
LensBlurActive | false |
LensBlurBlurAmount | 39 |
LensBlurBokehAspect | 0 |
LensBlurBokehRotation | 0 |
LensBlurBokehShape | 0 |
LensBlurBokehShapeDetail | 0 |
LensBlurCatEyeAmount | 0 |
LensBlurCatEyeScale | 100 |
LensBlurFocalRange | -28 52 68 148 |
LensBlurFocalRangeSource | 1 |
LensBlurHighlightsBoost | 44 |
LensBlurHighlightsThreshold | 50 |
LensBlurSampledArea | 0.500000 0.500000 0.500000 0.500000 |
LensBlurSampledRange | 0 0 |
LensBlurSphericalAberration | 0 |
LensBlurSubjectRange | 9 57 |
LensBlurVersion | 1 |
LensInfo (1) | 3.99000000953743mm f/1.8 |
LensInfo | 3.99000001mm f/1.8 |
LensMake | Apple |
LensManualDistortionAmount | 0 |
LensModel | iPhone SE (2nd generation) back camera 3.99mm f/1.8 |
LensProfileEnable | 0 |
LightValue | 1.4 |
LuminanceAdjustmentAqua | 0 |
LuminanceAdjustmentBlue | 0 |
LuminanceAdjustmentGreen | 0 |
LuminanceAdjustmentMagenta | 0 |
LuminanceAdjustmentOrange | 0 |
LuminanceAdjustmentPurple | 0 |
LuminanceAdjustmentRed | 0 |
LuminanceAdjustmentYellow | 0 |
LuminanceSmoothing | 0 |
Make | Apple |
Megapixels | 1.0 |
MeteringMode | Spot |
Model | iPhone SE (2nd generation) |
ModifyDate (1) | 2023:11:26 19:02:33+01:00 |
ModifyDate | 2023:11:26 19:02:33 |
OverrideLookVignette | False |
ParametricDarks | 0 |
ParametricHighlights | 0 |
ParametricHighlightSplit | 75 |
ParametricLights | 0 |
ParametricMidtoneSplit | 50 |
ParametricShadows | 0 |
ParametricShadowSplit | 25 |
PerspectiveAspect | 0 |
PerspectiveHorizontal | 0 |
PerspectiveRotate | 0.0 |
PerspectiveScale | 100 |
PerspectiveUpright | 0 |
PerspectiveVertical | 0 |
PerspectiveX | 0.00 |
PerspectiveY | 0.00 |
PostCropVignetteAmount | 0 |
PreservedFileName | IMG_1254.jpeg |
ProcessVersion | 15.4 |
ProfileDescription | Adobe RGB (1998) |
Province-State | Oslo |
RawFileName | IMG_1254.jpeg |
RedHue | 0 |
RedSaturation | 0 |
Saturation | -4 |
SaturationAdjustmentAqua | 0 |
SaturationAdjustmentBlue | 0 |
SaturationAdjustmentGreen | 0 |
SaturationAdjustmentMagenta | 0 |
SaturationAdjustmentOrange | 0 |
SaturationAdjustmentPurple | 0 |
SaturationAdjustmentRed | 0 |
SaturationAdjustmentYellow | 0 |
ScaleFactor35efl | 7.0 |
SceneCaptureType | Standard |
SceneType | Directly photographed |
SensingMethod | One-chip color area |
Shadows2012 | +100 |
ShadowTint | 0 |
Sharpness | 0 |
ShutterSpeed | 1/4 |
ShutterSpeedValue | 1/4 |
Software | Adobe Photoshop Lightroom Classic 13.0.1 (Macintosh) |
SplitToningBalance | 0 |
SplitToningHighlightHue | 0 |
SplitToningHighlightSaturation | 0 |
SplitToningShadowHue | 0 |
SplitToningShadowSaturation | 0 |
State | Oslo |
SubjectArea | 2910 2071 751 756 |
Texture | 0 |
ToneCurveName2012 | Linear |
ToneCurvePV2012 | 0, 0, 255, 255 |
ToneCurvePV2012Blue | 0, 0, 255, 255 |
ToneCurvePV2012Green | 0, 0, 255, 255 |
ToneCurvePV2012Red | 0, 0, 255, 255 |
Version | 16.0 |
Vibrance | 0 |
VignetteAmount | 0 |
WhiteBalance (1) | As Shot |
WhiteBalance | Auto |
Whites2012 | -2 |